{"text_format":"1","workbook":"xlsx","n_sheets":50,"sheets":["Facesheet","データベース","陸上個人申込用紙","各番号（変更不可）","作成及び申込要領","こちらから","0.役員名簿","1.参加人員","2.参加料内訳","3.陸上（一般）","4.陸上（青年・リレー）","5.陸上（壮年男子）","6.陸上（壮年女子）","7.バスケ〔一般男子〕","8.バスケ〔一般女子〕","9.バスケ〔青年男子〕 ","10.バスケ〔青年女子〕","11.バレー（一般男子）","12.バレー（一般女子）","13.バレー（青年男子）","14.バレー（青年女子）","15.バレー（壮年女子）","16.ソフトテニス（一般）","17.ソフトテニス（壮年）","18.卓球（一般）","19.卓球（青年）","20.卓球（壮年）","21.バド（一般男子）","22.バド（一般女子）","23.バド（青年）","24.バド（壮年男子）","25.バド（壮年女子）","26.バド（混成）","27.柔道（一般男子）","28.柔道（青年男子）","29.剣道（一般男子） ","30.剣道（一般女子）","31.剣道（青年男子）","32.剣道（青年女子）","33.弓道（一般男子）","34.弓道（一般女子）","35.弓道（青年）","36.相撲（一般男子）","37.相撲（青年男子）","38.相撲（個人戦）","39.ソフトボール（一般男子）","40.空手道（男子）","41.空手道（壮年男子）","42.空手道（女子）","43.テニス"],"not_rendered":{"charts":0,"images":0,"macros":1,"external_links":0,"defined_names":47,"comments":0,"pivot_tables":0},"unopened":[],"bounds":{"document_bytes":16777216,"sheet_cells":100000,"rows_first":2000,"rows_last":500,"rows_between":2000,"halvings":0,"cell_chars":16384,"cell_head_chars":4096},"cells_cut":0,"cells_raw":0,"read":"whole","date_system":"1900"}

{"sheet":"Facesheet","index":0,"n_rows":4,"n_cols":2,"rows_kept":4,"cut":false,"hidden":true,"merged":[]}
["初期設定"]
["大会回数",67]
["年齢基準日","2024-04-01"]
["申込締切日","2024-07-30"]

{"sheet":"データベース","index":1,"n_rows":512,"n_cols":19,"rows_kept":512,"cut":false,"hidden":true,"merged":[]}
["生成番号","T&F","sex","NO","種目番号","郡市番号","シート番号","掲載順番",21,"区分","番号","氏　名","身長\n段級\n（弓道）","生年月日","年齢","住　所（学生〇）","住　所（ふるさと・在勤地○）","担当者","列1"]
[{"$f":"VALUE(E2&F2&G2&H2)","v":100101},null,null,1,10,{"$f":"IF('0.役員名簿'!$B$7=\"\",\"\",VLOOKUP('0.役員名簿'!$B$7,'各番号（変更不可）'!$J$2:$K$41,2,FALSE))","v":""},"01","01","一般男子","監　督",null,{"$f":"'7.バスケ〔一般男子〕'!C11","v":0},null,{"$f":"'7.バスケ〔一般男子〕'!E11","v":"00:00:00"},{"$f":"'7.バスケ〔一般男子〕'!F11","v":""},{"$f":"'7.バスケ〔一般男子〕'!G11","v":0}]
[100102,null,null,2,10,{"$f":"IF('0.役員名簿'!$B$7=\"\",\"\",VLOOKUP('0.役員名簿'!$B$7,'各番号（変更不可）'!$J$2:$K$41,2,FALSE))","v":""},"01","02","一般男子","選　手",{"$f":"'7.バスケ〔一般男子〕'!B12","v":0},{"$f":"'7.バスケ〔一般男子〕'!C12","v":0},{"$f":"'7.バスケ〔一般男子〕'!D12","v":0},{"$f":"'7.バスケ〔一般男子〕'!E12","v":"00:00:00"},{"$f":"'7.バスケ〔一般男子〕'!F12","v":""},{"$f":"'7.バスケ〔一般男子〕'!G12","v":0}]
[100103,null,null,3,10,{"$f":"IF('0.役員名簿'!$B$7=\"\",\"\",VLOOKUP('0.役員名簿'!$B$7,'各番号（変更不可）'!$J$2:$K$41,2,FALSE))","v":""},"01","03","一般男子","選　手",{"$f":"'7.バスケ〔一般男子〕'!B13","v":0},{"$f":"'7.バスケ〔一般男子〕'!C13","v":0},{"$f":"'7.バスケ〔一般男子〕'!D13","v":0},{"$f":"'7.バスケ〔一般男子〕'!E13","v":"00:00:00"},{"$f":"'7.バスケ〔一般男子〕'!F13","v":""},{"$f":"'7.バスケ〔一般男子〕'!G13","v":0}]
[100104,null,null,4,10,{"$f":"IF('0.役員名簿'!$B$7=\"\",\"\",VLOOKUP('0.役員名簿'!$B$7,'各番号（変更不可）'!$J$2:$K$41,2,FALSE))","v":""},"01","04","一般男子","選　手",{"$f":"'7.バスケ〔一般男子〕'!B14","v":0},{"$f":"'7.バスケ〔一般男子〕'!C14","v":0},{"$f":"'7.バスケ〔一般男子〕'!D14","v":0},{"$f":"'7.バスケ〔一般男子〕'!E14","v":"00:00:00"},{"$f":"'7.バスケ〔一般男子〕'!F14","v":""},{"$f":"'7.バスケ〔一般男子〕'!G14","v":0}]
[100105,null,null,5,10,{"$f":"IF('0.役員名簿'!$B$7=\"\",\"\",VLOOKUP('0.役員名簿'!$B$7,'各番号（変更不可）'!$J$2:$K$41,2,FALSE))","v":""},"01","05","一般男子","選　手",{"$f":"'7.バスケ〔一般男子〕'!B15","v":0},{"$f":"'7.バスケ〔一般男子〕'!C15","v":0},{"$f":"'7.バスケ〔一般男子〕'!D15","v":0},{"$f":"'7.バスケ〔一般男子〕'!E15","v":"00:00:00"},{"$f":"'7.バスケ〔一般男子〕'!F15","v":""},{"$f":"'7.バスケ〔一般男子〕'!G15","v":0}]
[100106,null,null,6,10,{"$f":"IF('0.役員名簿'!$B$7=\"\",\"\",VLOOKUP('0.役員名簿'!$B$7,'各番号（変更不可）'!$J$2:$K$41,2,FALSE))","v":""},"01","06","一般男子","選　手",{"$f":"'7.バスケ〔一般男子〕'!B16","v":0},{"$f":"'7.バスケ〔一般男子〕'!C16","v":0},{"$f":"'7.バスケ〔一般男子〕'!D16","v":0},{"$f":"'7.バスケ〔一般男子〕'!E16","v":"00:00:00"},{"$f":"'7.バスケ〔一般男子〕'!F16","v":""},{"$f":"'7.バスケ〔一般男子〕'!G16","v":0}]
[100107,null,null,7,10,{"$f":"IF('0.役員名簿'!$B$7=\"\",\"\",VLOOKUP('0.役員名簿'!$B$7,'各番号（変更不可）'!$J$2:$K$41,2,FALSE))","v":""},"01","07","一般男子","選　手",{"$f":"'7.バスケ〔一般男子〕'!B17","v":0},{"$f":"'7.バスケ〔一般男子〕'!C17","v":0},{"$f":"'7.バスケ〔一般男子〕'!D17","v":0},{"$f":"'7.バスケ〔一般男子〕'!E17","v":"00:00:00"},{"$f":"'7.バスケ〔一般男子〕'!F17","v":""},{"$f":"'7.バスケ〔一般男子〕'!G17","v":0}]
[100108,null,null,8,10,{"$f":"IF('0.役員名簿'!$B$7=\"\",\"\",VLOOKUP('0.役員名簿'!$B$7,'各番号（変更不可）'!$J$2:$K$41,2,FALSE))","v":""},"01","08","一般男子","選　手",{"$f":"'7.バスケ〔一般男子〕'!B18","v":0},{"$f":"'7.バスケ〔一般男子〕'!C18","v":0},{"$f":"'7.バスケ〔一般男子〕'!D18","v":0},{"$f":"'7.バスケ〔一般男子〕'!E18","v":"00:00:00"},{"$f":"'7.バスケ〔一般男子〕'!F18","v":""},{"$f":"'7.バスケ〔一般男子〕'!G18","v":0}]
[100109,null,null,9,10,{"$f":"IF('0.役員名簿'!$B$7=\"\",\"\",VLOOKUP('0.役員名簿'!$B$7,'各番号（変更不可）'!$J$2:$K$41,2,FALSE))","v":""},"01","09","一般男子","選　手",{"$f":"'7.バスケ〔一般男子〕'!B19","v":0},{"$f":"'7.バスケ〔一般男子〕'!C19","v":0},{"$f":"'7.バスケ〔一般男子〕'!D19","v":0},{"$f":"'7.バスケ〔一般男子〕'!E19","v":"00:00:00"},{"$f":"'7.バスケ〔一般男子〕'!F19","v":""},{"$f":"'7.バスケ〔一般男子〕'!G19","v":0}]
[100110,null,null,10,10,{"$f":"IF('0.役員名簿'!$B$7=\"\",\"\",VLOOKUP('0.役員名簿'!$B$7,'各番号（変更不可）'!$J$2:$K$41,2,FALSE))","v":""},"01","10","一般男子","選　手",{"$f":"'7.バスケ〔一般男子〕'!B20","v":0},{"$f":"'7.バスケ〔一般男子〕'!C20","v":0},{"$f":"'7.バスケ〔一般男子〕'!D20","v":0},{"$f":"'7.バスケ〔一般男子〕'!E20","v":"00:00:00"},{"$f":"'7.バスケ〔一般男子〕'!F20","v":""},{"$f":"'7.バスケ〔一般男子〕'!G20","v":0}]
[100111,null,null,11,10,{"$f":"IF('0.役員名簿'!$B$7=\"\",\"\",VLOOKUP('0.役員名簿'!$B$7,'各番号（変更不可）'!$J$2:$K$41,2,FALSE))","v":""},"01","11","一般男子","選　手",{"$f":"'7.バスケ〔一般男子〕'!B21","v":0},{"$f":"'7.バスケ〔一般男子〕'!C21","v":0},{"$f":"'7.バスケ〔一般男子〕'!D21","v":0},{"$f":"'7.バスケ〔一般男子〕'!E21","v":"00:00:00"},{"$f":"'7.バスケ〔一般男子〕'!F21","v":""},{"$f":"'7.バスケ〔一般男子〕'!G21","v":0}]
[100112,null,null,12,10,{"$f":"IF('0.役員名簿'!$B$7=\"\",\"\",VLOOKUP('0.役員名簿'!$B$7,'各番号（変更不可）'!$J$2:$K$41,2,FALSE))","v":""},"01","12","一般男子","選　手",{"$f":"'7.バスケ〔一般男子〕'!B22","v":0},{"$f":"'7.バスケ〔一般男子〕'!C22","v":0},{"$f":"'7.バスケ〔一般男子〕'!D22","v":0},{"$f":"'7.バスケ〔一般男子〕'!E22","v":"00:00:00"},{"$f":"'7.バスケ〔一般男子〕'!F22","v":""},{"$f":"'7.バスケ〔一般男子〕'!G22","v":0}]
[100113,null,null,13,10,{"$f":"IF('0.役員名簿'!$B$7=\"\",\"\",VLOOKUP('0.役員名簿'!$B$7,'各番号（変更不可）'!$J$2:$K$41,2,FALSE))","v":""},"01","13","一般男子","選　手",{"$f":"'7.バスケ〔一般男子〕'!B23","v":0},{"$f":"'7.バスケ〔一般男子〕'!C23","v":0},{"$f":"'7.バスケ〔一般男子〕'!D23","v":0},{"$f":"'7.バスケ〔一般男子〕'!E23","v":"00:00:00"},{"$f":"'7.バスケ〔一般男子〕'!F23","v":""},{"$f":"'7.バスケ〔一般男子〕'!G23","v":0}]
[100114,null,null,14,10,{"$f":"IF('0.役員名簿'!$B$7=\"\",\"\",VLOOKUP('0.役員名簿'!$B$7,'各番号（変更不可）'!$J$2:$K$41,2,FALSE))","v":""},"01","14","一般男子","コーチ",null,{"$f":"'7.バスケ〔一般男子〕'!C24","v":0},null,{"$f":"'7.バスケ〔一般男子〕'!E24","v":"00:00:00"},{"$f":"'7.バスケ〔一般男子〕'!F24","v":""},{"$f":"'7.バスケ〔一般男子〕'!G24","v":0}]
[100115,null,null,15,10,{"$f":"IF('0.役員名簿'!$B$7=\"\",\"\",VLOOKUP('0.役員名簿'!$B$7,'各番号（変更不可）'!$J$2:$K$41,2,FALSE))","v":""},"01","15","一般男子","マネジャー",null,{"$f":"'7.バスケ〔一般男子〕'!C25","v":0},null,{"$f":"'7.バスケ〔一般男子〕'!E25","v":"00:00:00"},{"$f":"'7.バスケ〔一般男子〕'!F25","v":""},{"$f":"'7.バスケ〔一般男子〕'!G25","v":0}]
[100201,null,null,16,10,{"$f":"IF('0.役員名簿'!$B$7=\"\",\"\",VLOOKUP('0.役員名簿'!$B$7,'各番号（変更不可）'!$J$2:$K$41,2,FALSE))","v":""},"02","01","一般女子","監　督",null,{"$f":"'8.バスケ〔一般女子〕'!C11","v":0},null,{"$f":"'8.バスケ〔一般女子〕'!E11","v":"00:00:00"},{"$f":"'8.バスケ〔一般女子〕'!F11","v":""},{"$f":"'8.バスケ〔一般女子〕'!G11","v":0}]
[100202,null,null,17,10,{"$f":"IF('0.役員名簿'!$B$7=\"\",\"\",VLOOKUP('0.役員名簿'!$B$7,'各番号（変更不可）'!$J$2:$K$41,2,FALSE))","v":""},"02","02","一般女子","選　手",{"$f":"'8.バスケ〔一般女子〕'!B12","v":0},{"$f":"'8.バスケ〔一般女子〕'!C12","v":0},{"$f":"'8.バスケ〔一般女子〕'!D12","v":0},{"$f":"'8.バスケ〔一般女子〕'!E12","v":"00:00:00"},{"$f":"'8.バスケ〔一般女子〕'!F12","v":""},{"$f":"'8.バスケ〔一般女子〕'!G12","v":0}]
[100203,null,null,18,10,{"$f":"IF('0.役員名簿'!$B$7=\"\",\"\",VLOOKUP('0.役員名簿'!$B$7,'各番号（変更不可）'!$J$2:$K$41,2,FALSE))","v":""},"02","03","一般女子","選　手",{"$f":"'8.バスケ〔一般女子〕'!B13","v":0},{"$f":"'8.バスケ〔一般女子〕'!C13","v":0},{"$f":"'8.バスケ〔一般女子〕'!D13","v":0},{"$f":"'8.バスケ〔一般女子〕'!E13","v":"00:00:00"},{"$f":"'8.バスケ〔一般女子〕'!F13","v":""},{"$f":"'8.バスケ〔一般女子〕'!G13","v":0}]
[100204,null,null,19,10,{"$f":"IF('0.役員名簿'!$B$7=\"\",\"\",VLOOKUP('0.役員名簿'!$B$7,'各番号（変更不可）'!$J$2:$K$41,2,FALSE))","v":""},"02","04","一般女子","選　手",{"$f":"'8.バスケ〔一般女子〕'!B14","v":0},{"$f":"'8.バスケ〔一般女子〕'!C14","v":0},{"$f":"'8.バスケ〔一般女子〕'!D14","v":0},{"$f":"'8.バスケ〔一般女子〕'!E14","v":"00:00:00"},{"$f":"'8.バスケ〔一般女子〕'!F14","v":""},{"$f":"'8.バスケ〔一般女子〕'!G14","v":0}]
[100205,null,null,20,10,{"$f":"IF('0.役員名簿'!$B$7=\"\",\"\",VLOOKUP('0.役員名簿'!$B$7,'各番号（変更不可）'!$J$2:$K$41,2,FALSE))","v":""},"02","05","一般女子","選　手",{"$f":"'8.バスケ〔一般女子〕'!B15","v":0},{"$f":"'8.バスケ〔一般女子〕'!C15","v":0},{"$f":"'8.バスケ〔一般女子〕'!D15","v":0},{"$f":"'8.バスケ〔一般女子〕'!E15","v":"00:00:00"},{"$f":"'8.バスケ〔一般女子〕'!F15","v":""},{"$f":"'8.バスケ〔一般女子〕'!G15","v":0}]
[100206,null,null,21,10,{"$f":"IF('0.役員名簿'!$B$7=\"\",\"\",VLOOKUP('0.役員名簿'!$B$7,'各番号（変更不可）'!$J$2:$K$41,2,FALSE))","v":""},"02","06","一般女子","選　手",{"$f":"'8.バスケ〔一般女子〕'!B16","v":0},{"$f":"'8.バスケ〔一般女子〕'!C16","v":0},{"$f":"'8.バスケ〔一般女子〕'!D16","v":0},{"$f":"'8.バスケ〔一般女子〕'!E16","v":"00:00:00"},{"$f":"'8.バスケ〔一般女子〕'!F16","v":""},{"$f":"'8.バスケ〔一般女子〕'!G16","v":0}]
[100207,null,null,22,10,{"$f":"IF('0.役員名簿'!$B$7=\"\",\"\",VLOOKUP('0.役員名簿'!$B$7,'各番号（変更不可）'!$J$2:$K$41,2,FALSE))","v":""},"02","07","一般女子","選　手",{"$f":"'8.バスケ〔一般女子〕'!B17","v":0},{"$f":"'8.バスケ〔一般女子〕'!C17","v":0},{"$f":"'8.バスケ〔一般女子〕'!D17","v":0},{"$f":"'8.バスケ〔一般女子〕'!E17","v":"00:00:00"},{"$f":"'8.バスケ〔一般女子〕'!F17","v":""},{"$f":"'8.バスケ〔一般女子〕'!G17","v":0}]
[100208,null,null,23,10,{"$f":"IF('0.役員名簿'!$B$7=\"\",\"\",VLOOKUP('0.役員名簿'!$B$7,'各番号（変更不可）'!$J$2:$K$41,2,FALSE))","v":""},"02","08","一般女子","選　手",{"$f":"'8.バスケ〔一般女子〕'!B18","v":0},{"$f":"'8.バスケ〔一般女子〕'!C18","v":0},{"$f":"'8.バスケ〔一般女子〕'!D18","v":0},{"$f":"'8.バスケ〔一般女子〕'!E18","v":"00:00:00"},{"$f":"'8.バスケ〔一般女子〕'!F18","v":""},{"$f":"'8.バスケ〔一般女子〕'!G18","v":0}]
[100209,null,null,24,10,{"$f":"IF('0.役員名簿'!$B$7=\"\",\"\",VLOOKUP('0.役員名簿'!$B$7,'各番号（変更不可）'!$J$2:$K$41,2,FALSE))","v":""},"02","09","一般女子","選　手",{"$f":"'8.バスケ〔一般女子〕'!B19","v":0},{"$f":"'8.バスケ〔一般女子〕'!C19","v":0},{"$f":"'8.バスケ〔一般女子〕'!D19","v":0},{"$f":"'8.バスケ〔一般女子〕'!E19","v":"00:00:00"},{"$f":"'8.バスケ〔一般女子〕'!F19","v":""},{"$f":"'8.バスケ〔一般女子〕'!G19","v":0}]
[100210,null,null,25,10,{"$f":"IF('0.役員名簿'!$B$7=\"\",\"\",VLOOKUP('0.役員名簿'!$B$7,'各番号（変更不可）'!$J$2:$K$41,2,FALSE))","v":""},"02","10","一般女子","選　手",{"$f":"'8.バスケ〔一般女子〕'!B20","v":0},{"$f":"'8.バスケ〔一般女子〕'!C20","v":0},{"$f":"'8.バスケ〔一般女子〕'!D20","v":0},{"$f":"'8.バスケ〔一般女子〕'!E20","v":"00:00:00"},{"$f":"'8.バスケ〔一般女子〕'!F20","v":""},{"$f":"'8.バスケ〔一般女子〕'!G20","v":0}]
[100211,null,null,26,10,{"$f":"IF('0.役員名簿'!$B$7=\"\",\"\",VLOOKUP('0.役員名簿'!$B$7,'各番号（変更不可）'!$J$2:$K$41,2,FALSE))","v":""},"02","11","一般女子","選　手",{"$f":"'8.バスケ〔一般女子〕'!B21","v":0},{"$f":"'8.バスケ〔一般女子〕'!C21","v":0},{"$f":"'8.バスケ〔一般女子〕'!D21","v":0},{"$f":"'8.バスケ〔一般女子〕'!E21","v":"00:00:00"},{"$f":"'8.バスケ〔一般女子〕'!F21","v":""},{"$f":"'8.バスケ〔一般女子〕'!G21","v":0}]
[100212,null,null,27,10,{"$f":"IF('0.役員名簿'!$B$7=\"\",\"\",VLOOKUP('0.役員名簿'!$B$7,'各番号（変更不可）'!$J$2:$K$41,2,FALSE))","v":""},"02","12","一般女子","選　手",{"$f":"'8.バスケ〔一般女子〕'!B22","v":0},{"$f":"'8.バスケ〔一般女子〕'!C22","v":0},{"$f":"'8.バスケ〔一般女子〕'!D22","v":0},{"$f":"'8.バスケ〔一般女子〕'!E22","v":"00:00:00"},{"$f":"'8.バスケ〔一般女子〕'!F22","v":""},{"$f":"'8.バスケ〔一般女子〕'!G22","v":0}]
[100213,null,null,28,10,{"$f":"IF('0.役員名簿'!$B$7=\"\",\"\",VLOOKUP('0.役員名簿'!$B$7,'各番号（変更不可）'!$J$2:$K$41,2,FALSE))","v":""},"02","13","一般女子","選　手",{"$f":"'8.バスケ〔一般女子〕'!B23","v":0},{"$f":"'8.バスケ〔一般女子〕'!C23","v":0},{"$f":"'8.バスケ〔一般女子〕'!D23","v":0},{"$f":"'8.バスケ〔一般女子〕'!E23","v":"00:00:00"},{"$f":"'8.バスケ〔一般女子〕'!F23","v":""},{"$f":"'8.バスケ〔一般女子〕'!G23","v":0}]
[100214,null,null,29,10,{"$f":"IF('0.役員名簿'!$B$7=\"\",\"\",VLOOKUP('0.役員名簿'!$B$7,'各番号（変更不可）'!$J$2:$K$41,2,FALSE))","v":""},"02","14","一般女子","コーチ",null,{"$f":"'8.バスケ〔一般女子〕'!C24","v":0},null,{"$f":"'8.バスケ〔一般女子〕'!E24","v":"00:00:00"},{"$f":"'8.バスケ〔一般女子〕'!F24","v":""},{"$f":"'8.バスケ〔一般女子〕'!G24","v":0}]
[100215,null,null,30,10,{"$f":"IF('0.役員名簿'!$B$7=\"\",\"\",VLOOKUP('0.役員名簿'!$B$7,'各番号（変更不可）'!$J$2:$K$41,2,FALSE))","v":""},"02","15","一般女子","マネジャー",null,{"$f":"'8.バスケ〔一般女子〕'!C25","v":0},null,{"$f":"'8.バスケ〔一般女子〕'!E25","v":"00:00:00"},{"$f":"'8.バスケ〔一般女子〕'!F25","v":""},{"$f":"'8.バスケ〔一般女子〕'!G25","v":0}]
[100301,null,null,31,10,{"$f":"IF('0.役員名簿'!$B$7=\"\",\"\",VLOOKUP('0.役員名簿'!$B$7,'各番号（変更不可）'!$J$2:$K$41,2,FALSE))","v":""},"03","01","青年男子","監　督",null,{"$f":"'9.バスケ〔青年男子〕 '!C11","v":0},null,{"$f":"'9.バスケ〔青年男子〕 '!E11","v":"00:00:00"},{"$f":"'9.バスケ〔青年男子〕 '!F11","v":""},{"$f":"'9.バスケ〔青年男子〕 '!G11","v":0},{"$f":"'9.バスケ〔青年男子〕 '!H11","v":0}]
[100302,null,null,32,10,{"$f":"IF('0.役員名簿'!$B$7=\"\",\"\",VLOOKUP('0.役員名簿'!$B$7,'各番号（変更不可）'!$J$2:$K$41,2,FALSE))","v":""},"03","02","青年男子","選　手",{"$f":"'9.バスケ〔青年男子〕 '!B12","v":0},{"$f":"'9.バスケ〔青年男子〕 '!C12","v":0},{"$f":"'9.バスケ〔青年男子〕 '!D12","v":0},{"$f":"'9.バスケ〔青年男子〕 '!E12","v":"00:00:00"},{"$f":"'9.バスケ〔青年男子〕 '!F12","v":""},{"$f":"'9.バスケ〔青年男子〕 '!G12","v":0},{"$f":"'9.バスケ〔青年男子〕 '!H12","v":0}]
[100303,null,null,33,10,{"$f":"IF('0.役員名簿'!$B$7=\"\",\"\",VLOOKUP('0.役員名簿'!$B$7,'各番号（変更不可）'!$J$2:$K$41,2,FALSE))","v":""},"03","03","青年男子","選　手",{"$f":"'9.バスケ〔青年男子〕 '!B13","v":0},{"$f":"'9.バスケ〔青年男子〕 '!C13","v":0},{"$f":"'9.バスケ〔青年男子〕 '!D13","v":0},{"$f":"'9.バスケ〔青年男子〕 '!E13","v":"00:00:00"},{"$f":"'9.バスケ〔青年男子〕 '!F13","v":""},{"$f":"'9.バスケ〔青年男子〕 '!G13","v":0},{"$f":"'9.バスケ〔青年男子〕 '!H13","v":0}]
[100304,null,null,34,10,{"$f":"IF('0.役員名簿'!$B$7=\"\",\"\",VLOOKUP('0.役員名簿'!$B$7,'各番号（変更不可）'!$J$2:$K$41,2,FALSE))","v":""},"03","04","青年男子","選　手",{"$f":"'9.バスケ〔青年男子〕 '!B14","v":0},{"$f":"'9.バスケ〔青年男子〕 '!C14","v":0},{"$f":"'9.バスケ〔青年男子〕 '!D14","v":0},{"$f":"'9.バスケ〔青年男子〕 '!E14","v":"00:00:00"},{"$f":"'9.バスケ〔青年男子〕 '!F14","v":""},{"$f":"'9.バスケ〔青年男子〕 '!G14","v":0},{"$f":"'9.バスケ〔青年男子〕 '!H14","v":0}]
[100305,null,null,35,10,{"$f":"IF('0.役員名簿'!$B$7=\"\",\"\",VLOOKUP('0.役員名簿'!$B$7,'各番号（変更不可）'!$J$2:$K$41,2,FALSE))","v":""},"03","05","青年男子","選　手",{"$f":"'9.バスケ〔青年男子〕 '!B15","v":0},{"$f":"'9.バスケ〔青年男子〕 '!C15","v":0},{"$f":"'9.バスケ〔青年男子〕 '!D15","v":0},{"$f":"'9.バスケ〔青年男子〕 '!E15","v":"00:00:00"},{"$f":"'9.バスケ〔青年男子〕 '!F15","v":""},{"$f":"'9.バスケ〔青年男子〕 '!G15","v":0},{"$f":"'9.バスケ〔青年男子〕 '!H15","v":0}]
[100306,null,null,36,10,{"$f":"IF('0.役員名簿'!$B$7=\"\",\"\",VLOOKUP('0.役員名簿'!$B$7,'各番号（変更不可）'!$J$2:$K$41,2,FALSE))","v":""},"03","06","青年男子","選　手",{"$f":"'9.バスケ〔青年男子〕 '!B16","v":0},{"$f":"'9.バスケ〔青年男子〕 '!C16","v":0},{"$f":"'9.バスケ〔青年男子〕 '!D16","v":0},{"$f":"'9.バスケ〔青年男子〕 '!E16","v":"00:00:00"},{"$f":"'9.バスケ〔青年男子〕 '!F16","v":""},{"$f":"'9.バスケ〔青年男子〕 '!G16","v":0},{"$f":"'9.バスケ〔青年男子〕 '!H16","v":0}]
[100307,null,null,37,10,{"$f":"IF('0.役員名簿'!$B$7=\"\",\"\",VLOOKUP('0.役員名簿'!$B$7,'各番号（変更不可）'!$J$2:$K$41,2,FALSE))","v":""},"03","07","青年男子","選　手",{"$f":"'9.バスケ〔青年男子〕 '!B17","v":0},{"$f":"'9.バスケ〔青年男子〕 '!C17","v":0},{"$f":"'9.バスケ〔青年男子〕 '!D17","v":0},{"$f":"'9.バスケ〔青年男子〕 '!E17","v":"00:00:00"},{"$f":"'9.バスケ〔青年男子〕 '!F17","v":""},{"$f":"'9.バスケ〔青年男子〕 '!G17","v":0},{"$f":"'9.バスケ〔青年男子〕 '!H17","v":0}]
[100308,null,null,38,10,{"$f":"IF('0.役員名簿'!$B$7=\"\",\"\",VLOOKUP('0.役員名簿'!$B$7,'各番号（変更不可）'!$J$2:$K$41,2,FALSE))","v":""},"03","08","青年男子","選　手",{"$f":"'9.バスケ〔青年男子〕 '!B18","v":0},{"$f":"'9.バスケ〔青年男子〕 '!C18","v":0},{"$f":"'9.バスケ〔青年男子〕 '!D18","v":0},{"$f":"'9.バスケ〔青年男子〕 '!E18","v":"00:00:00"},{"$f":"'9.バスケ〔青年男子〕 '!F18","v":""},{"$f":"'9.バスケ〔青年男子〕 '!G18","v":0},{"$f":"'9.バスケ〔青年男子〕 '!H18","v":0}]
[100309,null,null,39,10,{"$f":"IF('0.役員名簿'!$B$7=\"\",\"\",VLOOKUP('0.役員名簿'!$B$7,'各番号（変更不可）'!$J$2:$K$41,2,FALSE))","v":""},"03","09","青年男子","選　手",{"$f":"'9.バスケ〔青年男子〕 '!B19","v":0},{"$f":"'9.バスケ〔青年男子〕 '!C19","v":0},{"$f":"'9.バスケ〔青年男子〕 '!D19","v":0},{"$f":"'9.バスケ〔青年男子〕 '!E19","v":"00:00:00"},{"$f":"'9.バスケ〔青年男子〕 '!F19","v":""},{"$f":"'9.バスケ〔青年男子〕 '!G19","v":0},{"$f":"'9.バスケ〔青年男子〕 '!H19","v":0}]
[100310,null,null,40,10,{"$f":"IF('0.役員名簿'!$B$7=\"\",\"\",VLOOKUP('0.役員名簿'!$B$7,'各番号（変更不可）'!$J$2:$K$41,2,FALSE))","v":""},"03","10","青年男子","選　手",{"$f":"'9.バスケ〔青年男子〕 '!B20","v":0},{"$f":"'9.バスケ〔青年男子〕 '!C20","v":0},{"$f":"'9.バスケ〔青年男子〕 '!D20","v":0},{"$f":"'9.バスケ〔青年男子〕 '!E20","v":"00:00:00"},{"$f":"'9.バスケ〔青年男子〕 '!F20","v":""},{"$f":"'9.バスケ〔青年男子〕 '!G20","v":0},{"$f":"'9.バスケ〔青年男子〕 '!H20","v":0}]
[100311,null,null,41,10,{"$f":"IF('0.役員名簿'!$B$7=\"\",\"\",VLOOKUP('0.役員名簿'!$B$7,'各番号（変更不可）'!$J$2:$K$41,2,FALSE))","v":""},"03","11","青年男子","選　手",{"$f":"'9.バスケ〔青年男子〕 '!B21","v":0},{"$f":"'9.バスケ〔青年男子〕 '!C21","v":0},{"$f":"'9.バスケ〔青年男子〕 '!D21","v":0},{"$f":"'9.バスケ〔青年男子〕 '!E21","v":"00:00:00"},{"$f":"'9.バスケ〔青年男子〕 '!F21","v":""},{"$f":"'9.バスケ〔青年男子〕 '!G21","v":0},{"$f":"'9.バスケ〔青年男子〕 '!H21","v":0}]
[100312,null,null,42,10,{"$f":"IF('0.役員名簿'!$B$7=\"\",\"\",VLOOKUP('0.役員名簿'!$B$7,'各番号（変更不可）'!$J$2:$K$41,2,FALSE))","v":""},"03","12","青年男子","選　手",{"$f":"'9.バスケ〔青年男子〕 '!B22","v":0},{"$f":"'9.バスケ〔青年男子〕 '!C22","v":0},{"$f":"'9.バスケ〔青年男子〕 '!D22","v":0},{"$f":"'9.バスケ〔青年男子〕 '!E22","v":"00:00:00"},{"$f":"'9.バスケ〔青年男子〕 '!F22","v":""},{"$f":"'9.バスケ〔青年男子〕 '!G22","v":0},{"$f":"'9.バスケ〔青年男子〕 '!H22","v":0}]
[100313,null,null,43,10,{"$f":"IF('0.役員名簿'!$B$7=\"\",\"\",VLOOKUP('0.役員名簿'!$B$7,'各番号（変更不可）'!$J$2:$K$41,2,FALSE))","v":""},"03","13","青年男子","選　手",{"$f":"'9.バスケ〔青年男子〕 '!B23","v":0},{"$f":"'9.バスケ〔青年男子〕 '!C23","v":0},{"$f":"'9.バスケ〔青年男子〕 '!D23","v":0},{"$f":"'9.バスケ〔青年男子〕 '!E23","v":"00:00:00"},{"$f":"'9.バスケ〔青年男子〕 '!F23","v":""},{"$f":"'9.バスケ〔青年男子〕 '!G23","v":0},{"$f":"'9.バスケ〔青年男子〕 '!H23","v":0}]
[100314,null,null,44,10,{"$f":"IF('0.役員名簿'!$B$7=\"\",\"\",VLOOKUP('0.役員名簿'!$B$7,'各番号（変更不可）'!$J$2:$K$41,2,FALSE))","v":""},"03","14","青年男子","コーチ",null,{"$f":"'9.バスケ〔青年男子〕 '!C24","v":0},null,{"$f":"'9.バスケ〔青年男子〕 '!E24","v":"00:00:00"},{"$f":"'9.バスケ〔青年男子〕 '!F24","v":""},{"$f":"'9.バスケ〔青年男子〕 '!G24","v":0},{"$f":"'9.バスケ〔青年男子〕 '!H24","v":0}]
[100315,null,null,45,10,{"$f":"IF('0.役員名簿'!$B$7=\"\",\"\",VLOOKUP('0.役員名簿'!$B$7,'各番号（変更不可）'!$J$2:$K$41,2,FALSE))","v":""},"03","15","青年男子","マネジャー",null,{"$f":"'9.バスケ〔青年男子〕 '!C25","v":0},null,{"$f":"'9.バスケ〔青年男子〕 '!E25","v":"00:00:00"},{"$f":"'9.バスケ〔青年男子〕 '!F25","v":""},{"$f":"'9.バスケ〔青年男子〕 '!G25","v":0},{"$f":"'9.バスケ〔青年男子〕 '!H25","v":0}]
[100401,null,null,46,10,{"$f":"IF('0.役員名簿'!$B$7=\"\",\"\",VLOOKUP('0.役員名簿'!$B$7,'各番号（変更不可）'!$J$2:$K$41,2,FALSE))","v":""},"04","01","青年女子","監　督",null,{"$f":"'10.バスケ〔青年女子〕'!C11","v":0},null,{"$f":"'10.バスケ〔青年女子〕'!E11","v":"00:00:00"},{"$f":"'10.バスケ〔青年女子〕'!F11","v":""},{"$f":"'10.バスケ〔青年女子〕'!G11","v":0},{"$f":"'10.バスケ〔青年女子〕'!H11","v":0}]
[100402,null,null,47,10,{"$f":"IF('0.役員名簿'!$B$7=\"\",\"\",VLOOKUP('0.役員名簿'!$B$7,'各番号（変更不可）'!$J$2:$K$41,2,FALSE))","v":""},"04","02","青年女子","選　手",{"$f":"'10.バスケ〔青年女子〕'!B12","v":0},{"$f":"'10.バスケ〔青年女子〕'!C12","v":0},{"$f":"'10.バスケ〔青年女子〕'!D12","v":0},{"$f":"'10.バスケ〔青年女子〕'!E12","v":"00:00:00"},{"$f":"'10.バスケ〔青年女子〕'!F12","v":""},{"$f":"'10.バスケ〔青年女子〕'!G12","v":0},{"$f":"'10.バスケ〔青年女子〕'!H12","v":0}]
[100403,null,null,48,10,{"$f":"IF('0.役員名簿'!$B$7=\"\",\"\",VLOOKUP('0.役員名簿'!$B$7,'各番号（変更不可）'!$J$2:$K$41,2,FALSE))","v":""},"04","03","青年女子","選　手",{"$f":"'10.バスケ〔青年女子〕'!B13","v":0},{"$f":"'10.バスケ〔青年女子〕'!C13","v":0},{"$f":"'10.バスケ〔青年女子〕'!D13","v":0},{"$f":"'10.バスケ〔青年女子〕'!E13","v":"00:00:00"},{"$f":"'10.バスケ〔青年女子〕'!F13","v":""},{"$f":"'10.バスケ〔青年女子〕'!G13","v":0},{"$f":"'10.バスケ〔青年女子〕'!H13","v":0}]
[100404,null,null,49,10,{"$f":"IF('0.役員名簿'!$B$7=\"\",\"\",VLOOKUP('0.役員名簿'!$B$7,'各番号（変更不可）'!$J$2:$K$41,2,FALSE))","v":""},"04","04","青年女子","選　手",{"$f":"'10.バスケ〔青年女子〕'!B14","v":0},{"$f":"'10.バスケ〔青年女子〕'!C14","v":0},{"$f":"'10.バスケ〔青年女子〕'!D14","v":0},{"$f":"'10.バスケ〔青年女子〕'!E14","v":"00:00:00"},{"$f":"'10.バスケ〔青年女子〕'!F14","v":""},{"$f":"'10.バスケ〔青年女子〕'!G14","v":0},{"$f":"'10.バスケ〔青年女子〕'!H14","v":0}]
[100405,null,null,50,10,{"$f":"IF('0.役員名簿'!$B$7=\"\",\"\",VLOOKUP('0.役員名簿'!$B$7,'各番号（変更不可）'!$J$2:$K$41,2,FALSE))","v":""},"04","05","青年女子","選　手",{"$f":"'10.バスケ〔青年女子〕'!B15","v":0},{"$f":"'10.バスケ〔青年女子〕'!C15","v":0},{"$f":"'10.バスケ〔青年女子〕'!D15","v":0},{"$f":"'10.バスケ〔青年女子〕'!E15","v":"00:00:00"},{"$f":"'10.バスケ〔青年女子〕'!F15","v":""},{"$f":"'10.バスケ〔青年女子〕'!G15","v":0},{"$f":"'10.バスケ〔青年女子〕'!H15","v":0}]
[100406,null,null,51,10,{"$f":"IF('0.役員名簿'!$B$7=\"\",\"\",VLOOKUP('0.役員名簿'!$B$7,'各番号（変更不可）'!$J$2:$K$41,2,FALSE))","v":""},"04","06","青年女子","選　手",{"$f":"'10.バスケ〔青年女子〕'!B16","v":0},{"$f":"'10.バスケ〔青年女子〕'!C16","v":0},{"$f":"'10.バスケ〔青年女子〕'!D16","v":0},{"$f":"'10.バスケ〔青年女子〕'!E16","v":"00:00:00"},{"$f":"'10.バスケ〔青年女子〕'!F16","v":""},{"$f":"'10.バスケ〔青年女子〕'!G16","v":0},{"$f":"'10.バスケ〔青年女子〕'!H16","v":0}]
[100407,null,null,52,10,{"$f":"IF('0.役員名簿'!$B$7=\"\",\"\",VLOOKUP('0.役員名簿'!$B$7,'各番号（変更不可）'!$J$2:$K$41,2,FALSE))","v":""},"04","07","青年女子","選　手",{"$f":"'10.バスケ〔青年女子〕'!B17","v":0},{"$f":"'10.バスケ〔青年女子〕'!C17","v":0},{"$f":"'10.バスケ〔青年女子〕'!D17","v":0},{"$f":"'10.バスケ〔青年女子〕'!E17","v":"00:00:00"},{"$f":"'10.バスケ〔青年女子〕'!F17","v":""},{"$f":"'10.バスケ〔青年女子〕'!G17","v":0},{"$f":"'10.バスケ〔青年女子〕'!H17","v":0}]
[100408,null,null,53,10,{"$f":"IF('0.役員名簿'!$B$7=\"\",\"\",VLOOKUP('0.役員名簿'!$B$7,'各番号（変更不可）'!$J$2:$K$41,2,FALSE))","v":""},"04","08","青年女子","選　手",{"$f":"'10.バスケ〔青年女子〕'!B18","v":0},{"$f":"'10.バスケ〔青年女子〕'!C18","v":0},{"$f":"'10.バスケ〔青年女子〕'!D18","v":0},{"$f":"'10.バスケ〔青年女子〕'!E18","v":"00:00:00"},{"$f":"'10.バスケ〔青年女子〕'!F18","v":""},{"$f":"'10.バスケ〔青年女子〕'!G18","v":0},{"$f":"'10.バスケ〔青年女子〕'!H18","v":0}]
[100409,null,null,54,10,{"$f":"IF('0.役員名簿'!$B$7=\"\",\"\",VLOOKUP('0.役員名簿'!$B$7,'各番号（変更不可）'!$J$2:$K$41,2,FALSE))","v":""},"04","09","青年女子","選　手",{"$f":"'10.バスケ〔青年女子〕'!B19","v":0},{"$f":"'10.バスケ〔青年女子〕'!C19","v":0},{"$f":"'10.バスケ〔青年女子〕'!D19","v":0},{"$f":"'10.バスケ〔青年女子〕'!E19","v":"00:00:00"},{"$f":"'10.バスケ〔青年女子〕'!F19","v":""},{"$f":"'10.バスケ〔青年女子〕'!G19","v":0},{"$f":"'10.バスケ〔青年女子〕'!H19","v":0}]
[100410,null,null,55,10,{"$f":"IF('0.役員名簿'!$B$7=\"\",\"\",VLOOKUP('0.役員名簿'!$B$7,'各番号（変更不可）'!$J$2:$K$41,2,FALSE))","v":""},"04","10","青年女子","選　手",{"$f":"'10.バスケ〔青年女子〕'!B20","v":0},{"$f":"'10.バスケ〔青年女子〕'!C20","v":0},{"$f":"'10.バスケ〔青年女子〕'!D20","v":0},{"$f":"'10.バスケ〔青年女子〕'!E20","v":"00:00:00"},{"$f":"'10.バスケ〔青年女子〕'!F20","v":""},{"$f":"'10.バスケ〔青年女子〕'!G20","v":0},{"$f":"'10.バスケ〔青年女子〕'!H20","v":0}]
[100411,null,null,56,10,{"$f":"IF('0.役員名簿'!$B$7=\"\",\"\",VLOOKUP('0.役員名簿'!$B$7,'各番号（変更不可）'!$J$2:$K$41,2,FALSE))","v":""},"04","11","青年女子","選　手",{"$f":"'10.バスケ〔青年女子〕'!B21","v":0},{"$f":"'10.バスケ〔青年女子〕'!C21","v":0},{"$f":"'10.バスケ〔青年女子〕'!D21","v":0},{"$f":"'10.バスケ〔青年女子〕'!E21","v":"00:00:00"},{"$f":"'10.バスケ〔青年女子〕'!F21","v":""},{"$f":"'10.バスケ〔青年女子〕'!G21","v":0},{"$f":"'10.バスケ〔青年女子〕'!H21","v":0}]
[100412,null,null,57,10,{"$f":"IF('0.役員名簿'!$B$7=\"\",\"\",VLOOKUP('0.役員名簿'!$B$7,'各番号（変更不可）'!$J$2:$K$41,2,FALSE))","v":""},"04","12","青年女子","選　手",{"$f":"'10.バスケ〔青年女子〕'!B22","v":0},{"$f":"'10.バスケ〔青年女子〕'!C22","v":0},{"$f":"'10.バスケ〔青年女子〕'!D22","v":0},{"$f":"'10.バスケ〔青年女子〕'!E22","v":"00:00:00"},{"$f":"'10.バスケ〔青年女子〕'!F22","v":""},{"$f":"'10.バスケ〔青年女子〕'!G22","v":0},{"$f":"'10.バスケ〔青年女子〕'!H22","v":0}]
[100413,null,null,58,10,{"$f":"IF('0.役員名簿'!$B$7=\"\",\"\",VLOOKUP('0.役員名簿'!$B$7,'各番号（変更不可）'!$J$2:$K$41,2,FALSE))","v":""},"04","13","青年女子","選　手",{"$f":"'10.バスケ〔青年女子〕'!B23","v":0},{"$f":"'10.バスケ〔青年女子〕'!C23","v":0},{"$f":"'10.バスケ〔青年女子〕'!D23","v":0},{"$f":"'10.バスケ〔青年女子〕'!E23","v":"00:00:00"},{"$f":"'10.バスケ〔青年女子〕'!F23","v":""},{"$f":"'10.バスケ〔青年女子〕'!G23","v":0},{"$f":"'10.バスケ〔青年女子〕'!H23","v":0}]
[100414,null,null,59,10,{"$f":"IF('0.役員名簿'!$B$7=\"\",\"\",VLOOKUP('0.役員名簿'!$B$7,'各番号（変更不可）'!$J$2:$K$41,2,FALSE))","v":""},"04","14","青年女子","コーチ",null,{"$f":"'10.バスケ〔青年女子〕'!C24","v":0},null,{"$f":"'10.バスケ〔青年女子〕'!E24","v":"00:00:00"},{"$f":"'10.バスケ〔青年女子〕'!F24","v":""},{"$f":"'10.バスケ〔青年女子〕'!G24","v":0},{"$f":"'10.バスケ〔青年女子〕'!H24","v":0}]
[100415,null,null,60,10,{"$f":"IF('0.役員名簿'!$B$7=\"\",\"\",VLOOKUP('0.役員名簿'!$B$7,'各番号（変更不可）'!$J$2:$K$41,2,FALSE))","v":""},"04","15","青年女子","マネジャー",null,{"$f":"'10.バスケ〔青年女子〕'!C25","v":0},null,{"$f":"'10.バスケ〔青年女子〕'!E25","v":"00:00:00"},{"$f":"'10.バスケ〔青年女子〕'!F25","v":""},{"$f":"'10.バスケ〔青年女子〕'!G25","v":0},{"$f":"'10.バスケ〔青年女子〕'!H25","v":0}]
[110101,null,null,61,11,{"$f":"IF('0.役員名簿'!$B$7=\"\",\"\",VLOOKUP('0.役員名簿'!$B$7,'各番号（変更不可）'!$J$2:$K$41,2,FALSE))","v":""},"01","01","一般男子","監　督",null,{"$f":"'11.バレー（一般男子）'!C11","v":0},null,{"$f":"'11.バレー（一般男子）'!E11","v":"00:00:00"},{"$f":"'11.バレー（一般男子）'!F11","v":""},{"$f":"'11.バレー（一般男子）'!G11","v":0}]
[110102,null,null,62,11,{"$f":"IF('0.役員名簿'!$B$7=\"\",\"\",VLOOKUP('0.役員名簿'!$B$7,'各番号（変更不可）'!$J$2:$K$41,2,FALSE))","v":""},"01","02","一般男子","選　手",{"$f":"'11.バレー（一般男子）'!B12","v":0},{"$f":"'11.バレー（一般男子）'!C12","v":0},{"$f":"'11.バレー（一般男子）'!D12","v":0},{"$f":"'11.バレー（一般男子）'!E12","v":"00:00:00"},{"$f":"'11.バレー（一般男子）'!F12","v":""},{"$f":"'11.バレー（一般男子）'!G12","v":0}]
[110103,null,null,63,11,{"$f":"IF('0.役員名簿'!$B$7=\"\",\"\",VLOOKUP('0.役員名簿'!$B$7,'各番号（変更不可）'!$J$2:$K$41,2,FALSE))","v":""},"01","03","一般男子","選　手",{"$f":"'11.バレー（一般男子）'!B13","v":0},{"$f":"'11.バレー（一般男子）'!C13","v":0},{"$f":"'11.バレー（一般男子）'!D13","v":0},{"$f":"'11.バレー（一般男子）'!E13","v":"00:00:00"},{"$f":"'11.バレー（一般男子）'!F13","v":""},{"$f":"'11.バレー（一般男子）'!G13","v":0}]
[110104,null,null,64,11,{"$f":"IF('0.役員名簿'!$B$7=\"\",\"\",VLOOKUP('0.役員名簿'!$B$7,'各番号（変更不可）'!$J$2:$K$41,2,FALSE))","v":""},"01","04","一般男子","選　手",{"$f":"'11.バレー（一般男子）'!B14","v":0},{"$f":"'11.バレー（一般男子）'!C14","v":0},{"$f":"'11.バレー（一般男子）'!D14","v":0},{"$f":"'11.バレー（一般男子）'!E14","v":"00:00:00"},{"$f":"'11.バレー（一般男子）'!F14","v":""},{"$f":"'11.バレー（一般男子）'!G14","v":0}]
[{"$f":"VALUE(E66&F66&G66&H66)","v":110105},null,null,65,11,{"$f":"IF('0.役員名簿'!$B$7=\"\",\"\",VLOOKUP('0.役員名簿'!$B$7,'各番号（変更不可）'!$J$2:$K$41,2,FALSE))","v":""},"01","05","一般男子","選　手",{"$f":"'11.バレー（一般男子）'!B15","v":0},{"$f":"'11.バレー（一般男子）'!C15","v":0},{"$f":"'11.バレー（一般男子）'!D15","v":0},{"$f":"'11.バレー（一般男子）'!E15","v":"00:00:00"},{"$f":"'11.バレー（一般男子）'!F15","v":""},{"$f":"'11.バレー（一般男子）'!G15","v":0}]
[110106,null,null,66,11,{"$f":"IF('0.役員名簿'!$B$7=\"\",\"\",VLOOKUP('0.役員名簿'!$B$7,'各番号（変更不可）'!$J$2:$K$41,2,FALSE))","v":""},"01","06","一般男子","選　手",{"$f":"'11.バレー（一般男子）'!B16","v":0},{"$f":"'11.バレー（一般男子）'!C16","v":0},{"$f":"'11.バレー（一般男子）'!D16","v":0},{"$f":"'11.バレー（一般男子）'!E16","v":"00:00:00"},{"$f":"'11.バレー（一般男子）'!F16","v":""},{"$f":"'11.バレー（一般男子）'!G16","v":0}]
[110107,null,null,67,11,{"$f":"IF('0.役員名簿'!$B$7=\"\",\"\",VLOOKUP('0.役員名簿'!$B$7,'各番号（変更不可）'!$J$2:$K$41,2,FALSE))","v":""},"01","07","一般男子","選　手",{"$f":"'11.バレー（一般男子）'!B17","v":0},{"$f":"'11.バレー（一般男子）'!C17","v":0},{"$f":"'11.バレー（一般男子）'!D17","v":0},{"$f":"'11.バレー（一般男子）'!E17","v":"00:00:00"},{"$f":"'11.バレー（一般男子）'!F17","v":""},{"$f":"'11.バレー（一般男子）'!G17","v":0}]
[110108,null,null,68,11,{"$f":"IF('0.役員名簿'!$B$7=\"\",\"\",VLOOKUP('0.役員名簿'!$B$7,'各番号（変更不可）'!$J$2:$K$41,2,FALSE))","v":""},"01","08","一般男子","選　手",{"$f":"'11.バレー（一般男子）'!B18","v":0},{"$f":"'11.バレー（一般男子）'!C18","v":0},{"$f":"'11.バレー（一般男子）'!D18","v":0},{"$f":"'11.バレー（一般男子）'!E18","v":"00:00:00"},{"$f":"'11.バレー（一般男子）'!F18","v":""},{"$f":"'11.バレー（一般男子）'!G18","v":0}]
[110109,null,null,69,11,{"$f":"IF('0.役員名簿'!$B$7=\"\",\"\",VLOOKUP('0.役員名簿'!$B$7,'各番号（変更不可）'!$J$2:$K$41,2,FALSE))","v":""},"01","09","一般男子","選　手",{"$f":"'11.バレー（一般男子）'!B19","v":0},{"$f":"'11.バレー（一般男子）'!C19","v":0},{"$f":"'11.バレー（一般男子）'!D19","v":0},{"$f":"'11.バレー（一般男子）'!E19","v":"00:00:00"},{"$f":"'11.バレー（一般男子）'!F19","v":""},{"$f":"'11.バレー（一般男子）'!G19","v":0}]
[110110,null,null,70,11,{"$f":"IF('0.役員名簿'!$B$7=\"\",\"\",VLOOKUP('0.役員名簿'!$B$7,'各番号（変更不可）'!$J$2:$K$41,2,FALSE))","v":""},"01","10","一般男子","選　手",{"$f":"'11.バレー（一般男子）'!B20","v":0},{"$f":"'11.バレー（一般男子）'!C20","v":0},{"$f":"'11.バレー（一般男子）'!D20","v":0},{"$f":"'11.バレー（一般男子）'!E20","v":"00:00:00"},{"$f":"'11.バレー（一般男子）'!F20","v":""},{"$f":"'11.バレー（一般男子）'!G20","v":0}]
[110111,null,null,71,11,{"$f":"IF('0.役員名簿'!$B$7=\"\",\"\",VLOOKUP('0.役員名簿'!$B$7,'各番号（変更不可）'!$J$2:$K$41,2,FALSE))","v":""},"01","11","一般男子","選　手",{"$f":"'11.バレー（一般男子）'!B21","v":0},{"$f":"'11.バレー（一般男子）'!C21","v":0},{"$f":"'11.バレー（一般男子）'!D21","v":0},{"$f":"'11.バレー（一般男子）'!E21","v":"00:00:00"},{"$f":"'11.バレー（一般男子）'!F21","v":""},{"$f":"'11.バレー（一般男子）'!G21","v":0}]
[110112,null,null,72,11,{"$f":"IF('0.役員名簿'!$B$7=\"\",\"\",VLOOKUP('0.役員名簿'!$B$7,'各番号（変更不可）'!$J$2:$K$41,2,FALSE))","v":""},"01","12","一般男子","選　手",{"$f":"'11.バレー（一般男子）'!B22","v":0},{"$f":"'11.バレー（一般男子）'!C22","v":0},{"$f":"'11.バレー（一般男子）'!D22","v":0},{"$f":"'11.バレー（一般男子）'!E22","v":"00:00:00"},{"$f":"'11.バレー（一般男子）'!F22","v":""},{"$f":"'11.バレー（一般男子）'!G22","v":0}]
[110113,null,null,73,11,{"$f":"IF('0.役員名簿'!$B$7=\"\",\"\",VLOOKUP('0.役員名簿'!$B$7,'各番号（変更不可）'!$J$2:$K$41,2,FALSE))","v":""},"01","13","一般男子","選　手",{"$f":"'11.バレー（一般男子）'!B23","v":0},{"$f":"'11.バレー（一般男子）'!C23","v":0},{"$f":"'11.バレー（一般男子）'!D23","v":0},{"$f":"'11.バレー（一般男子）'!E23","v":"00:00:00"},{"$f":"'11.バレー（一般男子）'!F23","v":""},{"$f":"'11.バレー（一般男子）'!G23","v":0}]
[110114,null,null,74,11,{"$f":"IF('0.役員名簿'!$B$7=\"\",\"\",VLOOKUP('0.役員名簿'!$B$7,'各番号（変更不可）'!$J$2:$K$41,2,FALSE))","v":""},"01","14","一般男子","選　手",{"$f":"'11.バレー（一般男子）'!B24","v":0},{"$f":"'11.バレー（一般男子）'!C24","v":0},{"$f":"'11.バレー（一般男子）'!D24","v":0},{"$f":"'11.バレー（一般男子）'!E24","v":"00:00:00"},{"$f":"'11.バレー（一般男子）'!F24","v":""},{"$f":"'11.バレー（一般男子）'!G24","v":0}]
[110115,null,null,75,11,{"$f":"IF('0.役員名簿'!$B$7=\"\",\"\",VLOOKUP('0.役員名簿'!$B$7,'各番号（変更不可）'!$J$2:$K$41,2,FALSE))","v":""},"01","15","一般男子","選　手",{"$f":"'11.バレー（一般男子）'!B25","v":0},{"$f":"'11.バレー（一般男子）'!C25","v":0},{"$f":"'11.バレー（一般男子）'!D25","v":0},{"$f":"'11.バレー（一般男子）'!E25","v":"00:00:00"},{"$f":"'11.バレー（一般男子）'!F25","v":""},{"$f":"'11.バレー（一般男子）'!G25","v":0}]
[110116,null,null,76,11,{"$f":"IF('0.役員名簿'!$B$7=\"\",\"\",VLOOKUP('0.役員名簿'!$B$7,'各番号（変更不可）'!$J$2:$K$41,2,FALSE))","v":""},"01","16","一般男子","選　手",{"$f":"'11.バレー（一般男子）'!B26","v":0},{"$f":"'11.バレー（一般男子）'!C26","v":0},{"$f":"'11.バレー（一般男子）'!D26","v":0},{"$f":"'11.バレー（一般男子）'!E26","v":"00:00:00"},{"$f":"'11.バレー（一般男子）'!F26","v":""},{"$f":"'11.バレー（一般男子）'!G26","v":0}]
[110117,null,null,77,11,{"$f":"IF('0.役員名簿'!$B$7=\"\",\"\",VLOOKUP('0.役員名簿'!$B$7,'各番号（変更不可）'!$J$2:$K$41,2,FALSE))","v":""},"01","17","一般男子","コーチ",null,{"$f":"'11.バレー（一般男子）'!C27","v":0},null,{"$f":"'11.バレー（一般男子）'!E27","v":"00:00:00"},{"$f":"'11.バレー（一般男子）'!F27","v":""},{"$f":"'11.バレー（一般男子）'!G27","v":0}]
[110118,null,null,78,11,{"$f":"IF('0.役員名簿'!$B$7=\"\",\"\",VLOOKUP('0.役員名簿'!$B$7,'各番号（変更不可）'!$J$2:$K$41,2,FALSE))","v":""},"01","18","一般男子","マネジャー",null,{"$f":"'11.バレー（一般男子）'!C28","v":0},null,{"$f":"'11.バレー（一般男子）'!E28","v":"00:00:00"},{"$f":"'11.バレー（一般男子）'!F28","v":""},{"$f":"'11.バレー（一般男子）'!G28","v":0}]
[110201,null,null,79,11,{"$f":"IF('0.役員名簿'!$B$7=\"\",\"\",VLOOKUP('0.役員名簿'!$B$7,'各番号（変更不可）'!$J$2:$K$41,2,FALSE))","v":""},"02","01","一般女子","監　督",null,{"$f":"'12.バレー（一般女子）'!G11","v":0},null,{"$f":"'12.バレー（一般女子）'!I11","v":"00:00:00"},{"$f":"'12.バレー（一般女子）'!J11","v":""},{"$f":"'12.バレー（一般女子）'!K11","v":0}]
[110202,null,null,80,11,{"$f":"IF('0.役員名簿'!$B$7=\"\",\"\",VLOOKUP('0.役員名簿'!$B$7,'各番号（変更不可）'!$J$2:$K$41,2,FALSE))","v":""},"02","02","一般女子","選　手",{"$f":"'12.バレー（一般女子）'!F12","v":0},{"$f":"'12.バレー（一般女子）'!G12","v":0},{"$f":"'12.バレー（一般女子）'!H12","v":0},{"$f":"'12.バレー（一般女子）'!I12","v":"00:00:00"},{"$f":"'12.バレー（一般女子）'!J12","v":""},{"$f":"'12.バレー（一般女子）'!K12","v":0}]
[110203,null,null,81,11,{"$f":"IF('0.役員名簿'!$B$7=\"\",\"\",VLOOKUP('0.役員名簿'!$B$7,'各番号（変更不可）'!$J$2:$K$41,2,FALSE))","v":""},"02","03","一般女子","選　手",{"$f":"'12.バレー（一般女子）'!F13","v":0},{"$f":"'12.バレー（一般女子）'!G13","v":0},{"$f":"'12.バレー（一般女子）'!H13","v":0},{"$f":"'12.バレー（一般女子）'!I13","v":"00:00:00"},{"$f":"'12.バレー（一般女子）'!J13","v":""},{"$f":"'12.バレー（一般女子）'!K13","v":0}]
[110204,null,null,82,11,{"$f":"IF('0.役員名簿'!$B$7=\"\",\"\",VLOOKUP('0.役員名簿'!$B$7,'各番号（変更不可）'!$J$2:$K$41,2,FALSE))","v":""},"02","04","一般女子","選　手",{"$f":"'12.バレー（一般女子）'!F14","v":0},{"$f":"'12.バレー（一般女子）'!G14","v":0},{"$f":"'12.バレー（一般女子）'!H14","v":0},{"$f":"'12.バレー（一般女子）'!I14","v":"00:00:00"},{"$f":"'12.バレー（一般女子）'!J14","v":""},{"$f":"'12.バレー（一般女子）'!K14","v":0}]
[110205,null,null,83,11,{"$f":"IF('0.役員名簿'!$B$7=\"\",\"\",VLOOKUP('0.役員名簿'!$B$7,'各番号（変更不可）'!$J$2:$K$41,2,FALSE))","v":""},"02","05","一般女子","選　手",{"$f":"'12.バレー（一般女子）'!F15","v":0},{"$f":"'12.バレー（一般女子）'!G15","v":0},{"$f":"'12.バレー（一般女子）'!H15","v":0},{"$f":"'12.バレー（一般女子）'!I15","v":"00:00:00"},{"$f":"'12.バレー（一般女子）'!J15","v":""},{"$f":"'12.バレー（一般女子）'!K15","v":0}]
[110206,null,null,84,11,{"$f":"IF('0.役員名簿'!$B$7=\"\",\"\",VLOOKUP('0.役員名簿'!$B$7,'各番号（変更不可）'!$J$2:$K$41,2,FALSE))","v":""},"02","06","一般女子","選　手",{"$f":"'12.バレー（一般女子）'!F16","v":0},{"$f":"'12.バレー（一般女子）'!G16","v":0},{"$f":"'12.バレー（一般女子）'!H16","v":0},{"$f":"'12.バレー（一般女子）'!I16","v":"00:00:00"},{"$f":"'12.バレー（一般女子）'!J16","v":""},{"$f":"'12.バレー（一般女子）'!K16","v":0}]
[110207,null,null,85,11,{"$f":"IF('0.役員名簿'!$B$7=\"\",\"\",VLOOKUP('0.役員名簿'!$B$7,'各番号（変更不可）'!$J$2:$K$41,2,FALSE))","v":""},"02","07","一般女子","選　手",{"$f":"'12.バレー（一般女子）'!F17","v":0},{"$f":"'12.バレー（一般女子）'!G17","v":0},{"$f":"'12.バレー（一般女子）'!H17","v":0},{"$f":"'12.バレー（一般女子）'!I17","v":"00:00:00"},{"$f":"'12.バレー（一般女子）'!J17","v":""},{"$f":"'12.バレー（一般女子）'!K17","v":0}]
[110208,null,null,86,11,{"$f":"IF('0.役員名簿'!$B$7=\"\",\"\",VLOOKUP('0.役員名簿'!$B$7,'各番号（変更不可）'!$J$2:$K$41,2,FALSE))","v":""},"02","08","一般女子","選　手",{"$f":"'12.バレー（一般女子）'!F18","v":0},{"$f":"'12.バレー（一般女子）'!G18","v":0},{"$f":"'12.バレー（一般女子）'!H18","v":0},{"$f":"'12.バレー（一般女子）'!I18","v":"00:00:00"},{"$f":"'12.バレー（一般女子）'!J18","v":""},{"$f":"'12.バレー（一般女子）'!K18","v":0}]
[110209,null,null,87,11,{"$f":"IF('0.役員名簿'!$B$7=\"\",\"\",VLOOKUP('0.役員名簿'!$B$7,'各番号（変更不可）'!$J$2:$K$41,2,FALSE))","v":""},"02","09","一般女子","選　手",{"$f":"'12.バレー（一般女子）'!F19","v":0},{"$f":"'12.バレー（一般女子）'!G19","v":0},{"$f":"'12.バレー（一般女子）'!H19","v":0},{"$f":"'12.バレー（一般女子）'!I19","v":"00:00:00"},{"$f":"'12.バレー（一般女子）'!J19","v":""},{"$f":"'12.バレー（一般女子）'!K19","v":0}]
[110210,null,null,88,11,{"$f":"IF('0.役員名簿'!$B$7=\"\",\"\",VLOOKUP('0.役員名簿'!$B$7,'各番号（変更不可）'!$J$2:$K$41,2,FALSE))","v":""},"02","10","一般女子","選　手",{"$f":"'12.バレー（一般女子）'!F20","v":0},{"$f":"'12.バレー（一般女子）'!G20","v":0},{"$f":"'12.バレー（一般女子）'!H20","v":0},{"$f":"'12.バレー（一般女子）'!I20","v":"00:00:00"},{"$f":"'12.バレー（一般女子）'!J20","v":""},{"$f":"'12.バレー（一般女子）'!K20","v":0}]
[110211,null,null,89,11,{"$f":"IF('0.役員名簿'!$B$7=\"\",\"\",VLOOKUP('0.役員名簿'!$B$7,'各番号（変更不可）'!$J$2:$K$41,2,FALSE))","v":""},"02","11","一般女子","選　手",{"$f":"'12.バレー（一般女子）'!F21","v":0},{"$f":"'12.バレー（一般女子）'!G21","v":0},{"$f":"'12.バレー（一般女子）'!H21","v":0},{"$f":"'12.バレー（一般女子）'!I21","v":"00:00:00"},{"$f":"'12.バレー（一般女子）'!J21","v":""},{"$f":"'12.バレー（一般女子）'!K21","v":0}]
[110212,null,null,90,11,{"$f":"IF('0.役員名簿'!$B$7=\"\",\"\",VLOOKUP('0.役員名簿'!$B$7,'各番号（変更不可）'!$J$2:$K$41,2,FALSE))","v":""},"02","12","一般女子","選　手",{"$f":"'12.バレー（一般女子）'!F22","v":0},{"$f":"'12.バレー（一般女子）'!G22","v":0},{"$f":"'12.バレー（一般女子）'!H22","v":0},{"$f":"'12.バレー（一般女子）'!I22","v":"00:00:00"},{"$f":"'12.バレー（一般女子）'!J22","v":""},{"$f":"'12.バレー（一般女子）'!K22","v":0}]
[110213,null,null,91,11,{"$f":"IF('0.役員名簿'!$B$7=\"\",\"\",VLOOKUP('0.役員名簿'!$B$7,'各番号（変更不可）'!$J$2:$K$41,2,FALSE))","v":""},"02","13","一般女子","選　手",{"$f":"'12.バレー（一般女子）'!F23","v":0},{"$f":"'12.バレー（一般女子）'!G23","v":0},{"$f":"'12.バレー（一般女子）'!H23","v":0},{"$f":"'12.バレー（一般女子）'!I23","v":"00:00:00"},{"$f":"'12.バレー（一般女子）'!J23","v":""},{"$f":"'12.バレー（一般女子）'!K23","v":0}]
[110214,null,null,92,11,{"$f":"IF('0.役員名簿'!$B$7=\"\",\"\",VLOOKUP('0.役員名簿'!$B$7,'各番号（変更不可）'!$J$2:$K$41,2,FALSE))","v":""},"02","14","一般女子","選　手",{"$f":"'12.バレー（一般女子）'!F24","v":0},{"$f":"'12.バレー（一般女子）'!G24","v":0},{"$f":"'12.バレー（一般女子）'!H24","v":0},{"$f":"'12.バレー（一般女子）'!I24","v":"00:00:00"},{"$f":"'12.バレー（一般女子）'!J24","v":""},{"$f":"'12.バレー（一般女子）'!K24","v":0}]
[110215,null,null,93,11,{"$f":"IF('0.役員名簿'!$B$7=\"\",\"\",VLOOKUP('0.役員名簿'!$B$7,'各番号（変更不可）'!$J$2:$K$41,2,FALSE))","v":""},"02","15","一般女子","選　手",{"$f":"'12.バレー（一般女子）'!F25","v":0},{"$f":"'12.バレー（一般女子）'!G25","v":0},{"$f":"'12.バレー（一般女子）'!H25","v":0},{"$f":"'12.バレー（一般女子）'!I25","v":"00:00:00"},{"$f":"'12.バレー（一般女子）'!J25","v":""},{"$f":"'12.バレー（一般女子）'!K25","v":0}]
[110216,null,null,94,11,{"$f":"IF('0.役員名簿'!$B$7=\"\",\"\",VLOOKUP('0.役員名簿'!$B$7,'各番号（変更不可）'!$J$2:$K$41,2,FALSE))","v":""},"02","16","一般女子","選　手",{"$f":"'12.バレー（一般女子）'!F26","v":0},{"$f":"'12.バレー（一般女子）'!G26","v":0},{"$f":"'12.バレー（一般女子）'!H26","v":0},{"$f":"'12.バレー（一般女子）'!I26","v":"00:00:00"},{"$f":"'12.バレー（一般女子）'!J26","v":""},{"$f":"'12.バレー（一般女子）'!K26","v":0}]
[110217,null,null,95,11,{"$f":"IF('0.役員名簿'!$B$7=\"\",\"\",VLOOKUP('0.役員名簿'!$B$7,'各番号（変更不可）'!$J$2:$K$41,2,FALSE))","v":""},"02","17","一般女子","コーチ",null,{"$f":"'12.バレー（一般女子）'!G27","v":0},null,{"$f":"'12.バレー（一般女子）'!I27","v":"00:00:00"},{"$f":"'12.バレー（一般女子）'!J27","v":""},{"$f":"'12.バレー（一般女子）'!K27","v":0}]
[110218,null,null,96,11,{"$f":"IF('0.役員名簿'!$B$7=\"\",\"\",VLOOKUP('0.役員名簿'!$B$7,'各番号（変更不可）'!$J$2:$K$41,2,FALSE))","v":""},"02","18","一般女子","マネジャー",null,{"$f":"'12.バレー（一般女子）'!G28","v":0},null,{"$f":"'12.バレー（一般女子）'!I28","v":"00:00:00"},{"$f":"'12.バレー（一般女子）'!J28","v":""},{"$f":"'12.バレー（一般女子）'!K28","v":0}]
[110301,null,null,97,11,{"$f":"IF('0.役員名簿'!$B$7=\"\",\"\",VLOOKUP('0.役員名簿'!$B$7,'各番号（変更不可）'!$J$2:$K$41,2,FALSE))","v":""},"03","01","青年男子","監　督",null,{"$f":"'13.バレー（青年男子）'!C11","v":0},null,{"$f":"'13.バレー（青年男子）'!E11","v":"00:00:00"},{"$f":"'13.バレー（青年男子）'!F11","v":""},{"$f":"'13.バレー（青年男子）'!G11","v":0},{"$f":"'13.バレー（青年男子）'!H11","v":0}]
[110302,null,null,98,11,{"$f":"IF('0.役員名簿'!$B$7=\"\",\"\",VLOOKUP('0.役員名簿'!$B$7,'各番号（変更不可）'!$J$2:$K$41,2,FALSE))","v":""},"03","02","青年男子","選　手",{"$f":"'13.バレー（青年男子）'!B12","v":0},{"$f":"'13.バレー（青年男子）'!C12","v":0},{"$f":"'13.バレー（青年男子）'!D12","v":0},{"$f":"'13.バレー（青年男子）'!E12","v":"00:00:00"},{"$f":"'13.バレー（青年男子）'!F12","v":""},{"$f":"'13.バレー（青年男子）'!G12","v":0},{"$f":"'13.バレー（青年男子）'!H12","v":0}]
[110303,null,null,99,11,{"$f":"IF('0.役員名簿'!$B$7=\"\",\"\",VLOOKUP('0.役員名簿'!$B$7,'各番号（変更不可）'!$J$2:$K$41,2,FALSE))","v":""},"03","03","青年男子","選　手",{"$f":"'13.バレー（青年男子）'!B13","v":0},{"$f":"'13.バレー（青年男子）'!C13","v":0},{"$f":"'13.バレー（青年男子）'!D13","v":0},{"$f":"'13.バレー（青年男子）'!E13","v":"00:00:00"},{"$f":"'13.バレー（青年男子）'!F13","v":""},{"$f":"'13.バレー（青年男子）'!G13","v":0},{"$f":"'13.バレー（青年男子）'!H13","v":0}]
[110304,null,null,100,11,{"$f":"IF('0.役員名簿'!$B$7=\"\",\"\",VLOOKUP('0.役員名簿'!$B$7,'各番号（変更不可）'!$J$2:$K$41,2,FALSE))","v":""},"03","04","青年男子","選　手",{"$f":"'13.バレー（青年男子）'!B14","v":0},{"$f":"'13.バレー（青年男子）'!C14","v":0},{"$f":"'13.バレー（青年男子）'!D14","v":0},{"$f":"'13.バレー（青年男子）'!E14","v":"00:00:00"},{"$f":"'13.バレー（青年男子）'!F14","v":""},{"$f":"'13.バレー（青年男子）'!G14","v":0},{"$f":"'13.バレー（青年男子）'!H14","v":0}]
[110305,null,null,101,11,{"$f":"IF('0.役員名簿'!$B$7=\"\",\"\",VLOOKUP('0.役員名簿'!$B$7,'各番号（変更不可）'!$J$2:$K$41,2,FALSE))","v":""},"03","05","青年男子","選　手",{"$f":"'13.バレー（青年男子）'!B15","v":0},{"$f":"'13.バレー（青年男子）'!C15","v":0},{"$f":"'13.バレー（青年男子）'!D15","v":0},{"$f":"'13.バレー（青年男子）'!E15","v":"00:00:00"},{"$f":"'13.バレー（青年男子）'!F15","v":""},{"$f":"'13.バレー（青年男子）'!G15","v":0},{"$f":"'13.バレー（青年男子）'!H15","v":0}]
[110306,null,null,102,11,{"$f":"IF('0.役員名簿'!$B$7=\"\",\"\",VLOOKUP('0.役員名簿'!$B$7,'各番号（変更不可）'!$J$2:$K$41,2,FALSE))","v":""},"03","06","青年男子","選　手",{"$f":"'13.バレー（青年男子）'!B16","v":0},{"$f":"'13.バレー（青年男子）'!C16","v":0},{"$f":"'13.バレー（青年男子）'!D16","v":0},{"$f":"'13.バレー（青年男子）'!E16","v":"00:00:00"},{"$f":"'13.バレー（青年男子）'!F16","v":""},{"$f":"'13.バレー（青年男子）'!G16","v":0},{"$f":"'13.バレー（青年男子）'!H16","v":0}]
[110307,null,null,103,11,{"$f":"IF('0.役員名簿'!$B$7=\"\",\"\",VLOOKUP('0.役員名簿'!$B$7,'各番号（変更不可）'!$J$2:$K$41,2,FALSE))","v":""},"03","07","青年男子","選　手",{"$f":"'13.バレー（青年男子）'!B17","v":0},{"$f":"'13.バレー（青年男子）'!C17","v":0},{"$f":"'13.バレー（青年男子）'!D17","v":0},{"$f":"'13.バレー（青年男子）'!E17","v":"00:00:00"},{"$f":"'13.バレー（青年男子）'!F17","v":""},{"$f":"'13.バレー（青年男子）'!G17","v":0},{"$f":"'13.バレー（青年男子）'!H17","v":0}]
[110308,null,null,104,11,{"$f":"IF('0.役員名簿'!$B$7=\"\",\"\",VLOOKUP('0.役員名簿'!$B$7,'各番号（変更不可）'!$J$2:$K$41,2,FALSE))","v":""},"03","08","青年男子","選　手",{"$f":"'13.バレー（青年男子）'!B18","v":0},{"$f":"'13.バレー（青年男子）'!C18","v":0},{"$f":"'13.バレー（青年男子）'!D18","v":0},{"$f":"'13.バレー（青年男子）'!E18","v":"00:00:00"},{"$f":"'13.バレー（青年男子）'!F18","v":""},{"$f":"'13.バレー（青年男子）'!G18","v":0},{"$f":"'13.バレー（青年男子）'!H18","v":0}]
[110309,null,null,105,11,{"$f":"IF('0.役員名簿'!$B$7=\"\",\"\",VLOOKUP('0.役員名簿'!$B$7,'各番号（変更不可）'!$J$2:$K$41,2,FALSE))","v":""},"03","09","青年男子","選　手",{"$f":"'13.バレー（青年男子）'!B19","v":0},{"$f":"'13.バレー（青年男子）'!C19","v":0},{"$f":"'13.バレー（青年男子）'!D19","v":0},{"$f":"'13.バレー（青年男子）'!E19","v":"00:00:00"},{"$f":"'13.バレー（青年男子）'!F19","v":""},{"$f":"'13.バレー（青年男子）'!G19","v":0},{"$f":"'13.バレー（青年男子）'!H19","v":0}]
[110310,null,null,106,11,{"$f":"IF('0.役員名簿'!$B$7=\"\",\"\",VLOOKUP('0.役員名簿'!$B$7,'各番号（変更不可）'!$J$2:$K$41,2,FALSE))","v":""},"03","10","青年男子","選　手",{"$f":"'13.バレー（青年男子）'!B20","v":0},{"$f":"'13.バレー（青年男子）'!C20","v":0},{"$f":"'13.バレー（青年男子）'!D20","v":0},{"$f":"'13.バレー（青年男子）'!E20","v":"00:00:00"},{"$f":"'13.バレー（青年男子）'!F20","v":""},{"$f":"'13.バレー（青年男子）'!G20","v":0},{"$f":"'13.バレー（青年男子）'!H20","v":0}]
[110311,null,null,107,11,{"$f":"IF('0.役員名簿'!$B$7=\"\",\"\",VLOOKUP('0.役員名簿'!$B$7,'各番号（変更不可）'!$J$2:$K$41,2,FALSE))","v":""},"03","11","青年男子","選　手",{"$f":"'13.バレー（青年男子）'!B21","v":0},{"$f":"'13.バレー（青年男子）'!C21","v":0},{"$f":"'13.バレー（青年男子）'!D21","v":0},{"$f":"'13.バレー（青年男子）'!E21","v":"00:00:00"},{"$f":"'13.バレー（青年男子）'!F21","v":""},{"$f":"'13.バレー（青年男子）'!G21","v":0},{"$f":"'13.バレー（青年男子）'!H21","v":0}]
[110312,null,null,108,11,{"$f":"IF('0.役員名簿'!$B$7=\"\",\"\",VLOOKUP('0.役員名簿'!$B$7,'各番号（変更不可）'!$J$2:$K$41,2,FALSE))","v":""},"03","12","青年男子","選　手",{"$f":"'13.バレー（青年男子）'!B22","v":0},{"$f":"'13.バレー（青年男子）'!C22","v":0},{"$f":"'13.バレー（青年男子）'!D22","v":0},{"$f":"'13.バレー（青年男子）'!E22","v":"00:00:00"},{"$f":"'13.バレー（青年男子）'!F22","v":""},{"$f":"'13.バレー（青年男子）'!G22","v":0},{"$f":"'13.バレー（青年男子）'!H22","v":0}]
[110313,null,null,109,11,{"$f":"IF('0.役員名簿'!$B$7=\"\",\"\",VLOOKUP('0.役員名簿'!$B$7,'各番号（変更不可）'!$J$2:$K$41,2,FALSE))","v":""},"03","13","青年男子","選　手",{"$f":"'13.バレー（青年男子）'!B23","v":0},{"$f":"'13.バレー（青年男子）'!C23","v":0},{"$f":"'13.バレー（青年男子）'!D23","v":0},{"$f":"'13.バレー（青年男子）'!E23","v":"00:00:00"},{"$f":"'13.バレー（青年男子）'!F23","v":""},{"$f":"'13.バレー（青年男子）'!G23","v":0},{"$f":"'13.バレー（青年男子）'!H23","v":0}]
[110314,null,null,110,11,{"$f":"IF('0.役員名簿'!$B$7=\"\",\"\",VLOOKUP('0.役員名簿'!$B$7,'各番号（変更不可）'!$J$2:$K$41,2,FALSE))","v":""},"03","14","青年男子","選　手",{"$f":"'13.バレー（青年男子）'!B24","v":0},{"$f":"'13.バレー（青年男子）'!C24","v":0},{"$f":"'13.バレー（青年男子）'!D24","v":0},{"$f":"'13.バレー（青年男子）'!E24","v":"00:00:00"},{"$f":"'13.バレー（青年男子）'!F24","v":""},{"$f":"'13.バレー（青年男子）'!G24","v":0},{"$f":"'13.バレー（青年男子）'!H24","v":0}]
[110315,null,null,111,11,{"$f":"IF('0.役員名簿'!$B$7=\"\",\"\",VLOOKUP('0.役員名簿'!$B$7,'各番号（変更不可）'!$J$2:$K$41,2,FALSE))","v":""},"03","15","青年男子","選　手",{"$f":"'13.バレー（青年男子）'!B25","v":0},{"$f":"'13.バレー（青年男子）'!C25","v":0},{"$f":"'13.バレー（青年男子）'!D25","v":0},{"$f":"'13.バレー（青年男子）'!E25","v":"00:00:00"},{"$f":"'13.バレー（青年男子）'!F25","v":""},{"$f":"'13.バレー（青年男子）'!G25","v":0},{"$f":"'13.バレー（青年男子）'!H25","v":0}]
[110316,null,null,112,11,{"$f":"IF('0.役員名簿'!$B$7=\"\",\"\",VLOOKUP('0.役員名簿'!$B$7,'各番号（変更不可）'!$J$2:$K$41,2,FALSE))","v":""},"03","16","青年男子","選　手",{"$f":"'13.バレー（青年男子）'!B26","v":0},{"$f":"'13.バレー（青年男子）'!C26","v":0},{"$f":"'13.バレー（青年男子）'!D26","v":0},{"$f":"'13.バレー（青年男子）'!E26","v":"00:00:00"},{"$f":"'13.バレー（青年男子）'!F26","v":""},{"$f":"'13.バレー（青年男子）'!G26","v":0},{"$f":"'13.バレー（青年男子）'!H26","v":0}]
[110317,null,null,113,11,{"$f":"IF('0.役員名簿'!$B$7=\"\",\"\",VLOOKUP('0.役員名簿'!$B$7,'各番号（変更不可）'!$J$2:$K$41,2,FALSE))","v":""},"03","17","青年男子","コーチ",null,{"$f":"'13.バレー（青年男子）'!C27","v":0},null,{"$f":"'13.バレー（青年男子）'!E27","v":"00:00:00"},{"$f":"'13.バレー（青年男子）'!F27","v":""},{"$f":"'13.バレー（青年男子）'!G27","v":0},{"$f":"'13.バレー（青年男子）'!H27","v":0}]
[110318,null,null,114,11,{"$f":"IF('0.役員名簿'!$B$7=\"\",\"\",VLOOKUP('0.役員名簿'!$B$7,'各番号（変更不可）'!$J$2:$K$41,2,FALSE))","v":""},"03","18","青年男子","マネジャー",null,{"$f":"'13.バレー（青年男子）'!C28","v":0},null,{"$f":"'13.バレー（青年男子）'!E28","v":"00:00:00"},{"$f":"'13.バレー（青年男子）'!F28","v":""},{"$f":"'13.バレー（青年男子）'!G28","v":0},{"$f":"'13.バレー（青年男子）'!H28","v":0}]
[110401,null,null,115,11,{"$f":"IF('0.役員名簿'!$B$7=\"\",\"\",VLOOKUP('0.役員名簿'!$B$7,'各番号（変更不可）'!$J$2:$K$41,2,FALSE))","v":""},"04","01","青年女子","監　督",null,{"$f":"'14.バレー（青年女子）'!C11","v":0},null,{"$f":"'14.バレー（青年女子）'!E11","v":"00:00:00"},{"$f":"'14.バレー（青年女子）'!F11","v":""},{"$f":"'14.バレー（青年女子）'!G11","v":0},{"$f":"'14.バレー（青年女子）'!H11","v":0}]
[110402,null,null,116,11,{"$f":"IF('0.役員名簿'!$B$7=\"\",\"\",VLOOKUP('0.役員名簿'!$B$7,'各番号（変更不可）'!$J$2:$K$41,2,FALSE))","v":""},"04","02","青年女子","選　手",{"$f":"'14.バレー（青年女子）'!B12","v":0},{"$f":"'14.バレー（青年女子）'!C12","v":0},{"$f":"'14.バレー（青年女子）'!D12","v":0},{"$f":"'14.バレー（青年女子）'!E12","v":"00:00:00"},{"$f":"'14.バレー（青年女子）'!F12","v":""},{"$f":"'14.バレー（青年女子）'!G12","v":0},{"$f":"'14.バレー（青年女子）'!H12","v":0}]
[110403,null,null,117,11,{"$f":"IF('0.役員名簿'!$B$7=\"\",\"\",VLOOKUP('0.役員名簿'!$B$7,'各番号（変更不可）'!$J$2:$K$41,2,FALSE))","v":""},"04","03","青年女子","選　手",{"$f":"'14.バレー（青年女子）'!B13","v":0},{"$f":"'14.バレー（青年女子）'!C13","v":0},{"$f":"'14.バレー（青年女子）'!D13","v":0},{"$f":"'14.バレー（青年女子）'!E13","v":"00:00:00"},{"$f":"'14.バレー（青年女子）'!F13","v":""},{"$f":"'14.バレー（青年女子）'!G13","v":0},{"$f":"'14.バレー（青年女子）'!H13","v":0}]
[110404,null,null,118,11,{"$f":"IF('0.役員名簿'!$B$7=\"\",\"\",VLOOKUP('0.役員名簿'!$B$7,'各番号（変更不可）'!$J$2:$K$41,2,FALSE))","v":""},"04","04","青年女子","選　手",{"$f":"'14.バレー（青年女子）'!B14","v":0},{"$f":"'14.バレー（青年女子）'!C14","v":0},{"$f":"'14.バレー（青年女子）'!D14","v":0},{"$f":"'14.バレー（青年女子）'!E14","v":"00:00:00"},{"$f":"'14.バレー（青年女子）'!F14","v":""},{"$f":"'14.バレー（青年女子）'!G14","v":0},{"$f":"'14.バレー（青年女子）'!H14","v":0}]
[110405,null,null,119,11,{"$f":"IF('0.役員名簿'!$B$7=\"\",\"\",VLOOKUP('0.役員名簿'!$B$7,'各番号（変更不可）'!$J$2:$K$41,2,FALSE))","v":""},"04","05","青年女子","選　手",{"$f":"'14.バレー（青年女子）'!B15","v":0},{"$f":"'14.バレー（青年女子）'!C15","v":0},{"$f":"'14.バレー（青年女子）'!D15","v":0},{"$f":"'14.バレー（青年女子）'!E15","v":"00:00:00"},{"$f":"'14.バレー（青年女子）'!F15","v":""},{"$f":"'14.バレー（青年女子）'!G15","v":0},{"$f":"'14.バレー（青年女子）'!H15","v":0}]
[110406,null,null,120,11,{"$f":"IF('0.役員名簿'!$B$7=\"\",\"\",VLOOKUP('0.役員名簿'!$B$7,'各番号（変更不可）'!$J$2:$K$41,2,FALSE))","v":""},"04","06","青年女子","選　手",{"$f":"'14.バレー（青年女子）'!B16","v":0},{"$f":"'14.バレー（青年女子）'!C16","v":0},{"$f":"'14.バレー（青年女子）'!D16","v":0},{"$f":"'14.バレー（青年女子）'!E16","v":"00:00:00"},{"$f":"'14.バレー（青年女子）'!F16","v":""},{"$f":"'14.バレー（青年女子）'!G16","v":0},{"$f":"'14.バレー（青年女子）'!H16","v":0}]
[110407,null,null,121,11,{"$f":"IF('0.役員名簿'!$B$7=\"\",\"\",VLOOKUP('0.役員名簿'!$B$7,'各番号（変更不可）'!$J$2:$K$41,2,FALSE))","v":""},"04","07","青年女子","選　手",{"$f":"'14.バレー（青年女子）'!B17","v":0},{"$f":"'14.バレー（青年女子）'!C17","v":0},{"$f":"'14.バレー（青年女子）'!D17","v":0},{"$f":"'14.バレー（青年女子）'!E17","v":"00:00:00"},{"$f":"'14.バレー（青年女子）'!F17","v":""},{"$f":"'14.バレー（青年女子）'!G17","v":0},{"$f":"'14.バレー（青年女子）'!H17","v":0}]
[110408,null,null,122,11,{"$f":"IF('0.役員名簿'!$B$7=\"\",\"\",VLOOKUP('0.役員名簿'!$B$7,'各番号（変更不可）'!$J$2:$K$41,2,FALSE))","v":""},"04","08","青年女子","選　手",{"$f":"'14.バレー（青年女子）'!B18","v":0},{"$f":"'14.バレー（青年女子）'!C18","v":0},{"$f":"'14.バレー（青年女子）'!D18","v":0},{"$f":"'14.バレー（青年女子）'!E18","v":"00:00:00"},{"$f":"'14.バレー（青年女子）'!F18","v":""},{"$f":"'14.バレー（青年女子）'!G18","v":0},{"$f":"'14.バレー（青年女子）'!H18","v":0}]
[110409,null,null,123,11,{"$f":"IF('0.役員名簿'!$B$7=\"\",\"\",VLOOKUP('0.役員名簿'!$B$7,'各番号（変更不可）'!$J$2:$K$41,2,FALSE))","v":""},"04","09","青年女子","選　手",{"$f":"'14.バレー（青年女子）'!B19","v":0},{"$f":"'14.バレー（青年女子）'!C19","v":0},{"$f":"'14.バレー（青年女子）'!D19","v":0},{"$f":"'14.バレー（青年女子）'!E19","v":"00:00:00"},{"$f":"'14.バレー（青年女子）'!F19","v":""},{"$f":"'14.バレー（青年女子）'!G19","v":0},{"$f":"'14.バレー（青年女子）'!H19","v":0}]
[110410,null,null,124,11,{"$f":"IF('0.役員名簿'!$B$7=\"\",\"\",VLOOKUP('0.役員名簿'!$B$7,'各番号（変更不可）'!$J$2:$K$41,2,FALSE))","v":""},"04","10","青年女子","選　手",{"$f":"'14.バレー（青年女子）'!B20","v":0},{"$f":"'14.バレー（青年女子）'!C20","v":0},{"$f":"'14.バレー（青年女子）'!D20","v":0},{"$f":"'14.バレー（青年女子）'!E20","v":"00:00:00"},{"$f":"'14.バレー（青年女子）'!F20","v":""},{"$f":"'14.バレー（青年女子）'!G20","v":0},{"$f":"'14.バレー（青年女子）'!H20","v":0}]
[110411,null,null,125,11,{"$f":"IF('0.役員名簿'!$B$7=\"\",\"\",VLOOKUP('0.役員名簿'!$B$7,'各番号（変更不可）'!$J$2:$K$41,2,FALSE))","v":""},"04","11","青年女子","選　手",{"$f":"'14.バレー（青年女子）'!B21","v":0},{"$f":"'14.バレー（青年女子）'!C21","v":0},{"$f":"'14.バレー（青年女子）'!D21","v":0},{"$f":"'14.バレー（青年女子）'!E21","v":"00:00:00"},{"$f":"'14.バレー（青年女子）'!F21","v":""},{"$f":"'14.バレー（青年女子）'!G21","v":0},{"$f":"'14.バレー（青年女子）'!H21","v":0}]
[110412,null,null,126,11,{"$f":"IF('0.役員名簿'!$B$7=\"\",\"\",VLOOKUP('0.役員名簿'!$B$7,'各番号（変更不可）'!$J$2:$K$41,2,FALSE))","v":""},"04","12","青年女子","選　手",{"$f":"'14.バレー（青年女子）'!B22","v":0},{"$f":"'14.バレー（青年女子）'!C22","v":0},{"$f":"'14.バレー（青年女子）'!D22","v":0},{"$f":"'14.バレー（青年女子）'!E22","v":"00:00:00"},{"$f":"'14.バレー（青年女子）'!F22","v":""},{"$f":"'14.バレー（青年女子）'!G22","v":0},{"$f":"'14.バレー（青年女子）'!H22","v":0}]
[110413,null,null,127,11,{"$f":"IF('0.役員名簿'!$B$7=\"\",\"\",VLOOKUP('0.役員名簿'!$B$7,'各番号（変更不可）'!$J$2:$K$41,2,FALSE))","v":""},"04","13","青年女子","選　手",{"$f":"'14.バレー（青年女子）'!B23","v":0},{"$f":"'14.バレー（青年女子）'!C23","v":0},{"$f":"'14.バレー（青年女子）'!D23","v":0},{"$f":"'14.バレー（青年女子）'!E23","v":"00:00:00"},{"$f":"'14.バレー（青年女子）'!F23","v":""},{"$f":"'14.バレー（青年女子）'!G23","v":0},{"$f":"'14.バレー（青年女子）'!H23","v":0}]
[110414,null,null,128,11,{"$f":"IF('0.役員名簿'!$B$7=\"\",\"\",VLOOKUP('0.役員名簿'!$B$7,'各番号（変更不可）'!$J$2:$K$41,2,FALSE))","v":""},"04","14","青年女子","選　手",{"$f":"'14.バレー（青年女子）'!B24","v":0},{"$f":"'14.バレー（青年女子）'!C24","v":0},{"$f":"'14.バレー（青年女子）'!D24","v":0},{"$f":"'14.バレー（青年女子）'!E24","v":"00:00:00"},{"$f":"'14.バレー（青年女子）'!F24","v":""},{"$f":"'14.バレー（青年女子）'!G24","v":0},{"$f":"'14.バレー（青年女子）'!H24","v":0}]
[{"$f":"VALUE(E130&F130&G130&H130)","v":110415},null,null,129,11,{"$f":"IF('0.役員名簿'!$B$7=\"\",\"\",VLOOKUP('0.役員名簿'!$B$7,'各番号（変更不可）'!$J$2:$K$41,2,FALSE))","v":""},"04","15","青年女子","選　手",{"$f":"'14.バレー（青年女子）'!B25","v":0},{"$f":"'14.バレー（青年女子）'!C25","v":0},{"$f":"'14.バレー（青年女子）'!D25","v":0},{"$f":"'14.バレー（青年女子）'!E25","v":"00:00:00"},{"$f":"'14.バレー（青年女子）'!F25","v":""},{"$f":"'14.バレー（青年女子）'!G25","v":0},{"$f":"'14.バレー（青年女子）'!H25","v":0}]
[110416,null,null,130,11,{"$f":"IF('0.役員名簿'!$B$7=\"\",\"\",VLOOKUP('0.役員名簿'!$B$7,'各番号（変更不可）'!$J$2:$K$41,2,FALSE))","v":""},"04","16","青年女子","選　手",{"$f":"'14.バレー（青年女子）'!B26","v":0},{"$f":"'14.バレー（青年女子）'!C26","v":0},{"$f":"'14.バレー（青年女子）'!D26","v":0},{"$f":"'14.バレー（青年女子）'!E26","v":"00:00:00"},{"$f":"'14.バレー（青年女子）'!F26","v":""},{"$f":"'14.バレー（青年女子）'!G26","v":0},{"$f":"'14.バレー（青年女子）'!H26","v":0}]
[110417,null,null,131,11,{"$f":"IF('0.役員名簿'!$B$7=\"\",\"\",VLOOKUP('0.役員名簿'!$B$7,'各番号（変更不可）'!$J$2:$K$41,2,FALSE))","v":""},"04","17","青年女子","コーチ",null,{"$f":"'14.バレー（青年女子）'!C27","v":0},null,{"$f":"'14.バレー（青年女子）'!E27","v":"00:00:00"},{"$f":"'14.バレー（青年女子）'!F27","v":""},{"$f":"'14.バレー（青年女子）'!G27","v":0},{"$f":"'14.バレー（青年女子）'!H27","v":0}]
[110418,null,null,132,11,{"$f":"IF('0.役員名簿'!$B$7=\"\",\"\",VLOOKUP('0.役員名簿'!$B$7,'各番号（変更不可）'!$J$2:$K$41,2,FALSE))","v":""},"04","18","青年女子","マネジャー",null,{"$f":"'14.バレー（青年女子）'!C28","v":0},null,{"$f":"'14.バレー（青年女子）'!E28","v":"00:00:00"},{"$f":"'14.バレー（青年女子）'!F28","v":""},{"$f":"'14.バレー（青年女子）'!G28","v":0},{"$f":"'14.バレー（青年女子）'!H28","v":0}]
[110501,null,null,133,11,{"$f":"IF('0.役員名簿'!$B$7=\"\",\"\",VLOOKUP('0.役員名簿'!$B$7,'各番号（変更不可）'!$J$2:$K$41,2,FALSE))","v":""},"05","01","壮年","監　督",null,{"$f":"'15.バレー（壮年女子）'!C11","v":0},null,{"$f":"'15.バレー（壮年女子）'!E11","v":"00:00:00"},{"$f":"'15.バレー（壮年女子）'!F11","v":""},{"$f":"'15.バレー（壮年女子）'!G11","v":0}]
[110502,null,null,134,11,{"$f":"IF('0.役員名簿'!$B$7=\"\",\"\",VLOOKUP('0.役員名簿'!$B$7,'各番号（変更不可）'!$J$2:$K$41,2,FALSE))","v":""},"05","02","壮年","選　手",{"$f":"'15.バレー（壮年女子）'!B12","v":0},{"$f":"'15.バレー（壮年女子）'!C12","v":0},{"$f":"'15.バレー（壮年女子）'!D12","v":0},{"$f":"'15.バレー（壮年女子）'!E12","v":"00:00:00"},{"$f":"'15.バレー（壮年女子）'!F12","v":""},{"$f":"'15.バレー（壮年女子）'!G12","v":0}]
[110503,null,null,135,11,{"$f":"IF('0.役員名簿'!$B$7=\"\",\"\",VLOOKUP('0.役員名簿'!$B$7,'各番号（変更不可）'!$J$2:$K$41,2,FALSE))","v":""},"05","03","壮年","選　手",{"$f":"'15.バレー（壮年女子）'!B13","v":0},{"$f":"'15.バレー（壮年女子）'!C13","v":0},{"$f":"'15.バレー（壮年女子）'!D13","v":0},{"$f":"'15.バレー（壮年女子）'!E13","v":"00:00:00"},{"$f":"'15.バレー（壮年女子）'!F13","v":""},{"$f":"'15.バレー（壮年女子）'!G13","v":0}]
[110504,null,null,136,11,{"$f":"IF('0.役員名簿'!$B$7=\"\",\"\",VLOOKUP('0.役員名簿'!$B$7,'各番号（変更不可）'!$J$2:$K$41,2,FALSE))","v":""},"05","04","壮年","選　手",{"$f":"'15.バレー（壮年女子）'!B14","v":0},{"$f":"'15.バレー（壮年女子）'!C14","v":0},{"$f":"'15.バレー（壮年女子）'!D14","v":0},{"$f":"'15.バレー（壮年女子）'!E14","v":"00:00:00"},{"$f":"'15.バレー（壮年女子）'!F14","v":""},{"$f":"'15.バレー（壮年女子）'!G14","v":0}]
[110505,null,null,137,11,{"$f":"IF('0.役員名簿'!$B$7=\"\",\"\",VLOOKUP('0.役員名簿'!$B$7,'各番号（変更不可）'!$J$2:$K$41,2,FALSE))","v":""},"05","05","壮年","選　手",{"$f":"'15.バレー（壮年女子）'!B15","v":0},{"$f":"'15.バレー（壮年女子）'!C15","v":0},{"$f":"'15.バレー（壮年女子）'!D15","v":0},{"$f":"'15.バレー（壮年女子）'!E15","v":"00:00:00"},{"$f":"'15.バレー（壮年女子）'!F15","v":""},{"$f":"'15.バレー（壮年女子）'!G15","v":0}]
[110506,null,null,138,11,{"$f":"IF('0.役員名簿'!$B$7=\"\",\"\",VLOOKUP('0.役員名簿'!$B$7,'各番号（変更不可）'!$J$2:$K$41,2,FALSE))","v":""},"05","06","壮年","選　手",{"$f":"'15.バレー（壮年女子）'!B16","v":0},{"$f":"'15.バレー（壮年女子）'!C16","v":0},{"$f":"'15.バレー（壮年女子）'!D16","v":0},{"$f":"'15.バレー（壮年女子）'!E16","v":"00:00:00"},{"$f":"'15.バレー（壮年女子）'!F16","v":""},{"$f":"'15.バレー（壮年女子）'!G16","v":0}]
[110507,null,null,139,11,{"$f":"IF('0.役員名簿'!$B$7=\"\",\"\",VLOOKUP('0.役員名簿'!$B$7,'各番号（変更不可）'!$J$2:$K$41,2,FALSE))","v":""},"05","07","壮年","選　手",{"$f":"'15.バレー（壮年女子）'!B17","v":0},{"$f":"'15.バレー（壮年女子）'!C17","v":0},{"$f":"'15.バレー（壮年女子）'!D17","v":0},{"$f":"'15.バレー（壮年女子）'!E17","v":"00:00:00"},{"$f":"'15.バレー（壮年女子）'!F17","v":""},{"$f":"'15.バレー（壮年女子）'!G17","v":0}]
[110508,null,null,140,11,{"$f":"IF('0.役員名簿'!$B$7=\"\",\"\",VLOOKUP('0.役員名簿'!$B$7,'各番号（変更不可）'!$J$2:$K$41,2,FALSE))","v":""},"05","08","壮年","選　手",{"$f":"'15.バレー（壮年女子）'!B18","v":0},{"$f":"'15.バレー（壮年女子）'!C18","v":0},{"$f":"'15.バレー（壮年女子）'!D18","v":0},{"$f":"'15.バレー（壮年女子）'!E18","v":"00:00:00"},{"$f":"'15.バレー（壮年女子）'!F18","v":""},{"$f":"'15.バレー（壮年女子）'!G18","v":0}]
[110509,null,null,141,11,{"$f":"IF('0.役員名簿'!$B$7=\"\",\"\",VLOOKUP('0.役員名簿'!$B$7,'各番号（変更不可）'!$J$2:$K$41,2,FALSE))","v":""},"05","09","壮年","選　手",{"$f":"'15.バレー（壮年女子）'!B19","v":0},{"$f":"'15.バレー（壮年女子）'!C19","v":0},{"$f":"'15.バレー（壮年女子）'!D19","v":0},{"$f":"'15.バレー（壮年女子）'!E19","v":"00:00:00"},{"$f":"'15.バレー（壮年女子）'!F19","v":""},{"$f":"'15.バレー（壮年女子）'!G19","v":0}]
[110510,null,null,142,11,{"$f":"IF('0.役員名簿'!$B$7=\"\",\"\",VLOOKUP('0.役員名簿'!$B$7,'各番号（変更不可）'!$J$2:$K$41,2,FALSE))","v":""},"05","10","壮年","選　手",{"$f":"'15.バレー（壮年女子）'!B20","v":0},{"$f":"'15.バレー（壮年女子）'!C20","v":0},{"$f":"'15.バレー（壮年女子）'!D20","v":0},{"$f":"'15.バレー（壮年女子）'!E20","v":"00:00:00"},{"$f":"'15.バレー（壮年女子）'!F20","v":""},{"$f":"'15.バレー（壮年女子）'!G20","v":0}]
[110511,null,null,143,11,{"$f":"IF('0.役員名簿'!$B$7=\"\",\"\",VLOOKUP('0.役員名簿'!$B$7,'各番号（変更不可）'!$J$2:$K$41,2,FALSE))","v":""},"05","11","壮年","選　手",{"$f":"'15.バレー（壮年女子）'!B21","v":0},{"$f":"'15.バレー（壮年女子）'!C21","v":0},{"$f":"'15.バレー（壮年女子）'!D21","v":0},{"$f":"'15.バレー（壮年女子）'!E21","v":"00:00:00"},{"$f":"'15.バレー（壮年女子）'!F21","v":""},{"$f":"'15.バレー（壮年女子）'!G21","v":0}]
[110512,null,null,144,11,{"$f":"IF('0.役員名簿'!$B$7=\"\",\"\",VLOOKUP('0.役員名簿'!$B$7,'各番号（変更不可）'!$J$2:$K$41,2,FALSE))","v":""},"05","12","壮年","選　手",{"$f":"'15.バレー（壮年女子）'!B22","v":0},{"$f":"'15.バレー（壮年女子）'!C22","v":0},{"$f":"'15.バレー（壮年女子）'!D22","v":0},{"$f":"'15.バレー（壮年女子）'!E22","v":"00:00:00"},{"$f":"'15.バレー（壮年女子）'!F22","v":""},{"$f":"'15.バレー（壮年女子）'!G22","v":0}]
[110513,null,null,145,11,{"$f":"IF('0.役員名簿'!$B$7=\"\",\"\",VLOOKUP('0.役員名簿'!$B$7,'各番号（変更不可）'!$J$2:$K$41,2,FALSE))","v":""},"05","13","壮年","選　手",{"$f":"'15.バレー（壮年女子）'!B23","v":0},{"$f":"'15.バレー（壮年女子）'!C23","v":0},{"$f":"'15.バレー（壮年女子）'!D23","v":0},{"$f":"'15.バレー（壮年女子）'!E23","v":"00:00:00"},{"$f":"'15.バレー（壮年女子）'!F23","v":""},{"$f":"'15.バレー（壮年女子）'!G23","v":0}]
[110514,null,null,146,11,{"$f":"IF('0.役員名簿'!$B$7=\"\",\"\",VLOOKUP('0.役員名簿'!$B$7,'各番号（変更不可）'!$J$2:$K$41,2,FALSE))","v":""},"05","14","壮年","コーチ",null,{"$f":"'15.バレー（壮年女子）'!C24","v":0},null,{"$f":"'15.バレー（壮年女子）'!E24","v":"00:00:00"},{"$f":"'15.バレー（壮年女子）'!F24","v":""},{"$f":"'15.バレー（壮年女子）'!G24","v":0}]
[110515,null,null,147,11,{"$f":"IF('0.役員名簿'!$B$7=\"\",\"\",VLOOKUP('0.役員名簿'!$B$7,'各番号（変更不可）'!$J$2:$K$41,2,FALSE))","v":""},"05","15","壮年","マネジャー",null,{"$f":"'15.バレー（壮年女子）'!C25","v":0},null,{"$f":"'15.バレー（壮年女子）'!E25","v":"00:00:00"},{"$f":"'15.バレー（壮年女子）'!F25","v":""},{"$f":"'15.バレー（壮年女子）'!G25","v":0}]
[120101,null,null,148,12,{"$f":"IF('0.役員名簿'!$B$7=\"\",\"\",VLOOKUP('0.役員名簿'!$B$7,'各番号（変更不可）'!$J$2:$K$41,2,FALSE))","v":""},"01","01","一般","監　督",null,{"$f":"'16.ソフトテニス（一般）'!C11","v":0},null,{"$f":"'16.ソフトテニス（一般）'!D11","v":"00:00:00"},{"$f":"'16.ソフトテニス（一般）'!E11","v":""},{"$f":"'16.ソフトテニス（一般）'!F11","v":0}]
[120102,null,null,149,12,{"$f":"IF('0.役員名簿'!$B$7=\"\",\"\",VLOOKUP('0.役員名簿'!$B$7,'各番号（変更不可）'!$J$2:$K$41,2,FALSE))","v":""},"01","02","一般","男　子",null,{"$f":"'16.ソフトテニス（一般）'!C12","v":0},null,{"$f":"'16.ソフトテニス（一般）'!D12","v":"00:00:00"},{"$f":"'16.ソフトテニス（一般）'!E12","v":""},{"$f":"'16.ソフトテニス（一般）'!F12","v":0}]
[120103,null,null,150,12,{"$f":"IF('0.役員名簿'!$B$7=\"\",\"\",VLOOKUP('0.役員名簿'!$B$7,'各番号（変更不可）'!$J$2:$K$41,2,FALSE))","v":""},"01","03","一般","男　子",null,{"$f":"'16.ソフトテニス（一般）'!C13","v":0},null,{"$f":"'16.ソフトテニス（一般）'!D13","v":"00:00:00"},{"$f":"'16.ソフトテニス（一般）'!E13","v":""},{"$f":"'16.ソフトテニス（一般）'!F13","v":0}]
[120104,null,null,151,12,{"$f":"IF('0.役員名簿'!$B$7=\"\",\"\",VLOOKUP('0.役員名簿'!$B$7,'各番号（変更不可）'!$J$2:$K$41,2,FALSE))","v":""},"01","04","一般","男　子",null,{"$f":"'16.ソフトテニス（一般）'!C14","v":0},null,{"$f":"'16.ソフトテニス（一般）'!D14","v":"00:00:00"},{"$f":"'16.ソフトテニス（一般）'!E14","v":""},{"$f":"'16.ソフトテニス（一般）'!F14","v":0}]
[120105,null,null,152,12,{"$f":"IF('0.役員名簿'!$B$7=\"\",\"\",VLOOKUP('0.役員名簿'!$B$7,'各番号（変更不可）'!$J$2:$K$41,2,FALSE))","v":""},"01","05","一般","男　子",null,{"$f":"'16.ソフトテニス（一般）'!C15","v":0},null,{"$f":"'16.ソフトテニス（一般）'!D15","v":"00:00:00"},{"$f":"'16.ソフトテニス（一般）'!E15","v":""},{"$f":"'16.ソフトテニス（一般）'!F15","v":0}]
[120106,null,null,153,12,{"$f":"IF('0.役員名簿'!$B$7=\"\",\"\",VLOOKUP('0.役員名簿'!$B$7,'各番号（変更不可）'!$J$2:$K$41,2,FALSE))","v":""},"01","06","一般","女　子",null,{"$f":"'16.ソフトテニス（一般）'!C16","v":0},null,{"$f":"'16.ソフトテニス（一般）'!D16","v":"00:00:00"},{"$f":"'16.ソフトテニス（一般）'!E16","v":""},{"$f":"'16.ソフトテニス（一般）'!F16","v":0}]
[120107,null,null,154,12,{"$f":"IF('0.役員名簿'!$B$7=\"\",\"\",VLOOKUP('0.役員名簿'!$B$7,'各番号（変更不可）'!$J$2:$K$41,2,FALSE))","v":""},"01","07","一般","女　子",null,{"$f":"'16.ソフトテニス（一般）'!C17","v":0},null,{"$f":"'16.ソフトテニス（一般）'!D17","v":"00:00:00"},{"$f":"'16.ソフトテニス（一般）'!E17","v":""},{"$f":"'16.ソフトテニス（一般）'!F17","v":0}]
[120108,null,null,155,12,{"$f":"IF('0.役員名簿'!$B$7=\"\",\"\",VLOOKUP('0.役員名簿'!$B$7,'各番号（変更不可）'!$J$2:$K$41,2,FALSE))","v":""},"01","08","一般","交代選手",null,{"$f":"'16.ソフトテニス（一般）'!C18","v":0},null,{"$f":"'16.ソフトテニス（一般）'!D18","v":"00:00:00"},{"$f":"'16.ソフトテニス（一般）'!E18","v":""},{"$f":"'16.ソフトテニス（一般）'!F18","v":0}]
[120109,null,null,156,12,{"$f":"IF('0.役員名簿'!$B$7=\"\",\"\",VLOOKUP('0.役員名簿'!$B$7,'各番号（変更不可）'!$J$2:$K$41,2,FALSE))","v":""},"01","09","一般","交代選手",null,{"$f":"'16.ソフトテニス（一般）'!C19","v":0},null,{"$f":"'16.ソフトテニス（一般）'!D19","v":"00:00:00"},{"$f":"'16.ソフトテニス（一般）'!E19","v":""},{"$f":"'16.ソフトテニス（一般）'!F19","v":0}]
[120201,null,null,157,12,{"$f":"IF('0.役員名簿'!$B$7=\"\",\"\",VLOOKUP('0.役員名簿'!$B$7,'各番号（変更不可）'!$J$2:$K$41,2,FALSE))","v":""},"02","01","壮年","監　督",null,{"$f":"'17.ソフトテニス（壮年）'!C11","v":0},null,{"$f":"'17.ソフトテニス（壮年）'!D11","v":"00:00:00"},{"$f":"'17.ソフトテニス（壮年）'!E11","v":""},{"$f":"'17.ソフトテニス（壮年）'!F11","v":0}]
[120202,null,null,158,12,{"$f":"IF('0.役員名簿'!$B$7=\"\",\"\",VLOOKUP('0.役員名簿'!$B$7,'各番号（変更不可）'!$J$2:$K$41,2,FALSE))","v":""},"02","02","壮年","男子\n４５",null,{"$f":"'17.ソフトテニス（壮年）'!C12","v":0},null,{"$f":"'17.ソフトテニス（壮年）'!D12","v":"00:00:00"},{"$f":"'17.ソフトテニス（壮年）'!E12","v":""},{"$f":"'17.ソフトテニス（壮年）'!F12","v":0}]
[120203,null,null,159,12,{"$f":"IF('0.役員名簿'!$B$7=\"\",\"\",VLOOKUP('0.役員名簿'!$B$7,'各番号（変更不可）'!$J$2:$K$41,2,FALSE))","v":""},"02","03","壮年","男子\n４５",null,{"$f":"'17.ソフトテニス（壮年）'!C13","v":0},null,{"$f":"'17.ソフトテニス（壮年）'!D13","v":"00:00:00"},{"$f":"'17.ソフトテニス（壮年）'!E13","v":""},{"$f":"'17.ソフトテニス（壮年）'!F13","v":0}]
[120204,null,null,160,12,{"$f":"IF('0.役員名簿'!$B$7=\"\",\"\",VLOOKUP('0.役員名簿'!$B$7,'各番号（変更不可）'!$J$2:$K$41,2,FALSE))","v":""},"02","04","壮年","女子\n４５",null,{"$f":"'17.ソフトテニス（壮年）'!C14","v":0},null,{"$f":"'17.ソフトテニス（壮年）'!D14","v":"00:00:00"},{"$f":"'17.ソフトテニス（壮年）'!E14","v":""},{"$f":"'17.ソフトテニス（壮年）'!F14","v":0}]
[120205,null,null,161,12,{"$f":"IF('0.役員名簿'!$B$7=\"\",\"\",VLOOKUP('0.役員名簿'!$B$7,'各番号（変更不可）'!$J$2:$K$41,2,FALSE))","v":""},"02","05","壮年","女子\n４５",null,{"$f":"'17.ソフトテニス（壮年）'!C15","v":0},null,{"$f":"'17.ソフトテニス（壮年）'!D15","v":"00:00:00"},{"$f":"'17.ソフトテニス（壮年）'!E15","v":""},{"$f":"'17.ソフトテニス（壮年）'!F15","v":0}]
[120206,null,null,162,12,{"$f":"IF('0.役員名簿'!$B$7=\"\",\"\",VLOOKUP('0.役員名簿'!$B$7,'各番号（変更不可）'!$J$2:$K$41,2,FALSE))","v":""},"02","06","壮年","男子\n５５",null,{"$f":"'17.ソフトテニス（壮年）'!C16","v":0},null,{"$f":"'17.ソフトテニス（壮年）'!D16","v":"00:00:00"},{"$f":"'17.ソフトテニス（壮年）'!E16","v":""},{"$f":"'17.ソフトテニス（壮年）'!F16","v":0}]
[120207,null,null,163,12,{"$f":"IF('0.役員名簿'!$B$7=\"\",\"\",VLOOKUP('0.役員名簿'!$B$7,'各番号（変更不可）'!$J$2:$K$41,2,FALSE))","v":""},"02","07","壮年","男子\n５５",null,{"$f":"'17.ソフトテニス（壮年）'!C17","v":0},null,{"$f":"'17.ソフトテニス（壮年）'!D17","v":"00:00:00"},{"$f":"'17.ソフトテニス（壮年）'!E17","v":""},{"$f":"'17.ソフトテニス（壮年）'!F17","v":0}]
[120208,null,null,164,12,{"$f":"IF('0.役員名簿'!$B$7=\"\",\"\",VLOOKUP('0.役員名簿'!$B$7,'各番号（変更不可）'!$J$2:$K$41,2,FALSE))","v":""},"02","08","壮年","交代選手",null,{"$f":"'17.ソフトテニス（壮年）'!C18","v":0},null,{"$f":"'17.ソフトテニス（壮年）'!D18","v":"00:00:00"},{"$f":"'17.ソフトテニス（壮年）'!E18","v":""},{"$f":"'17.ソフトテニス（壮年）'!F18","v":0}]
[120209,null,null,165,12,{"$f":"IF('0.役員名簿'!$B$7=\"\",\"\",VLOOKUP('0.役員名簿'!$B$7,'各番号（変更不可）'!$J$2:$K$41,2,FALSE))","v":""},"02","09","壮年","交代選手",null,{"$f":"'17.ソフトテニス（壮年）'!C19","v":0},null,{"$f":"'17.ソフトテニス（壮年）'!D19","v":"00:00:00"},{"$f":"'17.ソフトテニス（壮年）'!E19","v":""},{"$f":"'17.ソフトテニス（壮年）'!F19","v":0}]
[130101,null,null,166,13,{"$f":"IF('0.役員名簿'!$B$7=\"\",\"\",VLOOKUP('0.役員名簿'!$B$7,'各番号（変更不可）'!$J$2:$K$41,2,FALSE))","v":""},"01","01","一般","監　督",null,{"$f":"'18.卓球（一般）'!C11","v":0},{"$f":"'18.卓球（一般）'!D11","v":0},{"$f":"'18.卓球（一般）'!E11","v":"00:00:00"},{"$f":"'18.卓球（一般）'!F11","v":""},{"$f":"'18.卓球（一般）'!G11","v":0}]
[130102,null,null,167,13,{"$f":"IF('0.役員名簿'!$B$7=\"\",\"\",VLOOKUP('0.役員名簿'!$B$7,'各番号（変更不可）'!$J$2:$K$41,2,FALSE))","v":""},"01","02","一般","選　手",null,{"$f":"'18.卓球（一般）'!C12","v":0},{"$f":"'18.卓球（一般）'!D12","v":0},{"$f":"'18.卓球（一般）'!E12","v":"00:00:00"},{"$f":"'18.卓球（一般）'!F12","v":""},{"$f":"'18.卓球（一般）'!G12","v":0}]
[130103,null,null,168,13,{"$f":"IF('0.役員名簿'!$B$7=\"\",\"\",VLOOKUP('0.役員名簿'!$B$7,'各番号（変更不可）'!$J$2:$K$41,2,FALSE))","v":""},"01","03","一般","選　手",null,{"$f":"'18.卓球（一般）'!C13","v":0},{"$f":"'18.卓球（一般）'!D13","v":0},{"$f":"'18.卓球（一般）'!E13","v":"00:00:00"},{"$f":"'18.卓球（一般）'!F13","v":""},{"$f":"'18.卓球（一般）'!G13","v":0}]
[130104,null,null,169,13,{"$f":"IF('0.役員名簿'!$B$7=\"\",\"\",VLOOKUP('0.役員名簿'!$B$7,'各番号（変更不可）'!$J$2:$K$41,2,FALSE))","v":""},"01","04","一般","選　手",null,{"$f":"'18.卓球（一般）'!C14","v":0},{"$f":"'18.卓球（一般）'!D14","v":0},{"$f":"'18.卓球（一般）'!E14","v":"00:00:00"},{"$f":"'18.卓球（一般）'!F14","v":""},{"$f":"'18.卓球（一般）'!G14","v":0}]
[130105,null,null,170,13,{"$f":"IF('0.役員名簿'!$B$7=\"\",\"\",VLOOKUP('0.役員名簿'!$B$7,'各番号（変更不可）'!$J$2:$K$41,2,FALSE))","v":""},"01","05","一般","選　手",null,{"$f":"'18.卓球（一般）'!C15","v":0},{"$f":"'18.卓球（一般）'!D15","v":0},{"$f":"'18.卓球（一般）'!E15","v":"00:00:00"},{"$f":"'18.卓球（一般）'!F15","v":""},{"$f":"'18.卓球（一般）'!G15","v":0}]
[130106,null,null,171,13,{"$f":"IF('0.役員名簿'!$B$7=\"\",\"\",VLOOKUP('0.役員名簿'!$B$7,'各番号（変更不可）'!$J$2:$K$41,2,FALSE))","v":""},"01","06","一般","選　手",null,{"$f":"'18.卓球（一般）'!C16","v":0},{"$f":"'18.卓球（一般）'!D16","v":0},{"$f":"'18.卓球（一般）'!E16","v":"00:00:00"},{"$f":"'18.卓球（一般）'!F16","v":""},{"$f":"'18.卓球（一般）'!G16","v":0}]
[130107,null,null,172,13,{"$f":"IF('0.役員名簿'!$B$7=\"\",\"\",VLOOKUP('0.役員名簿'!$B$7,'各番号（変更不可）'!$J$2:$K$41,2,FALSE))","v":""},"01","07","一般","選　手",null,{"$f":"'18.卓球（一般）'!C17","v":0},{"$f":"'18.卓球（一般）'!D17","v":0},{"$f":"'18.卓球（一般）'!E17","v":"00:00:00"},{"$f":"'18.卓球（一般）'!F17","v":""},{"$f":"'18.卓球（一般）'!G17","v":0}]
[130201,null,null,173,13,{"$f":"IF('0.役員名簿'!$B$7=\"\",\"\",VLOOKUP('0.役員名簿'!$B$7,'各番号（変更不可）'!$J$2:$K$41,2,FALSE))","v":""},"02","01","青年","監　督",null,{"$f":"'19.卓球（青年）'!C11","v":0},{"$f":"'19.卓球（青年）'!D11","v":0},{"$f":"'19.卓球（青年）'!E11","v":"00:00:00"},{"$f":"'19.卓球（青年）'!F11","v":""},{"$f":"'19.卓球（青年）'!G11","v":0},{"$f":"'19.卓球（青年）'!H11","v":0}]
[130202,null,null,174,13,{"$f":"IF('0.役員名簿'!$B$7=\"\",\"\",VLOOKUP('0.役員名簿'!$B$7,'各番号（変更不可）'!$J$2:$K$41,2,FALSE))","v":""},"02","02","青年","選　手",null,{"$f":"'19.卓球（青年）'!C12","v":0},{"$f":"'19.卓球（青年）'!D12","v":0},{"$f":"'19.卓球（青年）'!E12","v":"00:00:00"},{"$f":"'19.卓球（青年）'!F12","v":""},{"$f":"'19.卓球（青年）'!G12","v":0},{"$f":"'19.卓球（青年）'!H12","v":0}]
[130203,null,null,175,13,{"$f":"IF('0.役員名簿'!$B$7=\"\",\"\",VLOOKUP('0.役員名簿'!$B$7,'各番号（変更不可）'!$J$2:$K$41,2,FALSE))","v":""},"02","03","青年","選　手",null,{"$f":"'19.卓球（青年）'!C13","v":0},{"$f":"'19.卓球（青年）'!D13","v":0},{"$f":"'19.卓球（青年）'!E13","v":"00:00:00"},{"$f":"'19.卓球（青年）'!F13","v":""},{"$f":"'19.卓球（青年）'!G13","v":0},{"$f":"'19.卓球（青年）'!H13","v":0}]
[130204,null,null,176,13,{"$f":"IF('0.役員名簿'!$B$7=\"\",\"\",VLOOKUP('0.役員名簿'!$B$7,'各番号（変更不可）'!$J$2:$K$41,2,FALSE))","v":""},"02","04","青年","選　手",null,{"$f":"'19.卓球（青年）'!C14","v":0},{"$f":"'19.卓球（青年）'!D14","v":0},{"$f":"'19.卓球（青年）'!E14","v":"00:00:00"},{"$f":"'19.卓球（青年）'!F14","v":""},{"$f":"'19.卓球（青年）'!G14","v":0},{"$f":"'19.卓球（青年）'!H14","v":0}]
[130205,null,null,177,13,{"$f":"IF('0.役員名簿'!$B$7=\"\",\"\",VLOOKUP('0.役員名簿'!$B$7,'各番号（変更不可）'!$J$2:$K$41,2,FALSE))","v":""},"02","05","青年","選　手",null,{"$f":"'19.卓球（青年）'!C15","v":0},{"$f":"'19.卓球（青年）'!D15","v":0},{"$f":"'19.卓球（青年）'!E15","v":"00:00:00"},{"$f":"'19.卓球（青年）'!F15","v":""},{"$f":"'19.卓球（青年）'!G15","v":0},{"$f":"'19.卓球（青年）'!H15","v":0}]
[130206,null,null,178,13,{"$f":"IF('0.役員名簿'!$B$7=\"\",\"\",VLOOKUP('0.役員名簿'!$B$7,'各番号（変更不可）'!$J$2:$K$41,2,FALSE))","v":""},"02","06","青年","選　手",null,{"$f":"'19.卓球（青年）'!C16","v":0},{"$f":"'19.卓球（青年）'!D16","v":0},{"$f":"'19.卓球（青年）'!E16","v":"00:00:00"},{"$f":"'19.卓球（青年）'!F16","v":""},{"$f":"'19.卓球（青年）'!G16","v":0},{"$f":"'19.卓球（青年）'!H16","v":0}]
[130207,null,null,179,13,{"$f":"IF('0.役員名簿'!$B$7=\"\",\"\",VLOOKUP('0.役員名簿'!$B$7,'各番号（変更不可）'!$J$2:$K$41,2,FALSE))","v":""},"02","07","青年","選　手",null,{"$f":"'19.卓球（青年）'!C17","v":0},{"$f":"'19.卓球（青年）'!D17","v":0},{"$f":"'19.卓球（青年）'!E17","v":"00:00:00"},{"$f":"'19.卓球（青年）'!F17","v":""},{"$f":"'19.卓球（青年）'!G17","v":0},{"$f":"'19.卓球（青年）'!H17","v":0}]
[130301,null,null,180,13,{"$f":"IF('0.役員名簿'!$B$7=\"\",\"\",VLOOKUP('0.役員名簿'!$B$7,'各番号（変更不可）'!$J$2:$K$41,2,FALSE))","v":""},"03","01","壮年","監　督",null,{"$f":"'20.卓球（壮年）'!C11","v":0},{"$f":"'20.卓球（壮年）'!D11","v":0},{"$f":"'20.卓球（壮年）'!E11","v":"00:00:00"},{"$f":"'20.卓球（壮年）'!F11","v":""},{"$f":"'20.卓球（壮年）'!G11","v":0}]
[130302,null,null,181,13,{"$f":"IF('0.役員名簿'!$B$7=\"\",\"\",VLOOKUP('0.役員名簿'!$B$7,'各番号（変更不可）'!$J$2:$K$41,2,FALSE))","v":""},"03","02","壮年","選　手",null,{"$f":"'20.卓球（壮年）'!C12","v":0},{"$f":"'20.卓球（壮年）'!D12","v":0},{"$f":"'20.卓球（壮年）'!E12","v":"00:00:00"},{"$f":"'20.卓球（壮年）'!F12","v":""},{"$f":"'20.卓球（壮年）'!G12","v":0}]
[130303,null,null,182,13,{"$f":"IF('0.役員名簿'!$B$7=\"\",\"\",VLOOKUP('0.役員名簿'!$B$7,'各番号（変更不可）'!$J$2:$K$41,2,FALSE))","v":""},"03","03","壮年","選　手",null,{"$f":"'20.卓球（壮年）'!C13","v":0},{"$f":"'20.卓球（壮年）'!D13","v":0},{"$f":"'20.卓球（壮年）'!E13","v":"00:00:00"},{"$f":"'20.卓球（壮年）'!F13","v":""},{"$f":"'20.卓球（壮年）'!G13","v":0}]
[130304,null,null,183,13,{"$f":"IF('0.役員名簿'!$B$7=\"\",\"\",VLOOKUP('0.役員名簿'!$B$7,'各番号（変更不可）'!$J$2:$K$41,2,FALSE))","v":""},"03","04","壮年","選　手",null,{"$f":"'20.卓球（壮年）'!C14","v":0},{"$f":"'20.卓球（壮年）'!D14","v":0},{"$f":"'20.卓球（壮年）'!E14","v":"00:00:00"},{"$f":"'20.卓球（壮年）'!F14","v":""},{"$f":"'20.卓球（壮年）'!G14","v":0}]
[130305,null,null,184,13,{"$f":"IF('0.役員名簿'!$B$7=\"\",\"\",VLOOKUP('0.役員名簿'!$B$7,'各番号（変更不可）'!$J$2:$K$41,2,FALSE))","v":""},"03","05","壮年","選　手",null,{"$f":"'20.卓球（壮年）'!C15","v":0},{"$f":"'20.卓球（壮年）'!D15","v":0},{"$f":"'20.卓球（壮年）'!E15","v":"00:00:00"},{"$f":"'20.卓球（壮年）'!F15","v":""},{"$f":"'20.卓球（壮年）'!G15","v":0}]
[130306,null,null,185,13,{"$f":"IF('0.役員名簿'!$B$7=\"\",\"\",VLOOKUP('0.役員名簿'!$B$7,'各番号（変更不可）'!$J$2:$K$41,2,FALSE))","v":""},"03","06","壮年","選　手",null,{"$f":"'20.卓球（壮年）'!C16","v":0},{"$f":"'20.卓球（壮年）'!D16","v":0},{"$f":"'20.卓球（壮年）'!E16","v":"00:00:00"},{"$f":"'20.卓球（壮年）'!F16","v":""},{"$f":"'20.卓球（壮年）'!G16","v":0}]
[130307,null,null,186,13,{"$f":"IF('0.役員名簿'!$B$7=\"\",\"\",VLOOKUP('0.役員名簿'!$B$7,'各番号（変更不可）'!$J$2:$K$41,2,FALSE))","v":""},"03","07","壮年","選　手",null,{"$f":"'20.卓球（壮年）'!C17","v":0},{"$f":"'20.卓球（壮年）'!D17","v":0},{"$f":"'20.卓球（壮年）'!E17","v":"00:00:00"},{"$f":"'20.卓球（壮年）'!F17","v":""},{"$f":"'20.卓球（壮年）'!G17","v":0}]
[130308,null,null,187,13,{"$f":"IF('0.役員名簿'!$B$7=\"\",\"\",VLOOKUP('0.役員名簿'!$B$7,'各番号（変更不可）'!$J$2:$K$41,2,FALSE))","v":""},"03","08","壮年","選　手",null,{"$f":"'20.卓球（壮年）'!C18","v":0},{"$f":"'20.卓球（壮年）'!D18","v":0},{"$f":"'20.卓球（壮年）'!E18","v":"00:00:00"},{"$f":"'20.卓球（壮年）'!F18","v":""},{"$f":"'20.卓球（壮年）'!G18","v":0}]
[130309,null,null,188,13,{"$f":"IF('0.役員名簿'!$B$7=\"\",\"\",VLOOKUP('0.役員名簿'!$B$7,'各番号（変更不可）'!$J$2:$K$41,2,FALSE))","v":""},"03","09","壮年","選　手",null,{"$f":"'20.卓球（壮年）'!C19","v":0},{"$f":"'20.卓球（壮年）'!D19","v":0},{"$f":"'20.卓球（壮年）'!E19","v":"00:00:00"},{"$f":"'20.卓球（壮年）'!F19","v":""},{"$f":"'20.卓球（壮年）'!G19","v":0}]
[140101,null,null,189,14,{"$f":"IF('0.役員名簿'!$B$7=\"\",\"\",VLOOKUP('0.役員名簿'!$B$7,'各番号（変更不可）'!$J$2:$K$41,2,FALSE))","v":""},"01","01","一般男子","監　督",null,{"$f":"'21.バド（一般男子）'!C11","v":0},null,{"$f":"'21.バド（一般男子）'!D11","v":"00:00:00"},{"$f":"'21.バド（一般男子）'!E11","v":""},{"$f":"'21.バド（一般男子）'!F11","v":0},{"$f":"'21.バド（一般男子）'!G11","v":0}]
[140102,null,null,190,14,{"$f":"IF('0.役員名簿'!$B$7=\"\",\"\",VLOOKUP('0.役員名簿'!$B$7,'各番号（変更不可）'!$J$2:$K$41,2,FALSE))","v":""},"01","02","一般男子","選　手",null,{"$f":"'21.バド（一般男子）'!C12","v":0},null,{"$f":"'21.バド（一般男子）'!D12","v":"00:00:00"},{"$f":"'21.バド（一般男子）'!E12","v":""},{"$f":"'21.バド（一般男子）'!F12","v":0},{"$f":"'21.バド（一般男子）'!G12","v":0}]
[140103,null,null,191,14,{"$f":"IF('0.役員名簿'!$B$7=\"\",\"\",VLOOKUP('0.役員名簿'!$B$7,'各番号（変更不可）'!$J$2:$K$41,2,FALSE))","v":""},"01","03","一般男子","選　手",null,{"$f":"'21.バド（一般男子）'!C13","v":0},null,{"$f":"'21.バド（一般男子）'!D13","v":"00:00:00"},{"$f":"'21.バド（一般男子）'!E13","v":""},{"$f":"'21.バド（一般男子）'!F13","v":0},{"$f":"'21.バド（一般男子）'!G13","v":0}]
[140104,null,null,192,14,{"$f":"IF('0.役員名簿'!$B$7=\"\",\"\",VLOOKUP('0.役員名簿'!$B$7,'各番号（変更不可）'!$J$2:$K$41,2,FALSE))","v":""},"01","04","一般男子","選　手",null,{"$f":"'21.バド（一般男子）'!C14","v":0},null,{"$f":"'21.バド（一般男子）'!D14","v":"00:00:00"},{"$f":"'21.バド（一般男子）'!E14","v":""},{"$f":"'21.バド（一般男子）'!F14","v":0},{"$f":"'21.バド（一般男子）'!G14","v":0}]
[{"$f":"VALUE(E194&F194&G194&H194)","v":140105},null,null,193,14,{"$f":"IF('0.役員名簿'!$B$7=\"\",\"\",VLOOKUP('0.役員名簿'!$B$7,'各番号（変更不可）'!$J$2:$K$41,2,FALSE))","v":""},"01","05","一般男子","選　手",null,{"$f":"'21.バド（一般男子）'!C15","v":0},null,{"$f":"'21.バド（一般男子）'!D15","v":"00:00:00"},{"$f":"'21.バド（一般男子）'!E15","v":""},{"$f":"'21.バド（一般男子）'!F15","v":0},{"$f":"'21.バド（一般男子）'!G15","v":0}]
[140106,null,null,194,14,{"$f":"IF('0.役員名簿'!$B$7=\"\",\"\",VLOOKUP('0.役員名簿'!$B$7,'各番号（変更不可）'!$J$2:$K$41,2,FALSE))","v":""},"01","06","一般男子","選　手",null,{"$f":"'21.バド（一般男子）'!C16","v":0},null,{"$f":"'21.バド（一般男子）'!D16","v":"00:00:00"},{"$f":"'21.バド（一般男子）'!E16","v":""},{"$f":"'21.バド（一般男子）'!F16","v":0},{"$f":"'21.バド（一般男子）'!G16","v":0}]
[140107,null,null,195,14,{"$f":"IF('0.役員名簿'!$B$7=\"\",\"\",VLOOKUP('0.役員名簿'!$B$7,'各番号（変更不可）'!$J$2:$K$41,2,FALSE))","v":""},"01","07","一般男子","選　手",null,{"$f":"'21.バド（一般男子）'!C17","v":0},null,{"$f":"'21.バド（一般男子）'!D17","v":"00:00:00"},{"$f":"'21.バド（一般男子）'!E17","v":""},{"$f":"'21.バド（一般男子）'!F17","v":0},{"$f":"'21.バド（一般男子）'!G17","v":0}]
[140201,null,null,196,14,{"$f":"IF('0.役員名簿'!$B$7=\"\",\"\",VLOOKUP('0.役員名簿'!$B$7,'各番号（変更不可）'!$J$2:$K$41,2,FALSE))","v":""},"02","01","一般女子","監　督",null,{"$f":"'22.バド（一般女子）'!C11","v":0},null,{"$f":"'22.バド（一般女子）'!D11","v":"00:00:00"},{"$f":"'22.バド（一般女子）'!E11","v":""},{"$f":"'22.バド（一般女子）'!F11","v":0},{"$f":"'22.バド（一般女子）'!G11","v":0}]
[140202,null,null,197,14,{"$f":"IF('0.役員名簿'!$B$7=\"\",\"\",VLOOKUP('0.役員名簿'!$B$7,'各番号（変更不可）'!$J$2:$K$41,2,FALSE))","v":""},"02","02","一般女子","選　手",null,{"$f":"'22.バド（一般女子）'!C12","v":0},null,{"$f":"'22.バド（一般女子）'!D12","v":"00:00:00"},{"$f":"'22.バド（一般女子）'!E12","v":""},{"$f":"'22.バド（一般女子）'!F12","v":0},{"$f":"'22.バド（一般女子）'!G12","v":0}]
[140203,null,null,198,14,{"$f":"IF('0.役員名簿'!$B$7=\"\",\"\",VLOOKUP('0.役員名簿'!$B$7,'各番号（変更不可）'!$J$2:$K$41,2,FALSE))","v":""},"02","03","一般女子","選　手",null,{"$f":"'22.バド（一般女子）'!C13","v":0},null,{"$f":"'22.バド（一般女子）'!D13","v":"00:00:00"},{"$f":"'22.バド（一般女子）'!E13","v":""},{"$f":"'22.バド（一般女子）'!F13","v":0},{"$f":"'22.バド（一般女子）'!G13","v":0}]
[140204,null,null,199,14,{"$f":"IF('0.役員名簿'!$B$7=\"\",\"\",VLOOKUP('0.役員名簿'!$B$7,'各番号（変更不可）'!$J$2:$K$41,2,FALSE))","v":""},"02","04","一般女子","選　手",null,{"$f":"'22.バド（一般女子）'!C14","v":0},null,{"$f":"'22.バド（一般女子）'!D14","v":"00:00:00"},{"$f":"'22.バド（一般女子）'!E14","v":""},{"$f":"'22.バド（一般女子）'!F14","v":0},{"$f":"'22.バド（一般女子）'!G14","v":0}]
[140205,null,null,200,14,{"$f":"IF('0.役員名簿'!$B$7=\"\",\"\",VLOOKUP('0.役員名簿'!$B$7,'各番号（変更不可）'!$J$2:$K$41,2,FALSE))","v":""},"02","05","一般女子","選　手",null,{"$f":"'22.バド（一般女子）'!C15","v":0},null,{"$f":"'22.バド（一般女子）'!D15","v":"00:00:00"},{"$f":"'22.バド（一般女子）'!E15","v":""},{"$f":"'22.バド（一般女子）'!F15","v":0},{"$f":"'22.バド（一般女子）'!G15","v":0}]
[140206,null,null,201,14,{"$f":"IF('0.役員名簿'!$B$7=\"\",\"\",VLOOKUP('0.役員名簿'!$B$7,'各番号（変更不可）'!$J$2:$K$41,2,FALSE))","v":""},"02","06","一般女子","選　手",null,{"$f":"'22.バド（一般女子）'!C16","v":0},null,{"$f":"'22.バド（一般女子）'!D16","v":"00:00:00"},{"$f":"'22.バド（一般女子）'!E16","v":""},{"$f":"'22.バド（一般女子）'!F16","v":0},{"$f":"'22.バド（一般女子）'!G16","v":0}]
[140207,null,null,202,14,{"$f":"IF('0.役員名簿'!$B$7=\"\",\"\",VLOOKUP('0.役員名簿'!$B$7,'各番号（変更不可）'!$J$2:$K$41,2,FALSE))","v":""},"02","07","一般女子","選　手",null,{"$f":"'22.バド（一般女子）'!C17","v":0},null,{"$f":"'22.バド（一般女子）'!D17","v":"00:00:00"},{"$f":"'22.バド（一般女子）'!E17","v":""},{"$f":"'22.バド（一般女子）'!F17","v":0},{"$f":"'22.バド（一般女子）'!G17","v":0}]
[140208,null,null,203,14,{"$f":"IF('0.役員名簿'!$B$7=\"\",\"\",VLOOKUP('0.役員名簿'!$B$7,'各番号（変更不可）'!$J$2:$K$41,2,FALSE))","v":""},"02","08","一般女子","選　手",null,{"$f":"'22.バド（一般女子）'!C18","v":0},null,{"$f":"'22.バド（一般女子）'!D18","v":"00:00:00"},{"$f":"'22.バド（一般女子）'!E18","v":""},{"$f":"'22.バド（一般女子）'!F18","v":0},{"$f":"'22.バド（一般女子）'!G18","v":0}]
[140301,null,null,204,14,{"$f":"IF('0.役員名簿'!$B$7=\"\",\"\",VLOOKUP('0.役員名簿'!$B$7,'各番号（変更不可）'!$J$2:$K$41,2,FALSE))","v":""},"03","01","青年","監　督",null,{"$f":"'23.バド（青年）'!C11","v":0},null,{"$f":"'23.バド（青年）'!D11","v":"00:00:00"},{"$f":"'23.バド（青年）'!E11","v":""},{"$f":"'23.バド（青年）'!F11","v":0},{"$f":"'23.バド（青年）'!G11","v":0}]
[140302,null,null,205,14,{"$f":"IF('0.役員名簿'!$B$7=\"\",\"\",VLOOKUP('0.役員名簿'!$B$7,'各番号（変更不可）'!$J$2:$K$41,2,FALSE))","v":""},"03","02","青年","選　手",{"$f":"'23.バド（青年）'!B12","v":"男子"},{"$f":"'23.バド（青年）'!C12","v":0},null,{"$f":"'23.バド（青年）'!D12","v":"00:00:00"},{"$f":"'23.バド（青年）'!E12","v":""},{"$f":"'23.バド（青年）'!F12","v":0},{"$f":"'23.バド（青年）'!G12","v":0}]
[140303,null,null,206,14,{"$f":"IF('0.役員名簿'!$B$7=\"\",\"\",VLOOKUP('0.役員名簿'!$B$7,'各番号（変更不可）'!$J$2:$K$41,2,FALSE))","v":""},"03","03","青年","選　手",{"$f":"'23.バド（青年）'!B13","v":"男子"},{"$f":"'23.バド（青年）'!C13","v":0},null,{"$f":"'23.バド（青年）'!D13","v":"00:00:00"},{"$f":"'23.バド（青年）'!E13","v":""},{"$f":"'23.バド（青年）'!F13","v":0},{"$f":"'23.バド（青年）'!G13","v":0}]
[140304,null,null,207,14,{"$f":"IF('0.役員名簿'!$B$7=\"\",\"\",VLOOKUP('0.役員名簿'!$B$7,'各番号（変更不可）'!$J$2:$K$41,2,FALSE))","v":""},"03","04","青年","選　手",{"$f":"'23.バド（青年）'!B14","v":"男子"},{"$f":"'23.バド（青年）'!C14","v":0},null,{"$f":"'23.バド（青年）'!D14","v":"00:00:00"},{"$f":"'23.バド（青年）'!E14","v":""},{"$f":"'23.バド（青年）'!F14","v":0},{"$f":"'23.バド（青年）'!G14","v":0}]
[140305,null,null,208,14,{"$f":"IF('0.役員名簿'!$B$7=\"\",\"\",VLOOKUP('0.役員名簿'!$B$7,'各番号（変更不可）'!$J$2:$K$41,2,FALSE))","v":""},"03","05","青年","選　手",{"$f":"'23.バド（青年）'!B15","v":"女子"},{"$f":"'23.バド（青年）'!C15","v":0},null,{"$f":"'23.バド（青年）'!D15","v":"00:00:00"},{"$f":"'23.バド（青年）'!E15","v":""},{"$f":"'23.バド（青年）'!F15","v":0},{"$f":"'23.バド（青年）'!G15","v":0}]
[140306,null,null,209,14,{"$f":"IF('0.役員名簿'!$B$7=\"\",\"\",VLOOKUP('0.役員名簿'!$B$7,'各番号（変更不可）'!$J$2:$K$41,2,FALSE))","v":""},"03","06","青年","選　手",{"$f":"'23.バド（青年）'!B16","v":"女子"},{"$f":"'23.バド（青年）'!C16","v":0},null,{"$f":"'23.バド（青年）'!D16","v":"00:00:00"},{"$f":"'23.バド（青年）'!E16","v":""},{"$f":"'23.バド（青年）'!F16","v":0},{"$f":"'23.バド（青年）'!G16","v":0}]
[140307,null,null,210,14,{"$f":"IF('0.役員名簿'!$B$7=\"\",\"\",VLOOKUP('0.役員名簿'!$B$7,'各番号（変更不可）'!$J$2:$K$41,2,FALSE))","v":""},"03","07","青年","選　手",{"$f":"'23.バド（青年）'!B17","v":"女子"},{"$f":"'23.バド（青年）'!C17","v":0},null,{"$f":"'23.バド（青年）'!D17","v":"00:00:00"},{"$f":"'23.バド（青年）'!E17","v":""},{"$f":"'23.バド（青年）'!F17","v":0},{"$f":"'23.バド（青年）'!G17","v":0}]
[140401,null,null,211,14,{"$f":"IF('0.役員名簿'!$B$7=\"\",\"\",VLOOKUP('0.役員名簿'!$B$7,'各番号（変更不可）'!$J$2:$K$41,2,FALSE))","v":""},"04","01","壮年男子","監　督",null,{"$f":"'24.バド（壮年男子）'!C11","v":0},null,{"$f":"'24.バド（壮年男子）'!D11","v":"00:00:00"},{"$f":"'24.バド（壮年男子）'!E11","v":""},{"$f":"'24.バド（壮年男子）'!F11","v":0}]
[140402,null,null,212,14,{"$f":"IF('0.役員名簿'!$B$7=\"\",\"\",VLOOKUP('0.役員名簿'!$B$7,'各番号（変更不可）'!$J$2:$K$41,2,FALSE))","v":""},"04","02","壮年男子","選　手",null,{"$f":"'24.バド（壮年男子）'!C12","v":0},null,{"$f":"'24.バド（壮年男子）'!D12","v":"00:00:00"},{"$f":"'24.バド（壮年男子）'!E12","v":""},{"$f":"'24.バド（壮年男子）'!F12","v":0}]
[140403,null,null,213,14,{"$f":"IF('0.役員名簿'!$B$7=\"\",\"\",VLOOKUP('0.役員名簿'!$B$7,'各番号（変更不可）'!$J$2:$K$41,2,FALSE))","v":""},"04","03","壮年男子","選　手",null,{"$f":"'24.バド（壮年男子）'!C13","v":0},null,{"$f":"'24.バド（壮年男子）'!D13","v":"00:00:00"},{"$f":"'24.バド（壮年男子）'!E13","v":""},{"$f":"'24.バド（壮年男子）'!F13","v":0}]
[140404,null,null,214,14,{"$f":"IF('0.役員名簿'!$B$7=\"\",\"\",VLOOKUP('0.役員名簿'!$B$7,'各番号（変更不可）'!$J$2:$K$41,2,FALSE))","v":""},"04","04","壮年男子","選　手",null,{"$f":"'24.バド（壮年男子）'!C14","v":0},null,{"$f":"'24.バド（壮年男子）'!D14","v":"00:00:00"},{"$f":"'24.バド（壮年男子）'!E14","v":""},{"$f":"'24.バド（壮年男子）'!F14","v":0}]
[140405,null,null,215,14,{"$f":"IF('0.役員名簿'!$B$7=\"\",\"\",VLOOKUP('0.役員名簿'!$B$7,'各番号（変更不可）'!$J$2:$K$41,2,FALSE))","v":""},"04","05","壮年男子","選　手",null,{"$f":"'24.バド（壮年男子）'!C15","v":0},null,{"$f":"'24.バド（壮年男子）'!D15","v":"00:00:00"},{"$f":"'24.バド（壮年男子）'!E15","v":""},{"$f":"'24.バド（壮年男子）'!F15","v":0}]
[140406,null,null,216,14,{"$f":"IF('0.役員名簿'!$B$7=\"\",\"\",VLOOKUP('0.役員名簿'!$B$7,'各番号（変更不可）'!$J$2:$K$41,2,FALSE))","v":""},"04","06","壮年男子","選　手",null,{"$f":"'24.バド（壮年男子）'!C16","v":0},null,{"$f":"'24.バド（壮年男子）'!D16","v":"00:00:00"},{"$f":"'24.バド（壮年男子）'!E16","v":""},{"$f":"'24.バド（壮年男子）'!F16","v":0}]
[140407,null,null,217,14,{"$f":"IF('0.役員名簿'!$B$7=\"\",\"\",VLOOKUP('0.役員名簿'!$B$7,'各番号（変更不可）'!$J$2:$K$41,2,FALSE))","v":""},"04","07","壮年男子","選　手",null,{"$f":"'24.バド（壮年男子）'!C17","v":0},null,{"$f":"'24.バド（壮年男子）'!D17","v":"00:00:00"},{"$f":"'24.バド（壮年男子）'!E17","v":""},{"$f":"'24.バド（壮年男子）'!F17","v":0}]
[140408,null,null,218,14,{"$f":"IF('0.役員名簿'!$B$7=\"\",\"\",VLOOKUP('0.役員名簿'!$B$7,'各番号（変更不可）'!$J$2:$K$41,2,FALSE))","v":""},"04","08","壮年男子","選　手",null,{"$f":"'24.バド（壮年男子）'!C18","v":0},null,{"$f":"'24.バド（壮年男子）'!D18","v":"00:00:00"},{"$f":"'24.バド（壮年男子）'!E18","v":""},{"$f":"'24.バド（壮年男子）'!F18","v":0}]
[140501,null,null,219,14,{"$f":"IF('0.役員名簿'!$B$7=\"\",\"\",VLOOKUP('0.役員名簿'!$B$7,'各番号（変更不可）'!$J$2:$K$41,2,FALSE))","v":""},"05","01","壮年女子","監　督",null,{"$f":"'25.バド（壮年女子）'!C11","v":0},null,{"$f":"'25.バド（壮年女子）'!D11","v":"00:00:00"},{"$f":"'25.バド（壮年女子）'!E11","v":""},{"$f":"'25.バド（壮年女子）'!F11","v":0}]
[140502,null,null,220,14,{"$f":"IF('0.役員名簿'!$B$7=\"\",\"\",VLOOKUP('0.役員名簿'!$B$7,'各番号（変更不可）'!$J$2:$K$41,2,FALSE))","v":""},"05","02","壮年女子","選　手",null,{"$f":"'25.バド（壮年女子）'!C12","v":0},null,{"$f":"'25.バド（壮年女子）'!D12","v":"00:00:00"},{"$f":"'25.バド（壮年女子）'!E12","v":""},{"$f":"'25.バド（壮年女子）'!F12","v":0}]
[140503,null,null,221,14,{"$f":"IF('0.役員名簿'!$B$7=\"\",\"\",VLOOKUP('0.役員名簿'!$B$7,'各番号（変更不可）'!$J$2:$K$41,2,FALSE))","v":""},"05","03","壮年女子","選　手",null,{"$f":"'25.バド（壮年女子）'!C13","v":0},null,{"$f":"'25.バド（壮年女子）'!D13","v":"00:00:00"},{"$f":"'25.バド（壮年女子）'!E13","v":""},{"$f":"'25.バド（壮年女子）'!F13","v":0}]
[140504,null,null,222,14,{"$f":"IF('0.役員名簿'!$B$7=\"\",\"\",VLOOKUP('0.役員名簿'!$B$7,'各番号（変更不可）'!$J$2:$K$41,2,FALSE))","v":""},"05","04","壮年女子","選　手",null,{"$f":"'25.バド（壮年女子）'!C14","v":0},null,{"$f":"'25.バド（壮年女子）'!D14","v":"00:00:00"},{"$f":"'25.バド（壮年女子）'!E14","v":""},{"$f":"'25.バド（壮年女子）'!F14","v":0}]
[140505,null,null,223,14,{"$f":"IF('0.役員名簿'!$B$7=\"\",\"\",VLOOKUP('0.役員名簿'!$B$7,'各番号（変更不可）'!$J$2:$K$41,2,FALSE))","v":""},"05","05","壮年女子","選　手",null,{"$f":"'25.バド（壮年女子）'!C15","v":0},null,{"$f":"'25.バド（壮年女子）'!D15","v":"00:00:00"},{"$f":"'25.バド（壮年女子）'!E15","v":""},{"$f":"'25.バド（壮年女子）'!F15","v":0}]
[140506,null,null,224,14,{"$f":"IF('0.役員名簿'!$B$7=\"\",\"\",VLOOKUP('0.役員名簿'!$B$7,'各番号（変更不可）'!$J$2:$K$41,2,FALSE))","v":""},"05","06","壮年女子","選　手",null,{"$f":"'25.バド（壮年女子）'!C16","v":0},null,{"$f":"'25.バド（壮年女子）'!D16","v":"00:00:00"},{"$f":"'25.バド（壮年女子）'!E16","v":""},{"$f":"'25.バド（壮年女子）'!F16","v":0}]
[140507,null,null,225,14,{"$f":"IF('0.役員名簿'!$B$7=\"\",\"\",VLOOKUP('0.役員名簿'!$B$7,'各番号（変更不可）'!$J$2:$K$41,2,FALSE))","v":""},"05","07","壮年女子","選　手",null,{"$f":"'25.バド（壮年女子）'!C17","v":0},null,{"$f":"'25.バド（壮年女子）'!D17","v":"00:00:00"},{"$f":"'25.バド（壮年女子）'!E17","v":""},{"$f":"'25.バド（壮年女子）'!F17","v":0}]
[140508,null,null,226,14,{"$f":"IF('0.役員名簿'!$B$7=\"\",\"\",VLOOKUP('0.役員名簿'!$B$7,'各番号（変更不可）'!$J$2:$K$41,2,FALSE))","v":""},"05","08","壮年女子","選　手",null,{"$f":"'25.バド（壮年女子）'!C18","v":0},null,{"$f":"'25.バド（壮年女子）'!D18","v":"00:00:00"},{"$f":"'25.バド（壮年女子）'!E18","v":""},{"$f":"'25.バド（壮年女子）'!F18","v":0}]
[140601,null,null,227,14,{"$f":"IF('0.役員名簿'!$B$7=\"\",\"\",VLOOKUP('0.役員名簿'!$B$7,'各番号（変更不可）'!$J$2:$K$41,2,FALSE))","v":""},"06","01","壮年混成","監　督",null,{"$f":"'26.バド（混成）'!C11","v":0},null,{"$f":"'26.バド（混成）'!D11","v":"00:00:00"},{"$f":"'26.バド（混成）'!E11","v":""},{"$f":"'26.バド（混成）'!F11","v":0}]
[140602,null,null,228,14,{"$f":"IF('0.役員名簿'!$B$7=\"\",\"\",VLOOKUP('0.役員名簿'!$B$7,'各番号（変更不可）'!$J$2:$K$41,2,FALSE))","v":""},"06","02","壮年混成","選　手",{"$f":"'26.バド（混成）'!B12","v":"男子"},{"$f":"'26.バド（混成）'!C12","v":0},null,{"$f":"'26.バド（混成）'!D12","v":"00:00:00"},{"$f":"'26.バド（混成）'!E12","v":""},{"$f":"'26.バド（混成）'!F12","v":0}]
[140603,null,null,229,14,{"$f":"IF('0.役員名簿'!$B$7=\"\",\"\",VLOOKUP('0.役員名簿'!$B$7,'各番号（変更不可）'!$J$2:$K$41,2,FALSE))","v":""},"06","03","壮年混成","選　手",{"$f":"'26.バド（混成）'!B13","v":"男子"},{"$f":"'26.バド（混成）'!C13","v":0},null,{"$f":"'26.バド（混成）'!D13","v":"00:00:00"},{"$f":"'26.バド（混成）'!E13","v":""},{"$f":"'26.バド（混成）'!F13","v":0}]
[140604,null,null,230,14,{"$f":"IF('0.役員名簿'!$B$7=\"\",\"\",VLOOKUP('0.役員名簿'!$B$7,'各番号（変更不可）'!$J$2:$K$41,2,FALSE))","v":""},"06","04","壮年混成","選　手",{"$f":"'26.バド（混成）'!B14","v":"男子"},{"$f":"'26.バド（混成）'!C14","v":0},null,{"$f":"'26.バド（混成）'!D14","v":"00:00:00"},{"$f":"'26.バド（混成）'!E14","v":""},{"$f":"'26.バド（混成）'!F14","v":0}]
[140605,null,null,231,14,{"$f":"IF('0.役員名簿'!$B$7=\"\",\"\",VLOOKUP('0.役員名簿'!$B$7,'各番号（変更不可）'!$J$2:$K$41,2,FALSE))","v":""},"06","05","壮年混成","選　手",{"$f":"'26.バド（混成）'!B15","v":"女子"},{"$f":"'26.バド（混成）'!C15","v":0},null,{"$f":"'26.バド（混成）'!D15","v":"00:00:00"},{"$f":"'26.バド（混成）'!E15","v":""},{"$f":"'26.バド（混成）'!F15","v":0}]
[140606,null,null,232,14,{"$f":"IF('0.役員名簿'!$B$7=\"\",\"\",VLOOKUP('0.役員名簿'!$B$7,'各番号（変更不可）'!$J$2:$K$41,2,FALSE))","v":""},"06","06","壮年混成","選　手",{"$f":"'26.バド（混成）'!B16","v":"女子"},{"$f":"'26.バド（混成）'!C16","v":0},null,{"$f":"'26.バド（混成）'!D16","v":"00:00:00"},{"$f":"'26.バド（混成）'!E16","v":""},{"$f":"'26.バド（混成）'!F16","v":0}]
[140607,null,null,233,14,{"$f":"IF('0.役員名簿'!$B$7=\"\",\"\",VLOOKUP('0.役員名簿'!$B$7,'各番号（変更不可）'!$J$2:$K$41,2,FALSE))","v":""},"06","07","壮年混成","選　手",{"$f":"'26.バド（混成）'!B17","v":"女子"},{"$f":"'26.バド（混成）'!C17","v":0},null,{"$f":"'26.バド（混成）'!D17","v":"00:00:00"},{"$f":"'26.バド（混成）'!E17","v":""},{"$f":"'26.バド（混成）'!F17","v":0}]
[150101,null,null,234,15,{"$f":"IF('0.役員名簿'!$B$7=\"\",\"\",VLOOKUP('0.役員名簿'!$B$7,'各番号（変更不可）'!$J$2:$K$41,2,FALSE))","v":""},"01","01","一般","監　　督",null,{"$f":"'27.柔道（一般男子）'!C11","v":0},null,{"$f":"'27.柔道（一般男子）'!D11","v":"00:00:00"},{"$f":"'27.柔道（一般男子）'!E11","v":""},{"$f":"'27.柔道（一般男子）'!F11","v":0},{"$f":"'27.柔道（一般男子）'!G11","v":0},{"$f":"'27.柔道（一般男子）'!H11","v":0}]
[150102,null,null,235,15,{"$f":"IF('0.役員名簿'!$B$7=\"\",\"\",VLOOKUP('0.役員名簿'!$B$7,'各番号（変更不可）'!$J$2:$K$41,2,FALSE))","v":""},"01","02","一般","先鋒",{"$f":"'27.柔道（一般男子）'!B12","v":0},{"$f":"'27.柔道（一般男子）'!C12","v":0},null,{"$f":"'27.柔道（一般男子）'!D12","v":"00:00:00"},{"$f":"'27.柔道（一般男子）'!E12","v":""},{"$f":"'27.柔道（一般男子）'!F12","v":0},{"$f":"'27.柔道（一般男子）'!G12","v":0},{"$f":"'27.柔道（一般男子）'!H12","v":0}]
[150103,null,null,236,15,{"$f":"IF('0.役員名簿'!$B$7=\"\",\"\",VLOOKUP('0.役員名簿'!$B$7,'各番号（変更不可）'!$J$2:$K$41,2,FALSE))","v":""},"01","03","一般","四将",{"$f":"'27.柔道（一般男子）'!B13","v":0},{"$f":"'27.柔道（一般男子）'!C13","v":0},null,{"$f":"'27.柔道（一般男子）'!D13","v":"00:00:00"},{"$f":"'27.柔道（一般男子）'!E13","v":""},{"$f":"'27.柔道（一般男子）'!F13","v":0},{"$f":"'27.柔道（一般男子）'!G13","v":0},{"$f":"'27.柔道（一般男子）'!H13","v":0}]
[150104,null,null,237,15,{"$f":"IF('0.役員名簿'!$B$7=\"\",\"\",VLOOKUP('0.役員名簿'!$B$7,'各番号（変更不可）'!$J$2:$K$41,2,FALSE))","v":""},"01","04","一般","中堅",{"$f":"'27.柔道（一般男子）'!B14","v":0},{"$f":"'27.柔道（一般男子）'!C14","v":0},null,{"$f":"'27.柔道（一般男子）'!D14","v":"00:00:00"},{"$f":"'27.柔道（一般男子）'!E14","v":""},{"$f":"'27.柔道（一般男子）'!F14","v":0},{"$f":"'27.柔道（一般男子）'!G14","v":0},{"$f":"'27.柔道（一般男子）'!H14","v":0}]
[150105,null,null,238,15,{"$f":"IF('0.役員名簿'!$B$7=\"\",\"\",VLOOKUP('0.役員名簿'!$B$7,'各番号（変更不可）'!$J$2:$K$41,2,FALSE))","v":""},"01","05","一般","副将",{"$f":"'27.柔道（一般男子）'!B15","v":0},{"$f":"'27.柔道（一般男子）'!C15","v":0},null,{"$f":"'27.柔道（一般男子）'!D15","v":"00:00:00"},{"$f":"'27.柔道（一般男子）'!E15","v":""},{"$f":"'27.柔道（一般男子）'!F15","v":0},{"$f":"'27.柔道（一般男子）'!G15","v":0},{"$f":"'27.柔道（一般男子）'!H15","v":0}]
[150106,null,null,239,15,{"$f":"IF('0.役員名簿'!$B$7=\"\",\"\",VLOOKUP('0.役員名簿'!$B$7,'各番号（変更不可）'!$J$2:$K$41,2,FALSE))","v":""},"01","06","一般","大将",{"$f":"'27.柔道（一般男子）'!B16","v":0},{"$f":"'27.柔道（一般男子）'!C16","v":0},null,{"$f":"'27.柔道（一般男子）'!D16","v":"00:00:00"},{"$f":"'27.柔道（一般男子）'!E16","v":""},{"$f":"'27.柔道（一般男子）'!F16","v":0},{"$f":"'27.柔道（一般男子）'!G16","v":0},{"$f":"'27.柔道（一般男子）'!H16","v":0}]
[150201,null,null,240,15,{"$f":"IF('0.役員名簿'!$B$7=\"\",\"\",VLOOKUP('0.役員名簿'!$B$7,'各番号（変更不可）'!$J$2:$K$41,2,FALSE))","v":""},"02","01","青年","監　督",null,{"$f":"'28.柔道（青年男子）'!C11","v":0},null,{"$f":"'28.柔道（青年男子）'!D11","v":"00:00:00"},{"$f":"'28.柔道（青年男子）'!E11","v":""},{"$f":"'28.柔道（青年男子）'!F11","v":0},{"$f":"'28.柔道（青年男子）'!G11","v":0},{"$f":"'28.柔道（青年男子）'!H11","v":0},{"$f":"'28.柔道（青年男子）'!I11","v":0}]
[150202,null,null,241,15,{"$f":"IF('0.役員名簿'!$B$7=\"\",\"\",VLOOKUP('0.役員名簿'!$B$7,'各番号（変更不可）'!$J$2:$K$41,2,FALSE))","v":""},"02","02","青年","先　鋒\n(73kg以下)",null,{"$f":"'28.柔道（青年男子）'!C12","v":0},null,{"$f":"'28.柔道（青年男子）'!D12","v":"00:00:00"},{"$f":"'28.柔道（青年男子）'!E12","v":""},{"$f":"'28.柔道（青年男子）'!F12","v":0},{"$f":"'28.柔道（青年男子）'!G12","v":0},{"$f":"'28.柔道（青年男子）'!H12","v":0},{"$f":"'28.柔道（青年男子）'!I12","v":0}]
[150203,null,null,242,15,{"$f":"IF('0.役員名簿'!$B$7=\"\",\"\",VLOOKUP('0.役員名簿'!$B$7,'各番号（変更不可）'!$J$2:$K$41,2,FALSE))","v":""},"02","03","青年","四　将\n(90kg以下)",null,{"$f":"'28.柔道（青年男子）'!C13","v":0},null,{"$f":"'28.柔道（青年男子）'!D13","v":"00:00:00"},{"$f":"'28.柔道（青年男子）'!E13","v":""},{"$f":"'28.柔道（青年男子）'!F13","v":0},{"$f":"'28.柔道（青年男子）'!G13","v":0},{"$f":"'28.柔道（青年男子）'!H13","v":0},{"$f":"'28.柔道（青年男子）'!I13","v":0}]
[150204,null,null,243,15,{"$f":"IF('0.役員名簿'!$B$7=\"\",\"\",VLOOKUP('0.役員名簿'!$B$7,'各番号（変更不可）'!$J$2:$K$41,2,FALSE))","v":""},"02","04","青年","中　堅\n(90kg以下)",null,{"$f":"'28.柔道（青年男子）'!C14","v":0},null,{"$f":"'28.柔道（青年男子）'!D14","v":"00:00:00"},{"$f":"'28.柔道（青年男子）'!E14","v":""},{"$f":"'28.柔道（青年男子）'!F14","v":0},{"$f":"'28.柔道（青年男子）'!G14","v":0},{"$f":"'28.柔道（青年男子）'!H14","v":0},{"$f":"'28.柔道（青年男子）'!I14","v":0}]
[150205,null,null,244,15,{"$f":"IF('0.役員名簿'!$B$7=\"\",\"\",VLOOKUP('0.役員名簿'!$B$7,'各番号（変更不可）'!$J$2:$K$41,2,FALSE))","v":""},"02","05","青年","副　将\n(無差別)",null,{"$f":"'28.柔道（青年男子）'!C15","v":0},null,{"$f":"'28.柔道（青年男子）'!D15","v":"00:00:00"},{"$f":"'28.柔道（青年男子）'!E15","v":""},{"$f":"'28.柔道（青年男子）'!F15","v":0},{"$f":"'28.柔道（青年男子）'!G15","v":0},{"$f":"'28.柔道（青年男子）'!H15","v":0},{"$f":"'28.柔道（青年男子）'!I15","v":0}]
[150206,null,null,245,15,{"$f":"IF('0.役員名簿'!$B$7=\"\",\"\",VLOOKUP('0.役員名簿'!$B$7,'各番号（変更不可）'!$J$2:$K$41,2,FALSE))","v":""},"02","06","青年","大　将\n(無差別)",null,{"$f":"'28.柔道（青年男子）'!C16","v":0},null,{"$f":"'28.柔道（青年男子）'!D16","v":"00:00:00"},{"$f":"'28.柔道（青年男子）'!E16","v":""},{"$f":"'28.柔道（青年男子）'!F16","v":0},{"$f":"'28.柔道（青年男子）'!G16","v":0},{"$f":"'28.柔道（青年男子）'!H16","v":0},{"$f":"'28.柔道（青年男子）'!I16","v":0}]
[160101,null,null,246,16,{"$f":"IF('0.役員名簿'!$B$7=\"\",\"\",VLOOKUP('0.役員名簿'!$B$7,'各番号（変更不可）'!$J$2:$K$41,2,FALSE))","v":""},"01","01","一般男子","監督",null,{"$f":"'29.剣道（一般男子） '!C11","v":0},null,{"$f":"'29.剣道（一般男子） '!D11","v":"00:00:00"},{"$f":"'29.剣道（一般男子） '!E11","v":""},{"$f":"'29.剣道（一般男子） '!F11","v":0}]
[160102,null,null,247,16,{"$f":"IF('0.役員名簿'!$B$7=\"\",\"\",VLOOKUP('0.役員名簿'!$B$7,'各番号（変更不可）'!$J$2:$K$41,2,FALSE))","v":""},"01","02","一般男子","先鋒",{"$f":"'29.剣道（一般男子） '!B12","v":"25歳以下"},{"$f":"'29.剣道（一般男子） '!C12","v":0},null,{"$f":"'29.剣道（一般男子） '!D12","v":"00:00:00"},{"$f":"'29.剣道（一般男子） '!E12","v":""},{"$f":"'29.剣道（一般男子） '!F12","v":0}]
[160103,null,null,248,16,{"$f":"IF('0.役員名簿'!$B$7=\"\",\"\",VLOOKUP('0.役員名簿'!$B$7,'各番号（変更不可）'!$J$2:$K$41,2,FALSE))","v":""},"01","03","一般男子","次峰",{"$f":"'29.剣道（一般男子） '!B13","v":"26歳以上\n35歳以下"},{"$f":"'29.剣道（一般男子） '!C13","v":0},null,{"$f":"'29.剣道（一般男子） '!D13","v":"00:00:00"},{"$f":"'29.剣道（一般男子） '!E13","v":""},{"$f":"'29.剣道（一般男子） '!F13","v":0}]
[160104,null,null,249,16,{"$f":"IF('0.役員名簿'!$B$7=\"\",\"\",VLOOKUP('0.役員名簿'!$B$7,'各番号（変更不可）'!$J$2:$K$41,2,FALSE))","v":""},"01","04","一般男子","中堅",{"$f":"'29.剣道（一般男子） '!B14","v":"36歳以上\n45歳以下"},{"$f":"'29.剣道（一般男子） '!C14","v":0},null,{"$f":"'29.剣道（一般男子） '!D14","v":"00:00:00"},{"$f":"'29.剣道（一般男子） '!E14","v":""},{"$f":"'29.剣道（一般男子） '!F14","v":0}]
[160105,null,null,250,16,{"$f":"IF('0.役員名簿'!$B$7=\"\",\"\",VLOOKUP('0.役員名簿'!$B$7,'各番号（変更不可）'!$J$2:$K$41,2,FALSE))","v":""},"01","05","一般男子","副将",{"$f":"'29.剣道（一般男子） '!B15","v":"46歳以上\n54歳以下"},{"$f":"'29.剣道（一般男子） '!C15","v":0},null,{"$f":"'29.剣道（一般男子） '!D15","v":"00:00:00"},{"$f":"'29.剣道（一般男子） '!E15","v":""},{"$f":"'29.剣道（一般男子） '!F15","v":0}]
[160106,null,null,251,16,{"$f":"IF('0.役員名簿'!$B$7=\"\",\"\",VLOOKUP('0.役員名簿'!$B$7,'各番号（変更不可）'!$J$2:$K$41,2,FALSE))","v":""},"01","06","一般男子","大将",{"$f":"'29.剣道（一般男子） '!B16","v":"55歳以上"},{"$f":"'29.剣道（一般男子） '!C16","v":0},null,{"$f":"'29.剣道（一般男子） '!D16","v":"00:00:00"},{"$f":"'29.剣道（一般男子） '!E16","v":""},{"$f":"'29.剣道（一般男子） '!F16","v":0}]
[160201,null,null,252,16,{"$f":"IF('0.役員名簿'!$B$7=\"\",\"\",VLOOKUP('0.役員名簿'!$B$7,'各番号（変更不可）'!$J$2:$K$41,2,FALSE))","v":""},"02","01","一般女子","監　督",null,{"$f":"'30.剣道（一般女子）'!C11","v":0},null,{"$f":"'30.剣道（一般女子）'!D11","v":"00:00:00"},{"$f":"'30.剣道（一般女子）'!E11","v":""},{"$f":"'30.剣道（一般女子）'!F11","v":0}]
[160202,null,null,253,16,{"$f":"IF('0.役員名簿'!$B$7=\"\",\"\",VLOOKUP('0.役員名簿'!$B$7,'各番号（変更不可）'!$J$2:$K$41,2,FALSE))","v":""},"02","02","一般女子","先　鋒",null,{"$f":"'30.剣道（一般女子）'!C12","v":0},null,{"$f":"'30.剣道（一般女子）'!D12","v":"00:00:00"},{"$f":"'30.剣道（一般女子）'!E12","v":""},{"$f":"'30.剣道（一般女子）'!F12","v":0}]
[160203,null,null,254,16,{"$f":"IF('0.役員名簿'!$B$7=\"\",\"\",VLOOKUP('0.役員名簿'!$B$7,'各番号（変更不可）'!$J$2:$K$41,2,FALSE))","v":""},"02","03","一般女子","中　堅",null,{"$f":"'30.剣道（一般女子）'!C13","v":0},null,{"$f":"'30.剣道（一般女子）'!D13","v":"00:00:00"},{"$f":"'30.剣道（一般女子）'!E13","v":""},{"$f":"'30.剣道（一般女子）'!F13","v":0}]
[160204,null,null,255,16,{"$f":"IF('0.役員名簿'!$B$7=\"\",\"\",VLOOKUP('0.役員名簿'!$B$7,'各番号（変更不可）'!$J$2:$K$41,2,FALSE))","v":""},"02","04","一般女子","大　将\n(40歳以上)",null,{"$f":"'30.剣道（一般女子）'!C14","v":0},null,{"$f":"'30.剣道（一般女子）'!D14","v":"00:00:00"},{"$f":"'30.剣道（一般女子）'!E14","v":""},{"$f":"'30.剣道（一般女子）'!F14","v":0}]
[160301,null,null,256,16,{"$f":"IF('0.役員名簿'!$B$7=\"\",\"\",VLOOKUP('0.役員名簿'!$B$7,'各番号（変更不可）'!$J$2:$K$41,2,FALSE))","v":""},"03","01","青年男子","監　督",null,{"$f":"'31.剣道（青年男子）'!C11","v":0},null,{"$f":"'31.剣道（青年男子）'!D11","v":"00:00:00"},{"$f":"'31.剣道（青年男子）'!E11","v":""},{"$f":"'31.剣道（青年男子）'!F11","v":0},{"$f":"'31.剣道（青年男子）'!G11","v":0}]
[{"$f":"VALUE(E258&F258&G258&H258)","v":160302},null,null,257,16,{"$f":"IF('0.役員名簿'!$B$7=\"\",\"\",VLOOKUP('0.役員名簿'!$B$7,'各番号（変更不可）'!$J$2:$K$41,2,FALSE))","v":""},"03","02","青年男子","先　鋒",null,{"$f":"'31.剣道（青年男子）'!C12","v":0},null,{"$f":"'31.剣道（青年男子）'!D12","v":"00:00:00"},{"$f":"'31.剣道（青年男子）'!E12","v":""},{"$f":"'31.剣道（青年男子）'!F12","v":0},{"$f":"'31.剣道（青年男子）'!G12","v":0}]
[160303,null,null,258,16,{"$f":"IF('0.役員名簿'!$B$7=\"\",\"\",VLOOKUP('0.役員名簿'!$B$7,'各番号（変更不可）'!$J$2:$K$41,2,FALSE))","v":""},"03","03","青年男子","次　鋒",null,{"$f":"'31.剣道（青年男子）'!C13","v":0},null,{"$f":"'31.剣道（青年男子）'!D13","v":"00:00:00"},{"$f":"'31.剣道（青年男子）'!E13","v":""},{"$f":"'31.剣道（青年男子）'!F13","v":0},{"$f":"'31.剣道（青年男子）'!G13","v":0}]
[160304,null,null,259,16,{"$f":"IF('0.役員名簿'!$B$7=\"\",\"\",VLOOKUP('0.役員名簿'!$B$7,'各番号（変更不可）'!$J$2:$K$41,2,FALSE))","v":""},"03","04","青年男子","中　堅",null,{"$f":"'31.剣道（青年男子）'!C14","v":0},null,{"$f":"'31.剣道（青年男子）'!D14","v":"00:00:00"},{"$f":"'31.剣道（青年男子）'!E14","v":""},{"$f":"'31.剣道（青年男子）'!F14","v":0},{"$f":"'31.剣道（青年男子）'!G14","v":0}]
[160305,null,null,260,16,{"$f":"IF('0.役員名簿'!$B$7=\"\",\"\",VLOOKUP('0.役員名簿'!$B$7,'各番号（変更不可）'!$J$2:$K$41,2,FALSE))","v":""},"03","05","青年男子","副　将",null,{"$f":"'31.剣道（青年男子）'!C15","v":0},null,{"$f":"'31.剣道（青年男子）'!D15","v":"00:00:00"},{"$f":"'31.剣道（青年男子）'!E15","v":""},{"$f":"'31.剣道（青年男子）'!F15","v":0},{"$f":"'31.剣道（青年男子）'!G15","v":0}]
[160306,null,null,261,16,{"$f":"IF('0.役員名簿'!$B$7=\"\",\"\",VLOOKUP('0.役員名簿'!$B$7,'各番号（変更不可）'!$J$2:$K$41,2,FALSE))","v":""},"03","06","青年男子","大　将\n(30歳代)",null,{"$f":"'31.剣道（青年男子）'!C16","v":0},null,{"$f":"'31.剣道（青年男子）'!D16","v":"00:00:00"},{"$f":"'31.剣道（青年男子）'!E16","v":""},{"$f":"'31.剣道（青年男子）'!F16","v":0},{"$f":"'31.剣道（青年男子）'!G16","v":0}]
[160401,null,null,262,16,{"$f":"IF('0.役員名簿'!$B$7=\"\",\"\",VLOOKUP('0.役員名簿'!$B$7,'各番号（変更不可）'!$J$2:$K$41,2,FALSE))","v":""},"04","01","青年女子","監　督",null,{"$f":"'32.剣道（青年女子）'!C11","v":0},null,{"$f":"'32.剣道（青年女子）'!D11","v":"00:00:00"},{"$f":"'32.剣道（青年女子）'!E11","v":""},{"$f":"'32.剣道（青年女子）'!F11","v":0},{"$f":"'32.剣道（青年女子）'!G11","v":0}]
[160402,null,null,263,16,{"$f":"IF('0.役員名簿'!$B$7=\"\",\"\",VLOOKUP('0.役員名簿'!$B$7,'各番号（変更不可）'!$J$2:$K$41,2,FALSE))","v":""},"04","02","青年女子","先　鋒",null,{"$f":"'32.剣道（青年女子）'!C12","v":0},null,{"$f":"'32.剣道（青年女子）'!D12","v":"00:00:00"},{"$f":"'32.剣道（青年女子）'!E12","v":""},{"$f":"'32.剣道（青年女子）'!F12","v":0},{"$f":"'32.剣道（青年女子）'!G12","v":0}]
[160403,null,null,264,16,{"$f":"IF('0.役員名簿'!$B$7=\"\",\"\",VLOOKUP('0.役員名簿'!$B$7,'各番号（変更不可）'!$J$2:$K$41,2,FALSE))","v":""},"04","03","青年女子","中　堅",null,{"$f":"'32.剣道（青年女子）'!C13","v":0},null,{"$f":"'32.剣道（青年女子）'!D13","v":"00:00:00"},{"$f":"'32.剣道（青年女子）'!E13","v":""},{"$f":"'32.剣道（青年女子）'!F13","v":0},{"$f":"'32.剣道（青年女子）'!G13","v":0}]
[160404,null,null,265,16,{"$f":"IF('0.役員名簿'!$B$7=\"\",\"\",VLOOKUP('0.役員名簿'!$B$7,'各番号（変更不可）'!$J$2:$K$41,2,FALSE))","v":""},"04","04","青年女子","大　将",null,{"$f":"'32.剣道（青年女子）'!C14","v":0},null,{"$f":"'32.剣道（青年女子）'!D14","v":"00:00:00"},{"$f":"'32.剣道（青年女子）'!E14","v":""},{"$f":"'32.剣道（青年女子）'!F14","v":0},{"$f":"'32.剣道（青年女子）'!G14","v":0}]
[170101,null,null,266,17,{"$f":"IF('0.役員名簿'!$B$7=\"\",\"\",VLOOKUP('0.役員名簿'!$B$7,'各番号（変更不可）'!$J$2:$K$41,2,FALSE))","v":""},"01","01","一般男子","監　督",null,{"$f":"'33.弓道（一般男子）'!C11","v":0},{"$f":"'33.弓道（一般男子）'!D11","v":0},{"$f":"'33.弓道（一般男子）'!E11","v":"00:00:00"},{"$f":"'33.弓道（一般男子）'!F11","v":""},{"$f":"'33.弓道（一般男子）'!G11","v":0}]
[170102,null,null,267,17,{"$f":"IF('0.役員名簿'!$B$7=\"\",\"\",VLOOKUP('0.役員名簿'!$B$7,'各番号（変更不可）'!$J$2:$K$41,2,FALSE))","v":""},"01","02","一般男子","選　手",null,{"$f":"'33.弓道（一般男子）'!C12","v":0},{"$f":"'33.弓道（一般男子）'!D12","v":0},{"$f":"'33.弓道（一般男子）'!E12","v":"00:00:00"},{"$f":"'33.弓道（一般男子）'!F12","v":""},{"$f":"'33.弓道（一般男子）'!G12","v":0}]
[170103,null,null,268,17,{"$f":"IF('0.役員名簿'!$B$7=\"\",\"\",VLOOKUP('0.役員名簿'!$B$7,'各番号（変更不可）'!$J$2:$K$41,2,FALSE))","v":""},"01","03","一般男子","選　手",null,{"$f":"'33.弓道（一般男子）'!C13","v":0},{"$f":"'33.弓道（一般男子）'!D13","v":0},{"$f":"'33.弓道（一般男子）'!E13","v":"00:00:00"},{"$f":"'33.弓道（一般男子）'!F13","v":""},{"$f":"'33.弓道（一般男子）'!G13","v":0}]
[170104,null,null,269,17,{"$f":"IF('0.役員名簿'!$B$7=\"\",\"\",VLOOKUP('0.役員名簿'!$B$7,'各番号（変更不可）'!$J$2:$K$41,2,FALSE))","v":""},"01","04","一般男子","選　手",null,{"$f":"'33.弓道（一般男子）'!C14","v":0},{"$f":"'33.弓道（一般男子）'!D14","v":0},{"$f":"'33.弓道（一般男子）'!E14","v":"00:00:00"},{"$f":"'33.弓道（一般男子）'!F14","v":""},{"$f":"'33.弓道（一般男子）'!G14","v":0}]
[170105,null,null,270,17,{"$f":"IF('0.役員名簿'!$B$7=\"\",\"\",VLOOKUP('0.役員名簿'!$B$7,'各番号（変更不可）'!$J$2:$K$41,2,FALSE))","v":""},"01","05","一般男子","補　欠",null,{"$f":"'33.弓道（一般男子）'!C15","v":0},{"$f":"'33.弓道（一般男子）'!D15","v":0},{"$f":"'33.弓道（一般男子）'!E15","v":"00:00:00"},{"$f":"'33.弓道（一般男子）'!F15","v":""},{"$f":"'33.弓道（一般男子）'!G15","v":0}]
[170201,null,null,271,17,{"$f":"IF('0.役員名簿'!$B$7=\"\",\"\",VLOOKUP('0.役員名簿'!$B$7,'各番号（変更不可）'!$J$2:$K$41,2,FALSE))","v":""},"02","01","一般女子","監　督",null,{"$f":"'34.弓道（一般女子）'!C11","v":0},{"$f":"'34.弓道（一般女子）'!D11","v":0},{"$f":"'34.弓道（一般女子）'!E11","v":"00:00:00"},{"$f":"'34.弓道（一般女子）'!F11","v":""},{"$f":"'34.弓道（一般女子）'!G11","v":0}]
[170202,null,null,272,17,{"$f":"IF('0.役員名簿'!$B$7=\"\",\"\",VLOOKUP('0.役員名簿'!$B$7,'各番号（変更不可）'!$J$2:$K$41,2,FALSE))","v":""},"02","02","一般女子","選　手",null,{"$f":"'34.弓道（一般女子）'!C12","v":0},{"$f":"'34.弓道（一般女子）'!D12","v":0},{"$f":"'34.弓道（一般女子）'!E12","v":"00:00:00"},{"$f":"'34.弓道（一般女子）'!F12","v":""},{"$f":"'34.弓道（一般女子）'!G12","v":0}]
[170203,null,null,273,17,{"$f":"IF('0.役員名簿'!$B$7=\"\",\"\",VLOOKUP('0.役員名簿'!$B$7,'各番号（変更不可）'!$J$2:$K$41,2,FALSE))","v":""},"02","03","一般女子","選　手",null,{"$f":"'34.弓道（一般女子）'!C13","v":0},{"$f":"'34.弓道（一般女子）'!D13","v":0},{"$f":"'34.弓道（一般女子）'!E13","v":"00:00:00"},{"$f":"'34.弓道（一般女子）'!F13","v":""},{"$f":"'34.弓道（一般女子）'!G13","v":0}]
[170204,null,null,274,17,{"$f":"IF('0.役員名簿'!$B$7=\"\",\"\",VLOOKUP('0.役員名簿'!$B$7,'各番号（変更不可）'!$J$2:$K$41,2,FALSE))","v":""},"02","04","一般女子","選　手",null,{"$f":"'34.弓道（一般女子）'!C14","v":0},{"$f":"'34.弓道（一般女子）'!D14","v":0},{"$f":"'34.弓道（一般女子）'!E14","v":"00:00:00"},{"$f":"'34.弓道（一般女子）'!F14","v":""},{"$f":"'34.弓道（一般女子）'!G14","v":0}]
[170205,null,null,275,17,{"$f":"IF('0.役員名簿'!$B$7=\"\",\"\",VLOOKUP('0.役員名簿'!$B$7,'各番号（変更不可）'!$J$2:$K$41,2,FALSE))","v":""},"02","05","一般女子","補　欠",null,{"$f":"'34.弓道（一般女子）'!C15","v":0},{"$f":"'34.弓道（一般女子）'!D15","v":0},{"$f":"'34.弓道（一般女子）'!E15","v":"00:00:00"},{"$f":"'34.弓道（一般女子）'!F15","v":""},{"$f":"'34.弓道（一般女子）'!G15","v":0}]
[170301,null,null,276,17,{"$f":"IF('0.役員名簿'!$B$7=\"\",\"\",VLOOKUP('0.役員名簿'!$B$7,'各番号（変更不可）'!$J$2:$K$41,2,FALSE))","v":""},"03","01","青年","監　督",null,{"$f":"'35.弓道（青年）'!C11","v":0},{"$f":"'35.弓道（青年）'!D11","v":0},{"$f":"'35.弓道（青年）'!E11","v":"00:00:00"},{"$f":"'35.弓道（青年）'!F11","v":""},{"$f":"'35.弓道（青年）'!G11","v":0},{"$f":"'35.弓道（青年）'!H11","v":0}]
[170302,null,null,277,17,{"$f":"IF('0.役員名簿'!$B$7=\"\",\"\",VLOOKUP('0.役員名簿'!$B$7,'各番号（変更不可）'!$J$2:$K$41,2,FALSE))","v":""},"03","02","青年","選　手",null,{"$f":"'35.弓道（青年）'!C12","v":0},{"$f":"'35.弓道（青年）'!D12","v":0},{"$f":"'35.弓道（青年）'!E12","v":"00:00:00"},{"$f":"'35.弓道（青年）'!F12","v":""},{"$f":"'35.弓道（青年）'!G12","v":0},{"$f":"'35.弓道（青年）'!H12","v":0}]
[170303,null,null,278,17,{"$f":"IF('0.役員名簿'!$B$7=\"\",\"\",VLOOKUP('0.役員名簿'!$B$7,'各番号（変更不可）'!$J$2:$K$41,2,FALSE))","v":""},"03","03","青年","選　手",null,{"$f":"'35.弓道（青年）'!C13","v":0},{"$f":"'35.弓道（青年）'!D13","v":0},{"$f":"'35.弓道（青年）'!E13","v":"00:00:00"},{"$f":"'35.弓道（青年）'!F13","v":""},{"$f":"'35.弓道（青年）'!G13","v":0},{"$f":"'35.弓道（青年）'!H13","v":0}]
[170304,null,null,279,17,{"$f":"IF('0.役員名簿'!$B$7=\"\",\"\",VLOOKUP('0.役員名簿'!$B$7,'各番号（変更不可）'!$J$2:$K$41,2,FALSE))","v":""},"03","04","青年","選　手",null,{"$f":"'35.弓道（青年）'!C14","v":0},{"$f":"'35.弓道（青年）'!D14","v":0},{"$f":"'35.弓道（青年）'!E14","v":"00:00:00"},{"$f":"'35.弓道（青年）'!F14","v":""},{"$f":"'35.弓道（青年）'!G14","v":0},{"$f":"'35.弓道（青年）'!H14","v":0}]
[170305,null,null,280,17,{"$f":"IF('0.役員名簿'!$B$7=\"\",\"\",VLOOKUP('0.役員名簿'!$B$7,'各番号（変更不可）'!$J$2:$K$41,2,FALSE))","v":""},"03","05","青年","補　欠",null,{"$f":"'35.弓道（青年）'!C15","v":0},{"$f":"'35.弓道（青年）'!D15","v":0},{"$f":"'35.弓道（青年）'!E15","v":"00:00:00"},{"$f":"'35.弓道（青年）'!F15","v":""},{"$f":"'35.弓道（青年）'!G15","v":0},{"$f":"'35.弓道（青年）'!H15","v":0}]
[180101,null,null,281,18,{"$f":"IF('0.役員名簿'!$B$7=\"\",\"\",VLOOKUP('0.役員名簿'!$B$7,'各番号（変更不可）'!$J$2:$K$41,2,FALSE))","v":""},"01","01","一般A","監　督",null,{"$f":"'36.相撲（一般男子）'!C11","v":0},null,{"$f":"'36.相撲（一般男子）'!D11","v":"00:00:00"},{"$f":"'36.相撲（一般男子）'!E11","v":""},{"$f":"'36.相撲（一般男子）'!F11","v":0},{"$f":"'36.相撲（一般男子）'!G11","v":0}]
[180102,null,null,282,18,{"$f":"IF('0.役員名簿'!$B$7=\"\",\"\",VLOOKUP('0.役員名簿'!$B$7,'各番号（変更不可）'!$J$2:$K$41,2,FALSE))","v":""},"01","02","一般A","先　鋒",null,{"$f":"'36.相撲（一般男子）'!C12","v":0},null,{"$f":"'36.相撲（一般男子）'!D12","v":"00:00:00"},{"$f":"'36.相撲（一般男子）'!E12","v":""},{"$f":"'36.相撲（一般男子）'!F12","v":0},{"$f":"'36.相撲（一般男子）'!G12","v":0}]
[180103,null,null,283,18,{"$f":"IF('0.役員名簿'!$B$7=\"\",\"\",VLOOKUP('0.役員名簿'!$B$7,'各番号（変更不可）'!$J$2:$K$41,2,FALSE))","v":""},"01","03","一般A","中　堅",null,{"$f":"'36.相撲（一般男子）'!C13","v":0},null,{"$f":"'36.相撲（一般男子）'!D13","v":"00:00:00"},{"$f":"'36.相撲（一般男子）'!E13","v":""},{"$f":"'36.相撲（一般男子）'!F13","v":0},{"$f":"'36.相撲（一般男子）'!G13","v":0}]
[180104,null,null,284,18,{"$f":"IF('0.役員名簿'!$B$7=\"\",\"\",VLOOKUP('0.役員名簿'!$B$7,'各番号（変更不可）'!$J$2:$K$41,2,FALSE))","v":""},"01","04","一般A","大　将",null,{"$f":"'36.相撲（一般男子）'!C14","v":0},null,{"$f":"'36.相撲（一般男子）'!D14","v":"00:00:00"},{"$f":"'36.相撲（一般男子）'!E14","v":""},{"$f":"'36.相撲（一般男子）'!F14","v":0},{"$f":"'36.相撲（一般男子）'!G14","v":0}]
[180105,null,null,285,18,{"$f":"IF('0.役員名簿'!$B$7=\"\",\"\",VLOOKUP('0.役員名簿'!$B$7,'各番号（変更不可）'!$J$2:$K$41,2,FALSE))","v":""},"01","05","一般A","交代選手",null,{"$f":"'36.相撲（一般男子）'!C15","v":0},null,{"$f":"'36.相撲（一般男子）'!D15","v":"00:00:00"},{"$f":"'36.相撲（一般男子）'!E15","v":""},{"$f":"'36.相撲（一般男子）'!F15","v":0},{"$f":"'36.相撲（一般男子）'!G15","v":0}]
[180106,null,null,286,18,{"$f":"IF('0.役員名簿'!$B$7=\"\",\"\",VLOOKUP('0.役員名簿'!$B$7,'各番号（変更不可）'!$J$2:$K$41,2,FALSE))","v":""},"01","06","一般B","監　督",null,{"$f":"'36.相撲（一般男子）'!C20","v":0},null,{"$f":"'36.相撲（一般男子）'!D20","v":"00:00:00"},{"$f":"'36.相撲（一般男子）'!E20","v":""},{"$f":"'36.相撲（一般男子）'!F20","v":0},{"$f":"'36.相撲（一般男子）'!G20","v":0}]
[180107,null,null,287,18,{"$f":"IF('0.役員名簿'!$B$7=\"\",\"\",VLOOKUP('0.役員名簿'!$B$7,'各番号（変更不可）'!$J$2:$K$41,2,FALSE))","v":""},"01","07","一般B","先　鋒",null,{"$f":"'36.相撲（一般男子）'!C21","v":0},null,{"$f":"'36.相撲（一般男子）'!D21","v":"00:00:00"},{"$f":"'36.相撲（一般男子）'!E21","v":""},{"$f":"'36.相撲（一般男子）'!F21","v":0},{"$f":"'36.相撲（一般男子）'!G21","v":0}]
[180108,null,null,288,18,{"$f":"IF('0.役員名簿'!$B$7=\"\",\"\",VLOOKUP('0.役員名簿'!$B$7,'各番号（変更不可）'!$J$2:$K$41,2,FALSE))","v":""},"01","08","一般B","中　堅",null,{"$f":"'36.相撲（一般男子）'!C22","v":0},null,{"$f":"'36.相撲（一般男子）'!D22","v":"00:00:00"},{"$f":"'36.相撲（一般男子）'!E22","v":""},{"$f":"'36.相撲（一般男子）'!F22","v":0},{"$f":"'36.相撲（一般男子）'!G22","v":0}]
[180109,null,null,289,18,{"$f":"IF('0.役員名簿'!$B$7=\"\",\"\",VLOOKUP('0.役員名簿'!$B$7,'各番号（変更不可）'!$J$2:$K$41,2,FALSE))","v":""},"01","09","一般B","大　将",null,{"$f":"'36.相撲（一般男子）'!C23","v":0},null,{"$f":"'36.相撲（一般男子）'!D23","v":"00:00:00"},{"$f":"'36.相撲（一般男子）'!E23","v":""},{"$f":"'36.相撲（一般男子）'!F23","v":0},{"$f":"'36.相撲（一般男子）'!G23","v":0}]
[180110,null,null,290,18,{"$f":"IF('0.役員名簿'!$B$7=\"\",\"\",VLOOKUP('0.役員名簿'!$B$7,'各番号（変更不可）'!$J$2:$K$41,2,FALSE))","v":""},"01","10","一般B","交代選手",null,{"$f":"'36.相撲（一般男子）'!C24","v":0},null,{"$f":"'36.相撲（一般男子）'!D24","v":"00:00:00"},{"$f":"'36.相撲（一般男子）'!E24","v":""},{"$f":"'36.相撲（一般男子）'!F24","v":0},{"$f":"'36.相撲（一般男子）'!G24","v":0}]
[180201,null,null,291,18,{"$f":"IF('0.役員名簿'!$B$7=\"\",\"\",VLOOKUP('0.役員名簿'!$B$7,'各番号（変更不可）'!$J$2:$K$41,2,FALSE))","v":""},"02","01","青年","監　督",null,{"$f":"'37.相撲（青年男子）'!C11","v":0},null,{"$f":"'37.相撲（青年男子）'!D11","v":"00:00:00"},{"$f":"'37.相撲（青年男子）'!E11","v":""},{"$f":"'37.相撲（青年男子）'!F11","v":0},{"$f":"'37.相撲（青年男子）'!G11","v":0},{"$f":"'37.相撲（青年男子）'!H11","v":0}]
[180202,null,null,292,18,{"$f":"IF('0.役員名簿'!$B$7=\"\",\"\",VLOOKUP('0.役員名簿'!$B$7,'各番号（変更不可）'!$J$2:$K$41,2,FALSE))","v":""},"02","02","青年","先　鋒",null,{"$f":"'37.相撲（青年男子）'!C12","v":0},null,{"$f":"'37.相撲（青年男子）'!D12","v":"00:00:00"},{"$f":"'37.相撲（青年男子）'!E12","v":""},{"$f":"'37.相撲（青年男子）'!F12","v":0},{"$f":"'37.相撲（青年男子）'!G12","v":0},{"$f":"'37.相撲（青年男子）'!H12","v":0}]
[180203,null,null,293,18,{"$f":"IF('0.役員名簿'!$B$7=\"\",\"\",VLOOKUP('0.役員名簿'!$B$7,'各番号（変更不可）'!$J$2:$K$41,2,FALSE))","v":""},"02","03","青年","次　鋒",null,{"$f":"'37.相撲（青年男子）'!C13","v":0},null,{"$f":"'37.相撲（青年男子）'!D13","v":"00:00:00"},{"$f":"'37.相撲（青年男子）'!E13","v":""},{"$f":"'37.相撲（青年男子）'!F13","v":0},{"$f":"'37.相撲（青年男子）'!G13","v":0},{"$f":"'37.相撲（青年男子）'!H13","v":0}]
[180204,null,null,294,18,{"$f":"IF('0.役員名簿'!$B$7=\"\",\"\",VLOOKUP('0.役員名簿'!$B$7,'各番号（変更不可）'!$J$2:$K$41,2,FALSE))","v":""},"02","04","青年","中　堅",null,{"$f":"'37.相撲（青年男子）'!C14","v":0},null,{"$f":"'37.相撲（青年男子）'!D14","v":"00:00:00"},{"$f":"'37.相撲（青年男子）'!E14","v":""},{"$f":"'37.相撲（青年男子）'!F14","v":0},{"$f":"'37.相撲（青年男子）'!G14","v":0},{"$f":"'37.相撲（青年男子）'!H14","v":0}]
[180205,null,null,295,18,{"$f":"IF('0.役員名簿'!$B$7=\"\",\"\",VLOOKUP('0.役員名簿'!$B$7,'各番号（変更不可）'!$J$2:$K$41,2,FALSE))","v":""},"02","05","青年","副　将",null,{"$f":"'37.相撲（青年男子）'!C15","v":0},null,{"$f":"'37.相撲（青年男子）'!D15","v":"00:00:00"},{"$f":"'37.相撲（青年男子）'!E15","v":""},{"$f":"'37.相撲（青年男子）'!F15","v":0},{"$f":"'37.相撲（青年男子）'!G15","v":0},{"$f":"'37.相撲（青年男子）'!H15","v":0}]
[180206,null,null,296,18,{"$f":"IF('0.役員名簿'!$B$7=\"\",\"\",VLOOKUP('0.役員名簿'!$B$7,'各番号（変更不可）'!$J$2:$K$41,2,FALSE))","v":""},"02","06","青年","大　将",null,{"$f":"'37.相撲（青年男子）'!C16","v":0},null,{"$f":"'37.相撲（青年男子）'!D16","v":"00:00:00"},{"$f":"'37.相撲（青年男子）'!E16","v":""},{"$f":"'37.相撲（青年男子）'!F16","v":0},{"$f":"'37.相撲（青年男子）'!G16","v":0},{"$f":"'37.相撲（青年男子）'!H16","v":0}]
[180207,null,null,297,18,{"$f":"IF('0.役員名簿'!$B$7=\"\",\"\",VLOOKUP('0.役員名簿'!$B$7,'各番号（変更不可）'!$J$2:$K$41,2,FALSE))","v":""},"02","07","青年","交代選手",null,{"$f":"'37.相撲（青年男子）'!C17","v":0},null,{"$f":"'37.相撲（青年男子）'!D17","v":"00:00:00"},{"$f":"'37.相撲（青年男子）'!E17","v":""},{"$f":"'37.相撲（青年男子）'!F17","v":0},{"$f":"'37.相撲（青年男子）'!G17","v":0},{"$f":"'37.相撲（青年男子）'!H17","v":0}]
[180301,null,null,298,18,{"$f":"IF('0.役員名簿'!$B$7=\"\",\"\",VLOOKUP('0.役員名簿'!$B$7,'各番号（変更不可）'!$J$2:$K$41,2,FALSE))","v":""},"03","01","個人戦",null,null,{"$f":"'38.相撲（個人戦）'!A11","v":0},null,{"$f":"'38.相撲（個人戦）'!B11","v":"00:00:00"},{"$f":"'38.相撲（個人戦）'!C11","v":""},{"$f":"'38.相撲（個人戦）'!D11","v":0},{"$f":"'38.相撲（個人戦）'!E11","v":0}]
[180302,null,null,299,18,{"$f":"IF('0.役員名簿'!$B$7=\"\",\"\",VLOOKUP('0.役員名簿'!$B$7,'各番号（変更不可）'!$J$2:$K$41,2,FALSE))","v":""},"03","02","個人戦",null,null,{"$f":"'38.相撲（個人戦）'!A12","v":0},null,{"$f":"'38.相撲（個人戦）'!B12","v":"00:00:00"},{"$f":"'38.相撲（個人戦）'!C12","v":""},{"$f":"'38.相撲（個人戦）'!D12","v":0},{"$f":"'38.相撲（個人戦）'!E12","v":0}]
[180303,null,null,300,18,{"$f":"IF('0.役員名簿'!$B$7=\"\",\"\",VLOOKUP('0.役員名簿'!$B$7,'各番号（変更不可）'!$J$2:$K$41,2,FALSE))","v":""},"03","03","個人戦",null,null,{"$f":"'38.相撲（個人戦）'!A13","v":0},null,{"$f":"'38.相撲（個人戦）'!B13","v":"00:00:00"},{"$f":"'38.相撲（個人戦）'!C13","v":""},{"$f":"'38.相撲（個人戦）'!D13","v":0},{"$f":"'38.相撲（個人戦）'!E13","v":0}]
[180304,null,null,301,18,{"$f":"IF('0.役員名簿'!$B$7=\"\",\"\",VLOOKUP('0.役員名簿'!$B$7,'各番号（変更不可）'!$J$2:$K$41,2,FALSE))","v":""},"03","04","個人戦",null,null,{"$f":"'38.相撲（個人戦）'!A14","v":0},null,{"$f":"'38.相撲（個人戦）'!B14","v":"00:00:00"},{"$f":"'38.相撲（個人戦）'!C14","v":""},{"$f":"'38.相撲（個人戦）'!D14","v":0},{"$f":"'38.相撲（個人戦）'!E14","v":0}]
[180305,null,null,302,18,{"$f":"IF('0.役員名簿'!$B$7=\"\",\"\",VLOOKUP('0.役員名簿'!$B$7,'各番号（変更不可）'!$J$2:$K$41,2,FALSE))","v":""},"03","05","個人戦",null,null,{"$f":"'38.相撲（個人戦）'!A15","v":0},null,{"$f":"'38.相撲（個人戦）'!B15","v":"00:00:00"},{"$f":"'38.相撲（個人戦）'!C15","v":""},{"$f":"'38.相撲（個人戦）'!D15","v":0},{"$f":"'38.相撲（個人戦）'!E15","v":0}]
[180306,null,null,303,18,{"$f":"IF('0.役員名簿'!$B$7=\"\",\"\",VLOOKUP('0.役員名簿'!$B$7,'各番号（変更不可）'!$J$2:$K$41,2,FALSE))","v":""},"03","06","個人戦",null,null,{"$f":"'38.相撲（個人戦）'!A16","v":0},null,{"$f":"'38.相撲（個人戦）'!B16","v":"00:00:00"},{"$f":"'38.相撲（個人戦）'!C16","v":""},{"$f":"'38.相撲（個人戦）'!D16","v":0},{"$f":"'38.相撲（個人戦）'!E16","v":0}]
[180307,null,null,304,18,{"$f":"IF('0.役員名簿'!$B$7=\"\",\"\",VLOOKUP('0.役員名簿'!$B$7,'各番号（変更不可）'!$J$2:$K$41,2,FALSE))","v":""},"03","07","個人戦",null,null,{"$f":"'38.相撲（個人戦）'!A17","v":0},null,{"$f":"'38.相撲（個人戦）'!B17","v":"00:00:00"},{"$f":"'38.相撲（個人戦）'!C17","v":""},{"$f":"'38.相撲（個人戦）'!D17","v":0},{"$f":"'38.相撲（個人戦）'!E17","v":0}]
[180308,null,null,305,18,{"$f":"IF('0.役員名簿'!$B$7=\"\",\"\",VLOOKUP('0.役員名簿'!$B$7,'各番号（変更不可）'!$J$2:$K$41,2,FALSE))","v":""},"03","08","個人戦",null,null,{"$f":"'38.相撲（個人戦）'!A18","v":0},null,{"$f":"'38.相撲（個人戦）'!B18","v":"00:00:00"},{"$f":"'38.相撲（個人戦）'!C18","v":""},{"$f":"'38.相撲（個人戦）'!D18","v":0},{"$f":"'38.相撲（個人戦）'!E18","v":0}]
[180309,null,null,306,18,{"$f":"IF('0.役員名簿'!$B$7=\"\",\"\",VLOOKUP('0.役員名簿'!$B$7,'各番号（変更不可）'!$J$2:$K$41,2,FALSE))","v":""},"03","09","個人戦",null,null,{"$f":"'38.相撲（個人戦）'!A19","v":0},null,{"$f":"'38.相撲（個人戦）'!B19","v":"00:00:00"},{"$f":"'38.相撲（個人戦）'!C19","v":""},{"$f":"'38.相撲（個人戦）'!D19","v":0},{"$f":"'38.相撲（個人戦）'!E19","v":0}]
[180310,null,null,307,18,{"$f":"IF('0.役員名簿'!$B$7=\"\",\"\",VLOOKUP('0.役員名簿'!$B$7,'各番号（変更不可）'!$J$2:$K$41,2,FALSE))","v":""},"03","10","個人戦",null,null,{"$f":"'38.相撲（個人戦）'!A20","v":0},null,{"$f":"'38.相撲（個人戦）'!B20","v":"00:00:00"},{"$f":"'38.相撲（個人戦）'!C20","v":""},{"$f":"'38.相撲（個人戦）'!D20","v":0},{"$f":"'38.相撲（個人戦）'!E20","v":0}]
[190101,null,null,308,19,{"$f":"IF('0.役員名簿'!$B$7=\"\",\"\",VLOOKUP('0.役員名簿'!$B$7,'各番号（変更不可）'!$J$2:$K$41,2,FALSE))","v":""},"01","01","一般","監　督",{"$f":"'39.ソフトボール（一般男子）'!B11","v":30},{"$f":"'39.ソフトボール（一般男子）'!C11","v":0},null,{"$f":"'39.ソフトボール（一般男子）'!D11","v":"00:00:00"},{"$f":"'39.ソフトボール（一般男子）'!E11","v":""},{"$f":"'39.ソフトボール（一般男子）'!F11","v":0}]
[190102,null,null,309,19,{"$f":"IF('0.役員名簿'!$B$7=\"\",\"\",VLOOKUP('0.役員名簿'!$B$7,'各番号（変更不可）'!$J$2:$K$41,2,FALSE))","v":""},"01","02","一般","選　手",{"$f":"'39.ソフトボール（一般男子）'!B12","v":10},{"$f":"'39.ソフトボール（一般男子）'!C12","v":0},null,{"$f":"'39.ソフトボール（一般男子）'!D12","v":"00:00:00"},{"$f":"'39.ソフトボール（一般男子）'!E12","v":""},{"$f":"'39.ソフトボール（一般男子）'!F12","v":0}]
[190103,null,null,310,19,{"$f":"IF('0.役員名簿'!$B$7=\"\",\"\",VLOOKUP('0.役員名簿'!$B$7,'各番号（変更不可）'!$J$2:$K$41,2,FALSE))","v":""},"01","03","一般","選　手",{"$f":"'39.ソフトボール（一般男子）'!B13","v":0},{"$f":"'39.ソフトボール（一般男子）'!C13","v":0},null,{"$f":"'39.ソフトボール（一般男子）'!D13","v":"00:00:00"},{"$f":"'39.ソフトボール（一般男子）'!E13","v":""},{"$f":"'39.ソフトボール（一般男子）'!F13","v":0}]
[190104,null,null,311,19,{"$f":"IF('0.役員名簿'!$B$7=\"\",\"\",VLOOKUP('0.役員名簿'!$B$7,'各番号（変更不可）'!$J$2:$K$41,2,FALSE))","v":""},"01","04","一般","選　手",{"$f":"'39.ソフトボール（一般男子）'!B14","v":0},{"$f":"'39.ソフトボール（一般男子）'!C14","v":0},null,{"$f":"'39.ソフトボール（一般男子）'!D14","v":"00:00:00"},{"$f":"'39.ソフトボール（一般男子）'!E14","v":""},{"$f":"'39.ソフトボール（一般男子）'!F14","v":0}]
[190105,null,null,312,19,{"$f":"IF('0.役員名簿'!$B$7=\"\",\"\",VLOOKUP('0.役員名簿'!$B$7,'各番号（変更不可）'!$J$2:$K$41,2,FALSE))","v":""},"01","05","一般","選　手",{"$f":"'39.ソフトボール（一般男子）'!B15","v":0},{"$f":"'39.ソフトボール（一般男子）'!C15","v":0},null,{"$f":"'39.ソフトボール（一般男子）'!D15","v":"00:00:00"},{"$f":"'39.ソフトボール（一般男子）'!E15","v":""},{"$f":"'39.ソフトボール（一般男子）'!F15","v":0}]
[190106,null,null,313,19,{"$f":"IF('0.役員名簿'!$B$7=\"\",\"\",VLOOKUP('0.役員名簿'!$B$7,'各番号（変更不可）'!$J$2:$K$41,2,FALSE))","v":""},"01","06","一般","選　手",{"$f":"'39.ソフトボール（一般男子）'!B16","v":0},{"$f":"'39.ソフトボール（一般男子）'!C16","v":0},null,{"$f":"'39.ソフトボール（一般男子）'!D16","v":"00:00:00"},{"$f":"'39.ソフトボール（一般男子）'!E16","v":""},{"$f":"'39.ソフトボール（一般男子）'!F16","v":0}]
[190107,null,null,314,19,{"$f":"IF('0.役員名簿'!$B$7=\"\",\"\",VLOOKUP('0.役員名簿'!$B$7,'各番号（変更不可）'!$J$2:$K$41,2,FALSE))","v":""},"01","07","一般","選　手",{"$f":"'39.ソフトボール（一般男子）'!B17","v":0},{"$f":"'39.ソフトボール（一般男子）'!C17","v":0},null,{"$f":"'39.ソフトボール（一般男子）'!D17","v":"00:00:00"},{"$f":"'39.ソフトボール（一般男子）'!E17","v":""},{"$f":"'39.ソフトボール（一般男子）'!F17","v":0}]
[190108,null,null,315,19,{"$f":"IF('0.役員名簿'!$B$7=\"\",\"\",VLOOKUP('0.役員名簿'!$B$7,'各番号（変更不可）'!$J$2:$K$41,2,FALSE))","v":""},"01","08","一般","選　手",{"$f":"'39.ソフトボール（一般男子）'!B18","v":0},{"$f":"'39.ソフトボール（一般男子）'!C18","v":0},null,{"$f":"'39.ソフトボール（一般男子）'!D18","v":"00:00:00"},{"$f":"'39.ソフトボール（一般男子）'!E18","v":""},{"$f":"'39.ソフトボール（一般男子）'!F18","v":0}]
[190109,null,null,316,19,{"$f":"IF('0.役員名簿'!$B$7=\"\",\"\",VLOOKUP('0.役員名簿'!$B$7,'各番号（変更不可）'!$J$2:$K$41,2,FALSE))","v":""},"01","09","一般","選　手",{"$f":"'39.ソフトボール（一般男子）'!B19","v":0},{"$f":"'39.ソフトボール（一般男子）'!C19","v":0},null,{"$f":"'39.ソフトボール（一般男子）'!D19","v":"00:00:00"},{"$f":"'39.ソフトボール（一般男子）'!E19","v":""},{"$f":"'39.ソフトボール（一般男子）'!F19","v":0}]
[190110,null,null,317,19,{"$f":"IF('0.役員名簿'!$B$7=\"\",\"\",VLOOKUP('0.役員名簿'!$B$7,'各番号（変更不可）'!$J$2:$K$41,2,FALSE))","v":""},"01","10","一般","選　手",{"$f":"'39.ソフトボール（一般男子）'!B20","v":0},{"$f":"'39.ソフトボール（一般男子）'!C20","v":0},null,{"$f":"'39.ソフトボール（一般男子）'!D20","v":"00:00:00"},{"$f":"'39.ソフトボール（一般男子）'!E20","v":""},{"$f":"'39.ソフトボール（一般男子）'!F20","v":0}]
[190111,null,null,318,19,{"$f":"IF('0.役員名簿'!$B$7=\"\",\"\",VLOOKUP('0.役員名簿'!$B$7,'各番号（変更不可）'!$J$2:$K$41,2,FALSE))","v":""},"01",11,"一般","選　手",{"$f":"'39.ソフトボール（一般男子）'!B21","v":0},{"$f":"'39.ソフトボール（一般男子）'!C21","v":0},null,{"$f":"'39.ソフトボール（一般男子）'!D21","v":"00:00:00"},{"$f":"'39.ソフトボール（一般男子）'!E21","v":""},{"$f":"'39.ソフトボール（一般男子）'!F21","v":0}]
[190112,null,null,319,19,{"$f":"IF('0.役員名簿'!$B$7=\"\",\"\",VLOOKUP('0.役員名簿'!$B$7,'各番号（変更不可）'!$J$2:$K$41,2,FALSE))","v":""},"01",12,"一般","選　手",{"$f":"'39.ソフトボール（一般男子）'!B22","v":0},{"$f":"'39.ソフトボール（一般男子）'!C22","v":0},null,{"$f":"'39.ソフトボール（一般男子）'!D22","v":"00:00:00"},{"$f":"'39.ソフトボール（一般男子）'!E22","v":""},{"$f":"'39.ソフトボール（一般男子）'!F22","v":0}]
[190113,null,null,320,19,{"$f":"IF('0.役員名簿'!$B$7=\"\",\"\",VLOOKUP('0.役員名簿'!$B$7,'各番号（変更不可）'!$J$2:$K$41,2,FALSE))","v":""},"01",13,"一般","選　手",{"$f":"'39.ソフトボール（一般男子）'!B23","v":0},{"$f":"'39.ソフトボール（一般男子）'!C23","v":0},null,{"$f":"'39.ソフトボール（一般男子）'!D23","v":"00:00:00"},{"$f":"'39.ソフトボール（一般男子）'!E23","v":""},{"$f":"'39.ソフトボール（一般男子）'!F23","v":0}]
[{"$f":"VALUE(E322&F322&G322&H322)","v":190114},null,null,321,19,{"$f":"IF('0.役員名簿'!$B$7=\"\",\"\",VLOOKUP('0.役員名簿'!$B$7,'各番号（変更不可）'!$J$2:$K$41,2,FALSE))","v":""},"01",14,"一般","選　手",{"$f":"'39.ソフトボール（一般男子）'!B24","v":0},{"$f":"'39.ソフトボール（一般男子）'!C24","v":0},null,{"$f":"'39.ソフトボール（一般男子）'!D24","v":"00:00:00"},{"$f":"'39.ソフトボール（一般男子）'!E24","v":""},{"$f":"'39.ソフトボール（一般男子）'!F24","v":0}]
[190115,null,null,322,19,{"$f":"IF('0.役員名簿'!$B$7=\"\",\"\",VLOOKUP('0.役員名簿'!$B$7,'各番号（変更不可）'!$J$2:$K$41,2,FALSE))","v":""},"01",15,"一般","選　手",{"$f":"'39.ソフトボール（一般男子）'!B25","v":0},{"$f":"'39.ソフトボール（一般男子）'!C25","v":0},null,{"$f":"'39.ソフトボール（一般男子）'!D25","v":"00:00:00"},{"$f":"'39.ソフトボール（一般男子）'!E25","v":""},{"$f":"'39.ソフトボール（一般男子）'!F25","v":0}]
[190116,null,null,323,19,{"$f":"IF('0.役員名簿'!$B$7=\"\",\"\",VLOOKUP('0.役員名簿'!$B$7,'各番号（変更不可）'!$J$2:$K$41,2,FALSE))","v":""},"01",16,"一般","選　手",{"$f":"'39.ソフトボール（一般男子）'!B26","v":0},{"$f":"'39.ソフトボール（一般男子）'!C26","v":0},null,{"$f":"'39.ソフトボール（一般男子）'!D26","v":"00:00:00"},{"$f":"'39.ソフトボール（一般男子）'!E26","v":""},{"$f":"'39.ソフトボール（一般男子）'!F26","v":0}]
[190117,null,null,324,19,{"$f":"IF('0.役員名簿'!$B$7=\"\",\"\",VLOOKUP('0.役員名簿'!$B$7,'各番号（変更不可）'!$J$2:$K$41,2,FALSE))","v":""},"01",17,"一般","選　手",{"$f":"'39.ソフトボール（一般男子）'!B27","v":0},{"$f":"'39.ソフトボール（一般男子）'!C27","v":0},null,{"$f":"'39.ソフトボール（一般男子）'!D27","v":"00:00:00"},{"$f":"'39.ソフトボール（一般男子）'!E27","v":""},{"$f":"'39.ソフトボール（一般男子）'!F27","v":0}]
[190118,null,null,325,19,{"$f":"IF('0.役員名簿'!$B$7=\"\",\"\",VLOOKUP('0.役員名簿'!$B$7,'各番号（変更不可）'!$J$2:$K$41,2,FALSE))","v":""},"01",18,"一般","選　手",{"$f":"'39.ソフトボール（一般男子）'!B28","v":0},{"$f":"'39.ソフトボール（一般男子）'!C28","v":0},null,{"$f":"'39.ソフトボール（一般男子）'!D28","v":"00:00:00"},{"$f":"'39.ソフトボール（一般男子）'!E28","v":""},{"$f":"'39.ソフトボール（一般男子）'!F28","v":0}]
[200101,null,null,326,20,{"$f":"IF('0.役員名簿'!$B$7=\"\",\"\",VLOOKUP('0.役員名簿'!$B$7,'各番号（変更不可）'!$J$2:$K$41,2,FALSE))","v":""},"01","01","男子団体組手","監　督",null,{"$f":"'40.空手道（男子）'!G11","v":0},null,{"$f":"'40.空手道（男子）'!H11","v":"00:00:00"},{"$f":"'40.空手道（男子）'!I11","v":""},{"$f":"'40.空手道（男子）'!J11","v":0},{"$f":"'40.空手道（男子）'!K11","v":0},{"$f":"'40.空手道（男子）'!L11","v":0},{"$f":"'40.空手道（男子）'!M11","v":0}]
[200102,null,null,327,20,{"$f":"IF('0.役員名簿'!$B$7=\"\",\"\",VLOOKUP('0.役員名簿'!$B$7,'各番号（変更不可）'!$J$2:$K$41,2,FALSE))","v":""},"01","02","男子団体組手","選　手",null,{"$f":"'40.空手道（男子）'!G12","v":0},null,{"$f":"'40.空手道（男子）'!H12","v":"00:00:00"},{"$f":"'40.空手道（男子）'!I12","v":""},{"$f":"'40.空手道（男子）'!J12","v":0},{"$f":"'40.空手道（男子）'!K12","v":0},{"$f":"'40.空手道（男子）'!L12","v":0},{"$f":"'40.空手道（男子）'!M12","v":0}]
[200103,null,null,328,20,{"$f":"IF('0.役員名簿'!$B$7=\"\",\"\",VLOOKUP('0.役員名簿'!$B$7,'各番号（変更不可）'!$J$2:$K$41,2,FALSE))","v":""},"01","03","男子団体組手","選　手",null,{"$f":"'40.空手道（男子）'!G13","v":0},null,{"$f":"'40.空手道（男子）'!H13","v":"00:00:00"},{"$f":"'40.空手道（男子）'!I13","v":""},{"$f":"'40.空手道（男子）'!J13","v":0},{"$f":"'40.空手道（男子）'!K13","v":0},{"$f":"'40.空手道（男子）'!L13","v":0},{"$f":"'40.空手道（男子）'!M13","v":0}]
[200104,null,null,329,20,{"$f":"IF('0.役員名簿'!$B$7=\"\",\"\",VLOOKUP('0.役員名簿'!$B$7,'各番号（変更不可）'!$J$2:$K$41,2,FALSE))","v":""},"01","04","男子団体組手","選　手",null,{"$f":"'40.空手道（男子）'!G14","v":0},null,{"$f":"'40.空手道（男子）'!H14","v":"00:00:00"},{"$f":"'40.空手道（男子）'!I14","v":""},{"$f":"'40.空手道（男子）'!J14","v":0},{"$f":"'40.空手道（男子）'!K14","v":0},{"$f":"'40.空手道（男子）'!L14","v":0},{"$f":"'40.空手道（男子）'!M14","v":0}]
[200105,null,null,330,20,{"$f":"IF('0.役員名簿'!$B$7=\"\",\"\",VLOOKUP('0.役員名簿'!$B$7,'各番号（変更不可）'!$J$2:$K$41,2,FALSE))","v":""},"01","05","男子団体組手","補　欠",null,{"$f":"'40.空手道（男子）'!G15","v":0},null,{"$f":"'40.空手道（男子）'!H15","v":"00:00:00"},{"$f":"'40.空手道（男子）'!I15","v":""},{"$f":"'40.空手道（男子）'!J15","v":0},{"$f":"'40.空手道（男子）'!K15","v":0},{"$f":"'40.空手道（男子）'!L15","v":0},{"$f":"'40.空手道（男子）'!M15","v":0}]
[200201,null,null,331,20,{"$f":"IF('0.役員名簿'!$B$7=\"\",\"\",VLOOKUP('0.役員名簿'!$B$7,'各番号（変更不可）'!$J$2:$K$41,2,FALSE))","v":""},"02","01","一般男子組手","選　手",null,{"$f":"'40.空手道（男子）'!G24","v":0},null,{"$f":"'40.空手道（男子）'!H24","v":"00:00:00"},{"$f":"'40.空手道（男子）'!I24","v":""},{"$f":"'40.空手道（男子）'!J24","v":0},{"$f":"'40.空手道（男子）'!K24","v":0},{"$f":"'40.空手道（男子）'!L24","v":0},{"$f":"'40.空手道（男子）'!M24","v":0}]
[200202,null,null,332,20,{"$f":"IF('0.役員名簿'!$B$7=\"\",\"\",VLOOKUP('0.役員名簿'!$B$7,'各番号（変更不可）'!$J$2:$K$41,2,FALSE))","v":""},"02","02","一般男子組手","選　手",null,{"$f":"'40.空手道（男子）'!G25","v":0},null,{"$f":"'40.空手道（男子）'!H25","v":"00:00:00"},{"$f":"'40.空手道（男子）'!I25","v":""},{"$f":"'40.空手道（男子）'!J25","v":0},{"$f":"'40.空手道（男子）'!K25","v":0},{"$f":"'40.空手道（男子）'!L25","v":0},{"$f":"'40.空手道（男子）'!M25","v":0}]
[200203,null,null,333,20,{"$f":"IF('0.役員名簿'!$B$7=\"\",\"\",VLOOKUP('0.役員名簿'!$B$7,'各番号（変更不可）'!$J$2:$K$41,2,FALSE))","v":""},"02","03","一般男子組手","選　手",null,{"$f":"'40.空手道（男子）'!G26","v":0},null,{"$f":"'40.空手道（男子）'!H26","v":"00:00:00"},{"$f":"'40.空手道（男子）'!I26","v":""},{"$f":"'40.空手道（男子）'!J26","v":0},{"$f":"'40.空手道（男子）'!K26","v":0},{"$f":"'40.空手道（男子）'!L26","v":0},{"$f":"'40.空手道（男子）'!M26","v":0}]
[200204,null,null,334,20,{"$f":"IF('0.役員名簿'!$B$7=\"\",\"\",VLOOKUP('0.役員名簿'!$B$7,'各番号（変更不可）'!$J$2:$K$41,2,FALSE))","v":""},"02","04","一般男子組手","選　手",null,{"$f":"'40.空手道（男子）'!G27","v":0},null,{"$f":"'40.空手道（男子）'!H27","v":"00:00:00"},{"$f":"'40.空手道（男子）'!I27","v":""},{"$f":"'40.空手道（男子）'!J27","v":0},{"$f":"'40.空手道（男子）'!K27","v":0},{"$f":"'40.空手道（男子）'!L27","v":0},{"$f":"'40.空手道（男子）'!M27","v":0}]
[200205,null,null,335,20,{"$f":"IF('0.役員名簿'!$B$7=\"\",\"\",VLOOKUP('0.役員名簿'!$B$7,'各番号（変更不可）'!$J$2:$K$41,2,FALSE))","v":""},"02","05","一般男子組手","選　手",null,{"$f":"'40.空手道（男子）'!G28","v":0},null,{"$f":"'40.空手道（男子）'!H28","v":"00:00:00"},{"$f":"'40.空手道（男子）'!I28","v":""},{"$f":"'40.空手道（男子）'!J28","v":0},{"$f":"'40.空手道（男子）'!K28","v":0},{"$f":"'40.空手道（男子）'!L28","v":0},{"$f":"'40.空手道（男子）'!M28","v":0}]
[200301,null,null,336,20,{"$f":"IF('0.役員名簿'!$B$7=\"\",\"\",VLOOKUP('0.役員名簿'!$B$7,'各番号（変更不可）'!$J$2:$K$41,2,FALSE))","v":""},"03","01","一般男子形","選　手",null,{"$f":"'40.空手道（男子）'!G36","v":0},null,{"$f":"'40.空手道（男子）'!H36","v":"00:00:00"},{"$f":"'40.空手道（男子）'!I36","v":""},{"$f":"'40.空手道（男子）'!J36","v":0},{"$f":"'40.空手道（男子）'!K36","v":0},{"$f":"'40.空手道（男子）'!L36","v":0},{"$f":"'40.空手道（男子）'!M36","v":0}]
[200302,null,null,337,20,{"$f":"IF('0.役員名簿'!$B$7=\"\",\"\",VLOOKUP('0.役員名簿'!$B$7,'各番号（変更不可）'!$J$2:$K$41,2,FALSE))","v":""},"03","02","一般男子形","選　手",null,{"$f":"'40.空手道（男子）'!G37","v":0},null,{"$f":"'40.空手道（男子）'!H37","v":"00:00:00"},{"$f":"'40.空手道（男子）'!I37","v":""},{"$f":"'40.空手道（男子）'!J37","v":0},{"$f":"'40.空手道（男子）'!K37","v":0},{"$f":"'40.空手道（男子）'!L37","v":0},{"$f":"'40.空手道（男子）'!M37","v":0}]
[200303,null,null,338,20,{"$f":"IF('0.役員名簿'!$B$7=\"\",\"\",VLOOKUP('0.役員名簿'!$B$7,'各番号（変更不可）'!$J$2:$K$41,2,FALSE))","v":""},"03","03","一般男子形","選　手",null,{"$f":"'40.空手道（男子）'!G38","v":0},null,{"$f":"'40.空手道（男子）'!H38","v":"00:00:00"},{"$f":"'40.空手道（男子）'!I38","v":""},{"$f":"'40.空手道（男子）'!J38","v":0},{"$f":"'40.空手道（男子）'!K38","v":0},{"$f":"'40.空手道（男子）'!L38","v":0},{"$f":"'40.空手道（男子）'!M38","v":0}]
[200304,null,null,339,20,{"$f":"IF('0.役員名簿'!$B$7=\"\",\"\",VLOOKUP('0.役員名簿'!$B$7,'各番号（変更不可）'!$J$2:$K$41,2,FALSE))","v":""},"03","04","一般男子形","選　手",null,{"$f":"'40.空手道（男子）'!G39","v":0},null,{"$f":"'40.空手道（男子）'!H39","v":"00:00:00"},{"$f":"'40.空手道（男子）'!I39","v":""},{"$f":"'40.空手道（男子）'!J39","v":0},{"$f":"'40.空手道（男子）'!K39","v":0},{"$f":"'40.空手道（男子）'!L39","v":0},{"$f":"'40.空手道（男子）'!M39","v":0}]
[200401,null,null,340,20,{"$f":"IF('0.役員名簿'!$B$7=\"\",\"\",VLOOKUP('0.役員名簿'!$B$7,'各番号（変更不可）'!$J$2:$K$41,2,FALSE))","v":""},"04","01","壮年男子組手","選　手",null,{"$f":"'41.空手道（壮年男子）'!C10","v":0},null,{"$f":"'41.空手道（壮年男子）'!D10","v":"00:00:00"},{"$f":"'41.空手道（壮年男子）'!E10","v":""},{"$f":"'41.空手道（壮年男子）'!F10","v":0},{"$f":"'41.空手道（壮年男子）'!G10","v":0},{"$f":"'41.空手道（壮年男子）'!H10","v":0}]
[200402,null,null,341,20,{"$f":"IF('0.役員名簿'!$B$7=\"\",\"\",VLOOKUP('0.役員名簿'!$B$7,'各番号（変更不可）'!$J$2:$K$41,2,FALSE))","v":""},"04","02","壮年男子組手","選　手",null,{"$f":"'41.空手道（壮年男子）'!C11","v":0},null,{"$f":"'41.空手道（壮年男子）'!D11","v":"00:00:00"},{"$f":"'41.空手道（壮年男子）'!E11","v":""},{"$f":"'41.空手道（壮年男子）'!F11","v":0},{"$f":"'41.空手道（壮年男子）'!G11","v":0},{"$f":"'41.空手道（壮年男子）'!H11","v":0}]
[200403,null,null,342,20,{"$f":"IF('0.役員名簿'!$B$7=\"\",\"\",VLOOKUP('0.役員名簿'!$B$7,'各番号（変更不可）'!$J$2:$K$41,2,FALSE))","v":""},"04","03","壮年男子組手","選　手",null,{"$f":"'41.空手道（壮年男子）'!C12","v":0},null,{"$f":"'41.空手道（壮年男子）'!D12","v":"00:00:00"},{"$f":"'41.空手道（壮年男子）'!E12","v":""},{"$f":"'41.空手道（壮年男子）'!F12","v":0},{"$f":"'41.空手道（壮年男子）'!G12","v":0},{"$f":"'41.空手道（壮年男子）'!H12","v":0}]
[200404,null,null,343,20,{"$f":"IF('0.役員名簿'!$B$7=\"\",\"\",VLOOKUP('0.役員名簿'!$B$7,'各番号（変更不可）'!$J$2:$K$41,2,FALSE))","v":""},"04","04","壮年男子組手","選　手",null,{"$f":"'41.空手道（壮年男子）'!C13","v":0},null,{"$f":"'41.空手道（壮年男子）'!D13","v":"00:00:00"},{"$f":"'41.空手道（壮年男子）'!E13","v":""},{"$f":"'41.空手道（壮年男子）'!F13","v":0},{"$f":"'41.空手道（壮年男子）'!G13","v":0},{"$f":"'41.空手道（壮年男子）'!H13","v":0}]
[200405,null,null,344,20,{"$f":"IF('0.役員名簿'!$B$7=\"\",\"\",VLOOKUP('0.役員名簿'!$B$7,'各番号（変更不可）'!$J$2:$K$41,2,FALSE))","v":""},"04","05","壮年男子組手","選　手",null,{"$f":"'41.空手道（壮年男子）'!C14","v":0},null,{"$f":"'41.空手道（壮年男子）'!D14","v":"00:00:00"},{"$f":"'41.空手道（壮年男子）'!E14","v":""},{"$f":"'41.空手道（壮年男子）'!F14","v":0},{"$f":"'41.空手道（壮年男子）'!G14","v":0},{"$f":"'41.空手道（壮年男子）'!H14","v":0}]
[200501,null,null,345,20,{"$f":"IF('0.役員名簿'!$B$7=\"\",\"\",VLOOKUP('0.役員名簿'!$B$7,'各番号（変更不可）'!$J$2:$K$41,2,FALSE))","v":""},"05","01","壮年男子形","選　手",null,{"$f":"'41.空手道（壮年男子）'!C19","v":0},null,{"$f":"'41.空手道（壮年男子）'!D19","v":"00:00:00"},{"$f":"'41.空手道（壮年男子）'!E19","v":""},{"$f":"'41.空手道（壮年男子）'!F19","v":"00:00:00"},{"$f":"'41.空手道（壮年男子）'!G19","v":"00:00:00"},{"$f":"'41.空手道（壮年男子）'!H19","v":"00:00:00"}]
[200502,null,null,346,20,{"$f":"IF('0.役員名簿'!$B$7=\"\",\"\",VLOOKUP('0.役員名簿'!$B$7,'各番号（変更不可）'!$J$2:$K$41,2,FALSE))","v":""},"05","02","壮年男子形","選　手",null,{"$f":"'41.空手道（壮年男子）'!C20","v":0},null,{"$f":"'41.空手道（壮年男子）'!D20","v":"00:00:00"},{"$f":"'41.空手道（壮年男子）'!E20","v":""},{"$f":"'41.空手道（壮年男子）'!F20","v":"00:00:00"},{"$f":"'41.空手道（壮年男子）'!G20","v":"00:00:00"},{"$f":"'41.空手道（壮年男子）'!H20","v":"00:00:00"}]
[200503,null,null,347,20,{"$f":"IF('0.役員名簿'!$B$7=\"\",\"\",VLOOKUP('0.役員名簿'!$B$7,'各番号（変更不可）'!$J$2:$K$41,2,FALSE))","v":""},"05","03","壮年男子形","選　手",null,{"$f":"'41.空手道（壮年男子）'!C21","v":0},null,{"$f":"'41.空手道（壮年男子）'!D21","v":"00:00:00"},{"$f":"'41.空手道（壮年男子）'!E21","v":""},{"$f":"'41.空手道（壮年男子）'!F21","v":"00:00:00"},{"$f":"'41.空手道（壮年男子）'!G21","v":"00:00:00"},{"$f":"'41.空手道（壮年男子）'!H21","v":"00:00:00"}]
[200504,null,null,348,20,{"$f":"IF('0.役員名簿'!$B$7=\"\",\"\",VLOOKUP('0.役員名簿'!$B$7,'各番号（変更不可）'!$J$2:$K$41,2,FALSE))","v":""},"05","04","壮年男子形","選　手",null,{"$f":"'41.空手道（壮年男子）'!C22","v":0},null,{"$f":"'41.空手道（壮年男子）'!D22","v":"00:00:00"},{"$f":"'41.空手道（壮年男子）'!E22","v":""},{"$f":"'41.空手道（壮年男子）'!F22","v":"00:00:00"},{"$f":"'41.空手道（壮年男子）'!G22","v":"00:00:00"},{"$f":"'41.空手道（壮年男子）'!H22","v":"00:00:00"}]
[200505,null,null,349,20,{"$f":"IF('0.役員名簿'!$B$7=\"\",\"\",VLOOKUP('0.役員名簿'!$B$7,'各番号（変更不可）'!$J$2:$K$41,2,FALSE))","v":""},"05","05","壮年男子形","選　手",null,{"$f":"'41.空手道（壮年男子）'!C23","v":0},null,{"$f":"'41.空手道（壮年男子）'!D23","v":"00:00:00"},{"$f":"'41.空手道（壮年男子）'!E23","v":""},{"$f":"'41.空手道（壮年男子）'!F23","v":"00:00:00"},{"$f":"'41.空手道（壮年男子）'!G23","v":"00:00:00"},{"$f":"'41.空手道（壮年男子）'!H23","v":"00:00:00"}]
[200601,null,null,350,20,{"$f":"IF('0.役員名簿'!$B$7=\"\",\"\",VLOOKUP('0.役員名簿'!$B$7,'各番号（変更不可）'!$J$2:$K$41,2,FALSE))","v":""},"06","01","一般女子組手","監　督",null,{"$f":"'42.空手道（女子）'!C10","v":0},null,{"$f":"'42.空手道（女子）'!D10","v":"00:00:00"},{"$f":"'42.空手道（女子）'!E10","v":""},{"$f":"'42.空手道（女子）'!F10","v":"00:00:00"},{"$f":"'42.空手道（女子）'!G10","v":"00:00:00"},{"$f":"'42.空手道（女子）'!H10","v":"00:00:00"},{"$f":"'42.空手道（女子）'!I10","v":"00:00:00"}]
[200602,null,null,351,20,{"$f":"IF('0.役員名簿'!$B$7=\"\",\"\",VLOOKUP('0.役員名簿'!$B$7,'各番号（変更不可）'!$J$2:$K$41,2,FALSE))","v":""},"06","02","一般女子組手","選　手",null,{"$f":"'42.空手道（女子）'!C11","v":0},null,{"$f":"'42.空手道（女子）'!D11","v":"00:00:00"},{"$f":"'42.空手道（女子）'!E11","v":""},{"$f":"'42.空手道（女子）'!F11","v":"00:00:00"},{"$f":"'42.空手道（女子）'!G11","v":"00:00:00"},{"$f":"'42.空手道（女子）'!H11","v":"00:00:00"},{"$f":"'42.空手道（女子）'!I11","v":"00:00:00"}]
[{"$f":"VALUE(E353&F353&G353&H353)","v":200603},null,null,352,20,{"$f":"IF('0.役員名簿'!$B$7=\"\",\"\",VLOOKUP('0.役員名簿'!$B$7,'各番号（変更不可）'!$J$2:$K$41,2,FALSE))","v":""},"06","03","一般女子組手","選　手",null,{"$f":"'42.空手道（女子）'!C12","v":0},null,{"$f":"'42.空手道（女子）'!D12","v":"00:00:00"},{"$f":"'42.空手道（女子）'!E12","v":""},{"$f":"'42.空手道（女子）'!F12","v":"00:00:00"},{"$f":"'42.空手道（女子）'!G12","v":"00:00:00"},{"$f":"'42.空手道（女子）'!H12","v":"00:00:00"},{"$f":"'42.空手道（女子）'!I12","v":"00:00:00"}]
[200604,null,null,353,20,{"$f":"IF('0.役員名簿'!$B$7=\"\",\"\",VLOOKUP('0.役員名簿'!$B$7,'各番号（変更不可）'!$J$2:$K$41,2,FALSE))","v":""},"06","04","一般女子組手","選　手",null,{"$f":"'42.空手道（女子）'!C13","v":0},null,{"$f":"'42.空手道（女子）'!D13","v":"00:00:00"},{"$f":"'42.空手道（女子）'!E13","v":""},{"$f":"'42.空手道（女子）'!F13","v":"00:00:00"},{"$f":"'42.空手道（女子）'!G13","v":"00:00:00"},{"$f":"'42.空手道（女子）'!H13","v":"00:00:00"},{"$f":"'42.空手道（女子）'!I13","v":"00:00:00"}]
[200605,null,null,354,20,{"$f":"IF('0.役員名簿'!$B$7=\"\",\"\",VLOOKUP('0.役員名簿'!$B$7,'各番号（変更不可）'!$J$2:$K$41,2,FALSE))","v":""},"06","05","一般女子組手","選　手",null,{"$f":"'42.空手道（女子）'!C14","v":0},null,{"$f":"'42.空手道（女子）'!D14","v":"00:00:00"},{"$f":"'42.空手道（女子）'!E14","v":""},{"$f":"'42.空手道（女子）'!F14","v":"00:00:00"},{"$f":"'42.空手道（女子）'!G14","v":"00:00:00"},{"$f":"'42.空手道（女子）'!H14","v":"00:00:00"},{"$f":"'42.空手道（女子）'!I14","v":"00:00:00"}]
[200701,null,null,355,20,{"$f":"IF('0.役員名簿'!$B$7=\"\",\"\",VLOOKUP('0.役員名簿'!$B$7,'各番号（変更不可）'!$J$2:$K$41,2,FALSE))","v":""},"07","01","一般女子形","選　手",null,{"$f":"'42.空手道（女子）'!C18","v":0},null,{"$f":"'42.空手道（女子）'!D18","v":"00:00:00"},{"$f":"'42.空手道（女子）'!E18","v":""},{"$f":"'42.空手道（女子）'!F18","v":"00:00:00"},{"$f":"'42.空手道（女子）'!G18","v":"00:00:00"},{"$f":"'42.空手道（女子）'!H18","v":"00:00:00"},{"$f":"'42.空手道（女子）'!I18","v":"00:00:00"}]
[200702,null,null,356,20,{"$f":"IF('0.役員名簿'!$B$7=\"\",\"\",VLOOKUP('0.役員名簿'!$B$7,'各番号（変更不可）'!$J$2:$K$41,2,FALSE))","v":""},"07","02","一般女子形","選　手",null,{"$f":"'42.空手道（女子）'!C19","v":0},null,{"$f":"'42.空手道（女子）'!D19","v":"00:00:00"},{"$f":"'42.空手道（女子）'!E19","v":""},{"$f":"'42.空手道（女子）'!F19","v":"00:00:00"},{"$f":"'42.空手道（女子）'!G19","v":"00:00:00"},{"$f":"'42.空手道（女子）'!H19","v":"00:00:00"},{"$f":"'42.空手道（女子）'!I19","v":"00:00:00"}]
[200703,null,null,357,20,{"$f":"IF('0.役員名簿'!$B$7=\"\",\"\",VLOOKUP('0.役員名簿'!$B$7,'各番号（変更不可）'!$J$2:$K$41,2,FALSE))","v":""},"07","03","一般女子形","選　手",null,{"$f":"'42.空手道（女子）'!C20","v":0},null,{"$f":"'42.空手道（女子）'!D20","v":"00:00:00"},{"$f":"'42.空手道（女子）'!E20","v":""},{"$f":"'42.空手道（女子）'!F20","v":"00:00:00"},{"$f":"'42.空手道（女子）'!G20","v":"00:00:00"},{"$f":"'42.空手道（女子）'!H20","v":"00:00:00"},{"$f":"'42.空手道（女子）'!I20","v":"00:00:00"}]
[200704,null,null,358,20,{"$f":"IF('0.役員名簿'!$B$7=\"\",\"\",VLOOKUP('0.役員名簿'!$B$7,'各番号（変更不可）'!$J$2:$K$41,2,FALSE))","v":""},"07","04","一般女子形","選　手",null,{"$f":"'42.空手道（女子）'!C21","v":0},null,{"$f":"'42.空手道（女子）'!D21","v":"00:00:00"},{"$f":"'42.空手道（女子）'!E21","v":""},{"$f":"'42.空手道（女子）'!F21","v":"00:00:00"},{"$f":"'42.空手道（女子）'!G21","v":"00:00:00"},{"$f":"'42.空手道（女子）'!H21","v":"00:00:00"},{"$f":"'42.空手道（女子）'!I21","v":"00:00:00"}]
[200801,null,null,359,20,{"$f":"IF('0.役員名簿'!$B$7=\"\",\"\",VLOOKUP('0.役員名簿'!$B$7,'各番号（変更不可）'!$J$2:$K$41,2,FALSE))","v":""},"08","01","壮年女子組手","選　手",null,{"$f":"'42.空手道（女子）'!C28","v":0},null,{"$f":"'42.空手道（女子）'!D28","v":"00:00:00"},{"$f":"'42.空手道（女子）'!E28","v":""},{"$f":"'42.空手道（女子）'!F28","v":"00:00:00"},{"$f":"'42.空手道（女子）'!G28","v":"00:00:00"},{"$f":"'42.空手道（女子）'!H28","v":"00:00:00"}]
[200802,null,null,360,20,{"$f":"IF('0.役員名簿'!$B$7=\"\",\"\",VLOOKUP('0.役員名簿'!$B$7,'各番号（変更不可）'!$J$2:$K$41,2,FALSE))","v":""},"08","02","壮年女子組手","選　手",null,{"$f":"'42.空手道（女子）'!C29","v":0},null,{"$f":"'42.空手道（女子）'!D29","v":"00:00:00"},{"$f":"'42.空手道（女子）'!E29","v":""},{"$f":"'42.空手道（女子）'!F29","v":"00:00:00"},{"$f":"'42.空手道（女子）'!G29","v":"00:00:00"},{"$f":"'42.空手道（女子）'!H29","v":"00:00:00"}]
[200803,null,null,361,20,{"$f":"IF('0.役員名簿'!$B$7=\"\",\"\",VLOOKUP('0.役員名簿'!$B$7,'各番号（変更不可）'!$J$2:$K$41,2,FALSE))","v":""},"08","03","壮年女子組手","選　手",null,{"$f":"'42.空手道（女子）'!C30","v":0},null,{"$f":"'42.空手道（女子）'!D30","v":"00:00:00"},{"$f":"'42.空手道（女子）'!E30","v":""},{"$f":"'42.空手道（女子）'!F30","v":"00:00:00"},{"$f":"'42.空手道（女子）'!G30","v":"00:00:00"},{"$f":"'42.空手道（女子）'!H30","v":"00:00:00"}]
[200804,null,null,362,20,{"$f":"IF('0.役員名簿'!$B$7=\"\",\"\",VLOOKUP('0.役員名簿'!$B$7,'各番号（変更不可）'!$J$2:$K$41,2,FALSE))","v":""},"08","04","壮年女子組手","選　手",null,{"$f":"'42.空手道（女子）'!C31","v":0},null,{"$f":"'42.空手道（女子）'!D31","v":"00:00:00"},{"$f":"'42.空手道（女子）'!E31","v":""},{"$f":"'42.空手道（女子）'!F31","v":"00:00:00"},{"$f":"'42.空手道（女子）'!G31","v":"00:00:00"},{"$f":"'42.空手道（女子）'!H31","v":"00:00:00"}]
[200901,null,null,363,20,{"$f":"IF('0.役員名簿'!$B$7=\"\",\"\",VLOOKUP('0.役員名簿'!$B$7,'各番号（変更不可）'!$J$2:$K$41,2,FALSE))","v":""},"09","01","壮年女子形","選　手",null,{"$f":"'42.空手道（女子）'!C35","v":0},null,{"$f":"'42.空手道（女子）'!D35","v":"00:00:00"},{"$f":"'42.空手道（女子）'!E35","v":""},{"$f":"'42.空手道（女子）'!F35","v":"00:00:00"},{"$f":"'42.空手道（女子）'!G35","v":"00:00:00"},{"$f":"'42.空手道（女子）'!H35","v":"00:00:00"}]
[200902,null,null,364,20,{"$f":"IF('0.役員名簿'!$B$7=\"\",\"\",VLOOKUP('0.役員名簿'!$B$7,'各番号（変更不可）'!$J$2:$K$41,2,FALSE))","v":""},"09","02","壮年女子形","選　手",null,{"$f":"'42.空手道（女子）'!C36","v":0},null,{"$f":"'42.空手道（女子）'!D36","v":"00:00:00"},{"$f":"'42.空手道（女子）'!E36","v":""},{"$f":"'42.空手道（女子）'!F36","v":"00:00:00"},{"$f":"'42.空手道（女子）'!G36","v":"00:00:00"},{"$f":"'42.空手道（女子）'!H36","v":"00:00:00"}]
[200903,null,null,365,20,{"$f":"IF('0.役員名簿'!$B$7=\"\",\"\",VLOOKUP('0.役員名簿'!$B$7,'各番号（変更不可）'!$J$2:$K$41,2,FALSE))","v":""},"09","03","壮年女子形","選　手",null,{"$f":"'42.空手道（女子）'!C37","v":0},null,{"$f":"'42.空手道（女子）'!D37","v":"00:00:00"},{"$f":"'42.空手道（女子）'!E37","v":""},{"$f":"'42.空手道（女子）'!F37","v":"00:00:00"},{"$f":"'42.空手道（女子）'!G37","v":"00:00:00"},{"$f":"'42.空手道（女子）'!H37","v":"00:00:00"}]
[200904,null,null,366,20,{"$f":"IF('0.役員名簿'!$B$7=\"\",\"\",VLOOKUP('0.役員名簿'!$B$7,'各番号（変更不可）'!$J$2:$K$41,2,FALSE))","v":""},"09","04","壮年女子形","選　手",null,{"$f":"'42.空手道（女子）'!C38","v":0},null,{"$f":"'42.空手道（女子）'!D38","v":"00:00:00"},{"$f":"'42.空手道（女子）'!E38","v":""},{"$f":"'42.空手道（女子）'!F38","v":"00:00:00"},{"$f":"'42.空手道（女子）'!G38","v":"00:00:00"},{"$f":"'42.空手道（女子）'!H38","v":"00:00:00"}]
[210101,null,null,367,21,{"$f":"IF('0.役員名簿'!$B$7=\"\",\"\",VLOOKUP('0.役員名簿'!$B$7,'各番号（変更不可）'!$J$2:$K$41,2,FALSE))","v":""},"01","01",null,"監督",null,{"$f":"'43.テニス'!C11","v":0},null,{"$f":"'43.テニス'!D11","v":"00:00:00"},{"$f":"'43.テニス'!E11","v":""},{"$f":"'43.テニス'!F11","v":0}]
[210102,null,null,368,21,{"$f":"IF('0.役員名簿'!$B$7=\"\",\"\",VLOOKUP('0.役員名簿'!$B$7,'各番号（変更不可）'!$J$2:$K$41,2,FALSE))","v":""},"01","02",null,"男子",{"$f":"'43.テニス'!B12","v":"Ａ"},{"$f":"'43.テニス'!C12","v":0},null,{"$f":"'43.テニス'!D12","v":"00:00:00"},{"$f":"'43.テニス'!E12","v":""},{"$f":"'43.テニス'!F12","v":0}]
[210103,null,null,369,21,{"$f":"IF('0.役員名簿'!$B$7=\"\",\"\",VLOOKUP('0.役員名簿'!$B$7,'各番号（変更不可）'!$J$2:$K$41,2,FALSE))","v":""},"01","03",null,"男子",{"$f":"'43.テニス'!B13","v":"Ｂ"},{"$f":"'43.テニス'!C13","v":0},null,{"$f":"'43.テニス'!D13","v":"00:00:00"},{"$f":"'43.テニス'!E13","v":""},{"$f":"'43.テニス'!F13","v":0}]
[210104,null,null,370,21,{"$f":"IF('0.役員名簿'!$B$7=\"\",\"\",VLOOKUP('0.役員名簿'!$B$7,'各番号（変更不可）'!$J$2:$K$41,2,FALSE))","v":""},"01","04",null,"男子",{"$f":"'43.テニス'!B14","v":"C"},{"$f":"'43.テニス'!C14","v":0},null,{"$f":"'43.テニス'!D14","v":"00:00:00"},{"$f":"'43.テニス'!E14","v":""},{"$f":"'43.テニス'!F14","v":0}]
[210105,null,null,371,21,{"$f":"IF('0.役員名簿'!$B$7=\"\",\"\",VLOOKUP('0.役員名簿'!$B$7,'各番号（変更不可）'!$J$2:$K$41,2,FALSE))","v":""},"01","05",null,"男子",{"$f":"'43.テニス'!B15","v":"D"},{"$f":"'43.テニス'!C15","v":0},null,{"$f":"'43.テニス'!D15","v":"00:00:00"},{"$f":"'43.テニス'!E15","v":""},{"$f":"'43.テニス'!F15","v":0}]
[210106,null,null,372,21,{"$f":"IF('0.役員名簿'!$B$7=\"\",\"\",VLOOKUP('0.役員名簿'!$B$7,'各番号（変更不可）'!$J$2:$K$41,2,FALSE))","v":""},"01","06",null,"女子",{"$f":"'43.テニス'!B16","v":"Ａ"},{"$f":"'43.テニス'!C16","v":0},null,{"$f":"'43.テニス'!D16","v":"00:00:00"},{"$f":"'43.テニス'!E16","v":""},{"$f":"'43.テニス'!F16","v":0}]
[210107,null,null,373,21,{"$f":"IF('0.役員名簿'!$B$7=\"\",\"\",VLOOKUP('0.役員名簿'!$B$7,'各番号（変更不可）'!$J$2:$K$41,2,FALSE))","v":""},"01","07",null,"女子",{"$f":"'43.テニス'!B17","v":"Ｂ"},{"$f":"'43.テニス'!C17","v":0},null,{"$f":"'43.テニス'!D17","v":"00:00:00"},{"$f":"'43.テニス'!E17","v":""},{"$f":"'43.テニス'!F17","v":0}]
[210108,null,null,374,21,{"$f":"IF('0.役員名簿'!$B$7=\"\",\"\",VLOOKUP('0.役員名簿'!$B$7,'各番号（変更不可）'!$J$2:$K$41,2,FALSE))","v":""},"01","08",null,"女子",{"$f":"'43.テニス'!B18","v":"C"},{"$f":"'43.テニス'!C18","v":0},null,{"$f":"'43.テニス'!D18","v":"00:00:00"},{"$f":"'43.テニス'!E18","v":""},{"$f":"'43.テニス'!F18","v":0}]
[210109,null,null,375,21,{"$f":"IF('0.役員名簿'!$B$7=\"\",\"\",VLOOKUP('0.役員名簿'!$B$7,'各番号（変更不可）'!$J$2:$K$41,2,FALSE))","v":""},"01","09",null,"女子",{"$f":"'43.テニス'!B19","v":"D"},{"$f":"'43.テニス'!C19","v":0},null,{"$f":"'43.テニス'!D19","v":"00:00:00"},{"$f":"'43.テニス'!E19","v":""},{"$f":"'43.テニス'!F19","v":0}]
[220101,-1,null,376,22,{"$f":"IF('0.役員名簿'!$B$7=\"\",\"\",VLOOKUP('0.役員名簿'!$B$7,'各番号（変更不可）'!$J$2:$K$41,2,FALSE))","v":""},"01","01","一般","監　督",null,{"$f":"'3.陸上（一般）'!C9","v":"00:00:00"},null,{"$f":"'3.陸上（一般）'!D9","v":"00:00:00"},{"$f":"'3.陸上（一般）'!E9","v":""},{"$f":"'3.陸上（一般）'!F9","v":0}]
[220102,0,null,377,22,{"$f":"IF('0.役員名簿'!$B$7=\"\",\"\",VLOOKUP('0.役員名簿'!$B$7,'各番号（変更不可）'!$J$2:$K$41,2,FALSE))","v":""},"01","02","一般","監　督",null,{"$f":"'3.陸上（一般）'!C10","v":"00:00:00"},null,{"$f":"'3.陸上（一般）'!D10","v":"00:00:00"},{"$f":"'3.陸上（一般）'!E10","v":""},{"$f":"'3.陸上（一般）'!F10","v":0}]
[220103,1,1,378,22,{"$f":"IF('0.役員名簿'!$B$7=\"\",\"\",VLOOKUP('0.役員名簿'!$B$7,'各番号（変更不可）'!$J$2:$K$41,2,FALSE))","v":""},"01","03","一般男子","100ｍ",{"$f":"'3.陸上（一般）'!B14","v":0},{"$f":"'3.陸上（一般）'!C14","v":"00:00:00"},null,{"$f":"'3.陸上（一般）'!D14","v":"00:00:00"},{"$f":"'3.陸上（一般）'!E14","v":""},{"$f":"'3.陸上（一般）'!F14","v":0}]
[220104,2,1,379,22,{"$f":"IF('0.役員名簿'!$B$7=\"\",\"\",VLOOKUP('0.役員名簿'!$B$7,'各番号（変更不可）'!$J$2:$K$41,2,FALSE))","v":""},"01","04","一般男子","100ｍ",{"$f":"'3.陸上（一般）'!B15","v":0},{"$f":"'3.陸上（一般）'!C15","v":0},null,{"$f":"'3.陸上（一般）'!D15","v":"00:00:00"},{"$f":"'3.陸上（一般）'!E15","v":""},{"$f":"'3.陸上（一般）'!F15","v":0}]
[220105,3,1,380,22,{"$f":"IF('0.役員名簿'!$B$7=\"\",\"\",VLOOKUP('0.役員名簿'!$B$7,'各番号（変更不可）'!$J$2:$K$41,2,FALSE))","v":""},"01","05","一般男子","5,000ｍ",{"$f":"'3.陸上（一般）'!B16","v":0},{"$f":"'3.陸上（一般）'!C16","v":0},null,{"$f":"'3.陸上（一般）'!D16","v":"00:00:00"},{"$f":"'3.陸上（一般）'!E16","v":""},{"$f":"'3.陸上（一般）'!F16","v":0}]
[220106,4,1,381,22,{"$f":"IF('0.役員名簿'!$B$7=\"\",\"\",VLOOKUP('0.役員名簿'!$B$7,'各番号（変更不可）'!$J$2:$K$41,2,FALSE))","v":""},"01","06","一般男子","5,000ｍ",{"$f":"'3.陸上（一般）'!B17","v":0},{"$f":"'3.陸上（一般）'!C17","v":0},null,{"$f":"'3.陸上（一般）'!D17","v":"00:00:00"},{"$f":"'3.陸上（一般）'!E17","v":""},{"$f":"'3.陸上（一般）'!F17","v":0}]
[220107,5,1,382,22,{"$f":"IF('0.役員名簿'!$B$7=\"\",\"\",VLOOKUP('0.役員名簿'!$B$7,'各番号（変更不可）'!$J$2:$K$41,2,FALSE))","v":""},"01","07","一般男子","走高跳",{"$f":"'3.陸上（一般）'!B18","v":0},{"$f":"'3.陸上（一般）'!C18","v":0},null,{"$f":"'3.陸上（一般）'!D18","v":"00:00:00"},{"$f":"'3.陸上（一般）'!E18","v":""},{"$f":"'3.陸上（一般）'!F18","v":0}]
[220108,6,1,383,22,{"$f":"IF('0.役員名簿'!$B$7=\"\",\"\",VLOOKUP('0.役員名簿'!$B$7,'各番号（変更不可）'!$J$2:$K$41,2,FALSE))","v":""},"01","08","一般男子","走高跳",{"$f":"'3.陸上（一般）'!B19","v":0},{"$f":"'3.陸上（一般）'!C19","v":0},null,{"$f":"'3.陸上（一般）'!D19","v":"00:00:00"},{"$f":"'3.陸上（一般）'!E19","v":""},{"$f":"'3.陸上（一般）'!F19","v":0}]
[220109,7,1,384,22,{"$f":"IF('0.役員名簿'!$B$7=\"\",\"\",VLOOKUP('0.役員名簿'!$B$7,'各番号（変更不可）'!$J$2:$K$41,2,FALSE))","v":""},"01","09","一般男子","走幅跳",{"$f":"'3.陸上（一般）'!B20","v":0},{"$f":"'3.陸上（一般）'!C20","v":0},null,{"$f":"'3.陸上（一般）'!D20","v":"00:00:00"},{"$f":"'3.陸上（一般）'!E20","v":""},{"$f":"'3.陸上（一般）'!F20","v":0}]
[220110,8,1,385,22,{"$f":"IF('0.役員名簿'!$B$7=\"\",\"\",VLOOKUP('0.役員名簿'!$B$7,'各番号（変更不可）'!$J$2:$K$41,2,FALSE))","v":""},"01",10,"一般男子","走幅跳",{"$f":"'3.陸上（一般）'!B21","v":0},{"$f":"'3.陸上（一般）'!C21","v":0},null,{"$f":"'3.陸上（一般）'!D21","v":"00:00:00"},{"$f":"'3.陸上（一般）'!E21","v":""},{"$f":"'3.陸上（一般）'!F21","v":0}]
[220111,63,2,386,22,{"$f":"IF('0.役員名簿'!$B$7=\"\",\"\",VLOOKUP('0.役員名簿'!$B$7,'各番号（変更不可）'!$J$2:$K$41,2,FALSE))","v":""},"01",11,"一般女子","100ｍ",{"$f":"'3.陸上（一般）'!B25","v":0},{"$f":"'3.陸上（一般）'!C25","v":0},null,{"$f":"'3.陸上（一般）'!D25","v":"00:00:00"},{"$f":"'3.陸上（一般）'!E25","v":""},{"$f":"'3.陸上（一般）'!F25","v":0}]
[220112,64,2,387,22,{"$f":"IF('0.役員名簿'!$B$7=\"\",\"\",VLOOKUP('0.役員名簿'!$B$7,'各番号（変更不可）'!$J$2:$K$41,2,FALSE))","v":""},"01",12,"一般女子","100ｍ",{"$f":"'3.陸上（一般）'!B26","v":0},{"$f":"'3.陸上（一般）'!C26","v":0},null,{"$f":"'3.陸上（一般）'!D26","v":"00:00:00"},{"$f":"'3.陸上（一般）'!E26","v":""},{"$f":"'3.陸上（一般）'!F26","v":0}]
[220113,65,2,388,22,{"$f":"IF('0.役員名簿'!$B$7=\"\",\"\",VLOOKUP('0.役員名簿'!$B$7,'各番号（変更不可）'!$J$2:$K$41,2,FALSE))","v":""},"01",13,"一般女子","3,000ｍ",{"$f":"'3.陸上（一般）'!B27","v":0},{"$f":"'3.陸上（一般）'!C27","v":0},null,{"$f":"'3.陸上（一般）'!D27","v":"00:00:00"},{"$f":"'3.陸上（一般）'!E27","v":""},{"$f":"'3.陸上（一般）'!F27","v":0}]
[220114,66,2,389,22,{"$f":"IF('0.役員名簿'!$B$7=\"\",\"\",VLOOKUP('0.役員名簿'!$B$7,'各番号（変更不可）'!$J$2:$K$41,2,FALSE))","v":""},"01",14,"一般女子","3,000ｍ",{"$f":"'3.陸上（一般）'!B28","v":0},{"$f":"'3.陸上（一般）'!C28","v":0},null,{"$f":"'3.陸上（一般）'!D28","v":"00:00:00"},{"$f":"'3.陸上（一般）'!E28","v":""},{"$f":"'3.陸上（一般）'!F28","v":0}]
[220115,67,2,390,22,{"$f":"IF('0.役員名簿'!$B$7=\"\",\"\",VLOOKUP('0.役員名簿'!$B$7,'各番号（変更不可）'!$J$2:$K$41,2,FALSE))","v":""},"01",15,"一般女子","走幅跳",{"$f":"'3.陸上（一般）'!B29","v":0},{"$f":"'3.陸上（一般）'!C29","v":0},null,{"$f":"'3.陸上（一般）'!D29","v":"00:00:00"},{"$f":"'3.陸上（一般）'!E29","v":""},{"$f":"'3.陸上（一般）'!F29","v":0}]
[220116,68,2,391,22,{"$f":"IF('0.役員名簿'!$B$7=\"\",\"\",VLOOKUP('0.役員名簿'!$B$7,'各番号（変更不可）'!$J$2:$K$41,2,FALSE))","v":""},"01",16,"一般女子","走幅跳",{"$f":"'3.陸上（一般）'!B30","v":0},{"$f":"'3.陸上（一般）'!C30","v":0},null,{"$f":"'3.陸上（一般）'!D30","v":"00:00:00"},{"$f":"'3.陸上（一般）'!E30","v":""},{"$f":"'3.陸上（一般）'!F30","v":0}]
[220117,69,2,392,22,{"$f":"IF('0.役員名簿'!$B$7=\"\",\"\",VLOOKUP('0.役員名簿'!$B$7,'各番号（変更不可）'!$J$2:$K$41,2,FALSE))","v":""},"01",17,"一般女子","砲丸投（4kg）",{"$f":"'3.陸上（一般）'!B31","v":0},{"$f":"'3.陸上（一般）'!C31","v":0},null,{"$f":"'3.陸上（一般）'!D31","v":"00:00:00"},{"$f":"'3.陸上（一般）'!E31","v":""},{"$f":"'3.陸上（一般）'!F31","v":0}]
[{"$f":"VALUE(E394&F394&G394&H394)","v":220118},70,2,393,22,{"$f":"IF('0.役員名簿'!$B$7=\"\",\"\",VLOOKUP('0.役員名簿'!$B$7,'各番号（変更不可）'!$J$2:$K$41,2,FALSE))","v":""},"01",18,"一般女子","砲丸投（4kg）",{"$f":"'3.陸上（一般）'!B32","v":0},{"$f":"'3.陸上（一般）'!C32","v":0},null,{"$f":"'3.陸上（一般）'!D32","v":"00:00:00"},{"$f":"'3.陸上（一般）'!E32","v":""},{"$f":"'3.陸上（一般）'!F32","v":0}]
[220201,9,1,394,22,{"$f":"IF('0.役員名簿'!$B$7=\"\",\"\",VLOOKUP('0.役員名簿'!$B$7,'各番号（変更不可）'!$J$2:$K$41,2,FALSE))","v":""},"02","01","青年男子","100ｍ",{"$f":"'4.陸上（青年・リレー）'!B9","v":0},{"$f":"'4.陸上（青年・リレー）'!C9","v":0},null,{"$f":"'4.陸上（青年・リレー）'!D9","v":"00:00:00"},{"$f":"'4.陸上（青年・リレー）'!E9","v":""},{"$f":"'4.陸上（青年・リレー）'!F9","v":0}]
[220202,10,1,395,22,{"$f":"IF('0.役員名簿'!$B$7=\"\",\"\",VLOOKUP('0.役員名簿'!$B$7,'各番号（変更不可）'!$J$2:$K$41,2,FALSE))","v":""},"02","02","青年男子","100ｍ",{"$f":"'4.陸上（青年・リレー）'!B10","v":0},{"$f":"'4.陸上（青年・リレー）'!C10","v":0},null,{"$f":"'4.陸上（青年・リレー）'!D10","v":"00:00:00"},{"$f":"'4.陸上（青年・リレー）'!E10","v":""},{"$f":"'4.陸上（青年・リレー）'!F10","v":0}]
[220203,11,1,396,22,{"$f":"IF('0.役員名簿'!$B$7=\"\",\"\",VLOOKUP('0.役員名簿'!$B$7,'各番号（変更不可）'!$J$2:$K$41,2,FALSE))","v":""},"02","03","青年男子","400ｍ",{"$f":"'4.陸上（青年・リレー）'!B11","v":0},{"$f":"'4.陸上（青年・リレー）'!C11","v":0},null,{"$f":"'4.陸上（青年・リレー）'!D11","v":"00:00:00"},{"$f":"'4.陸上（青年・リレー）'!E11","v":""},{"$f":"'4.陸上（青年・リレー）'!F11","v":0}]
[220204,12,1,397,22,{"$f":"IF('0.役員名簿'!$B$7=\"\",\"\",VLOOKUP('0.役員名簿'!$B$7,'各番号（変更不可）'!$J$2:$K$41,2,FALSE))","v":""},"02","04","青年男子","400ｍ",{"$f":"'4.陸上（青年・リレー）'!B12","v":0},{"$f":"'4.陸上（青年・リレー）'!C12","v":0},null,{"$f":"'4.陸上（青年・リレー）'!D12","v":"00:00:00"},{"$f":"'4.陸上（青年・リレー）'!E12","v":""},{"$f":"'4.陸上（青年・リレー）'!F12","v":0}]
[220205,13,1,398,22,{"$f":"IF('0.役員名簿'!$B$7=\"\",\"\",VLOOKUP('0.役員名簿'!$B$7,'各番号（変更不可）'!$J$2:$K$41,2,FALSE))","v":""},"02","05","青年男子","1,500ｍ",{"$f":"'4.陸上（青年・リレー）'!B13","v":0},{"$f":"'4.陸上（青年・リレー）'!C13","v":0},null,{"$f":"'4.陸上（青年・リレー）'!D13","v":"00:00:00"},{"$f":"'4.陸上（青年・リレー）'!E13","v":""},{"$f":"'4.陸上（青年・リレー）'!F13","v":0}]
[220206,14,1,399,22,{"$f":"IF('0.役員名簿'!$B$7=\"\",\"\",VLOOKUP('0.役員名簿'!$B$7,'各番号（変更不可）'!$J$2:$K$41,2,FALSE))","v":""},"02","06","青年男子","1,500ｍ",{"$f":"'4.陸上（青年・リレー）'!B14","v":0},{"$f":"'4.陸上（青年・リレー）'!C14","v":0},null,{"$f":"'4.陸上（青年・リレー）'!D14","v":"00:00:00"},{"$f":"'4.陸上（青年・リレー）'!E14","v":""},{"$f":"'4.陸上（青年・リレー）'!F14","v":0}]
[220207,15,1,400,22,{"$f":"IF('0.役員名簿'!$B$7=\"\",\"\",VLOOKUP('0.役員名簿'!$B$7,'各番号（変更不可）'!$J$2:$K$41,2,FALSE))","v":""},"02","07","青年男子","5,000ｍ",{"$f":"'4.陸上（青年・リレー）'!B15","v":0},{"$f":"'4.陸上（青年・リレー）'!C15","v":0},null,{"$f":"'4.陸上（青年・リレー）'!D15","v":"00:00:00"},{"$f":"'4.陸上（青年・リレー）'!E15","v":""},{"$f":"'4.陸上（青年・リレー）'!F15","v":0}]
[220208,16,1,401,22,{"$f":"IF('0.役員名簿'!$B$7=\"\",\"\",VLOOKUP('0.役員名簿'!$B$7,'各番号（変更不可）'!$J$2:$K$41,2,FALSE))","v":""},"02","08","青年男子","5,000ｍ",{"$f":"'4.陸上（青年・リレー）'!B16","v":0},{"$f":"'4.陸上（青年・リレー）'!C16","v":0},null,{"$f":"'4.陸上（青年・リレー）'!D16","v":"00:00:00"},{"$f":"'4.陸上（青年・リレー）'!E16","v":""},{"$f":"'4.陸上（青年・リレー）'!F16","v":0}]
[220209,17,1,402,22,{"$f":"IF('0.役員名簿'!$B$7=\"\",\"\",VLOOKUP('0.役員名簿'!$B$7,'各番号（変更不可）'!$J$2:$K$41,2,FALSE))","v":""},"02","09","青年男子","走高跳",{"$f":"'4.陸上（青年・リレー）'!B17","v":0},{"$f":"'4.陸上（青年・リレー）'!C17","v":0},null,{"$f":"'4.陸上（青年・リレー）'!D17","v":"00:00:00"},{"$f":"'4.陸上（青年・リレー）'!E17","v":""},{"$f":"'4.陸上（青年・リレー）'!F17","v":0}]
[220210,18,1,403,22,{"$f":"IF('0.役員名簿'!$B$7=\"\",\"\",VLOOKUP('0.役員名簿'!$B$7,'各番号（変更不可）'!$J$2:$K$41,2,FALSE))","v":""},"02",10,"青年男子","走高跳",{"$f":"'4.陸上（青年・リレー）'!B18","v":0},{"$f":"'4.陸上（青年・リレー）'!C18","v":0},null,{"$f":"'4.陸上（青年・リレー）'!D18","v":"00:00:00"},{"$f":"'4.陸上（青年・リレー）'!E18","v":""},{"$f":"'4.陸上（青年・リレー）'!F18","v":0}]
[220211,19,1,404,22,{"$f":"IF('0.役員名簿'!$B$7=\"\",\"\",VLOOKUP('0.役員名簿'!$B$7,'各番号（変更不可）'!$J$2:$K$41,2,FALSE))","v":""},"02",11,"青年男子","走幅跳",{"$f":"'4.陸上（青年・リレー）'!B19","v":0},{"$f":"'4.陸上（青年・リレー）'!C19","v":0},null,{"$f":"'4.陸上（青年・リレー）'!D19","v":"00:00:00"},{"$f":"'4.陸上（青年・リレー）'!E19","v":""},{"$f":"'4.陸上（青年・リレー）'!F19","v":0}]
[220212,20,1,405,22,{"$f":"IF('0.役員名簿'!$B$7=\"\",\"\",VLOOKUP('0.役員名簿'!$B$7,'各番号（変更不可）'!$J$2:$K$41,2,FALSE))","v":""},"02",12,"青年男子","走幅跳",{"$f":"'4.陸上（青年・リレー）'!B20","v":0},{"$f":"'4.陸上（青年・リレー）'!C20","v":0},null,{"$f":"'4.陸上（青年・リレー）'!D20","v":"00:00:00"},{"$f":"'4.陸上（青年・リレー）'!E20","v":""},{"$f":"'4.陸上（青年・リレー）'!F20","v":0}]
[220213,21,1,406,22,{"$f":"IF('0.役員名簿'!$B$7=\"\",\"\",VLOOKUP('0.役員名簿'!$B$7,'各番号（変更不可）'!$J$2:$K$41,2,FALSE))","v":""},"02",13,"青年男子","砲丸投（6kg）",{"$f":"'4.陸上（青年・リレー）'!B21","v":0},{"$f":"'4.陸上（青年・リレー）'!C21","v":0},null,{"$f":"'4.陸上（青年・リレー）'!D21","v":"00:00:00"},{"$f":"'4.陸上（青年・リレー）'!E21","v":""},{"$f":"'4.陸上（青年・リレー）'!F21","v":0}]
[220214,22,1,407,22,{"$f":"IF('0.役員名簿'!$B$7=\"\",\"\",VLOOKUP('0.役員名簿'!$B$7,'各番号（変更不可）'!$J$2:$K$41,2,FALSE))","v":""},"02",14,"青年男子","砲丸投（6kg）",{"$f":"'4.陸上（青年・リレー）'!B22","v":0},{"$f":"'4.陸上（青年・リレー）'!C22","v":0},null,{"$f":"'4.陸上（青年・リレー）'!D22","v":"00:00:00"},{"$f":"'4.陸上（青年・リレー）'!E22","v":""},{"$f":"'4.陸上（青年・リレー）'!F22","v":0}]
[220215,71,2,408,22,{"$f":"IF('0.役員名簿'!$B$7=\"\",\"\",VLOOKUP('0.役員名簿'!$B$7,'各番号（変更不可）'!$J$2:$K$41,2,FALSE))","v":""},"02",15,"青年女子","100ｍ",{"$f":"'4.陸上（青年・リレー）'!B25","v":0},{"$f":"'4.陸上（青年・リレー）'!C25","v":0},null,{"$f":"'4.陸上（青年・リレー）'!D25","v":"00:00:00"},{"$f":"'4.陸上（青年・リレー）'!E25","v":""},{"$f":"'4.陸上（青年・リレー）'!F25","v":0}]
[220216,72,2,409,22,{"$f":"IF('0.役員名簿'!$B$7=\"\",\"\",VLOOKUP('0.役員名簿'!$B$7,'各番号（変更不可）'!$J$2:$K$41,2,FALSE))","v":""},"02",16,"青年女子","100ｍ",{"$f":"'4.陸上（青年・リレー）'!B26","v":0},{"$f":"'4.陸上（青年・リレー）'!C26","v":0},null,{"$f":"'4.陸上（青年・リレー）'!D26","v":"00:00:00"},{"$f":"'4.陸上（青年・リレー）'!E26","v":""},{"$f":"'4.陸上（青年・リレー）'!F26","v":0}]
[220217,73,2,410,22,{"$f":"IF('0.役員名簿'!$B$7=\"\",\"\",VLOOKUP('0.役員名簿'!$B$7,'各番号（変更不可）'!$J$2:$K$41,2,FALSE))","v":""},"02",17,"青年女子","200ｍ",{"$f":"'4.陸上（青年・リレー）'!B27","v":0},{"$f":"'4.陸上（青年・リレー）'!C27","v":0},null,{"$f":"'4.陸上（青年・リレー）'!D27","v":"00:00:00"},{"$f":"'4.陸上（青年・リレー）'!E27","v":""},{"$f":"'4.陸上（青年・リレー）'!F27","v":0}]
[220218,74,2,411,22,{"$f":"IF('0.役員名簿'!$B$7=\"\",\"\",VLOOKUP('0.役員名簿'!$B$7,'各番号（変更不可）'!$J$2:$K$41,2,FALSE))","v":""},"02",18,"青年女子","200ｍ",{"$f":"'4.陸上（青年・リレー）'!B28","v":0},{"$f":"'4.陸上（青年・リレー）'!C28","v":0},null,{"$f":"'4.陸上（青年・リレー）'!D28","v":"00:00:00"},{"$f":"'4.陸上（青年・リレー）'!E28","v":""},{"$f":"'4.陸上（青年・リレー）'!F28","v":0}]
[220219,75,2,412,22,{"$f":"IF('0.役員名簿'!$B$7=\"\",\"\",VLOOKUP('0.役員名簿'!$B$7,'各番号（変更不可）'!$J$2:$K$41,2,FALSE))","v":""},"02",19,"青年女子","800ｍ",{"$f":"'4.陸上（青年・リレー）'!B29","v":0},{"$f":"'4.陸上（青年・リレー）'!C29","v":0},null,{"$f":"'4.陸上（青年・リレー）'!D29","v":"00:00:00"},{"$f":"'4.陸上（青年・リレー）'!E29","v":""},{"$f":"'4.陸上（青年・リレー）'!F29","v":0}]
[220220,76,2,413,22,{"$f":"IF('0.役員名簿'!$B$7=\"\",\"\",VLOOKUP('0.役員名簿'!$B$7,'各番号（変更不可）'!$J$2:$K$41,2,FALSE))","v":""},"02",20,"青年女子","800ｍ",{"$f":"'4.陸上（青年・リレー）'!B30","v":0},{"$f":"'4.陸上（青年・リレー）'!C30","v":0},null,{"$f":"'4.陸上（青年・リレー）'!D30","v":"00:00:00"},{"$f":"'4.陸上（青年・リレー）'!E30","v":""},{"$f":"'4.陸上（青年・リレー）'!F30","v":0}]
[220221,77,2,414,22,{"$f":"IF('0.役員名簿'!$B$7=\"\",\"\",VLOOKUP('0.役員名簿'!$B$7,'各番号（変更不可）'!$J$2:$K$41,2,FALSE))","v":""},"02",21,"青年女子","走高跳",{"$f":"'4.陸上（青年・リレー）'!B31","v":0},{"$f":"'4.陸上（青年・リレー）'!C31","v":0},null,{"$f":"'4.陸上（青年・リレー）'!D31","v":"00:00:00"},{"$f":"'4.陸上（青年・リレー）'!E31","v":""},{"$f":"'4.陸上（青年・リレー）'!F31","v":0}]
[220222,78,2,415,22,{"$f":"IF('0.役員名簿'!$B$7=\"\",\"\",VLOOKUP('0.役員名簿'!$B$7,'各番号（変更不可）'!$J$2:$K$41,2,FALSE))","v":""},"02",22,"青年女子","走高跳",{"$f":"'4.陸上（青年・リレー）'!B32","v":0},{"$f":"'4.陸上（青年・リレー）'!C32","v":0},null,{"$f":"'4.陸上（青年・リレー）'!D32","v":"00:00:00"},{"$f":"'4.陸上（青年・リレー）'!E32","v":""},{"$f":"'4.陸上（青年・リレー）'!F32","v":0}]
[220223,79,2,416,22,{"$f":"IF('0.役員名簿'!$B$7=\"\",\"\",VLOOKUP('0.役員名簿'!$B$7,'各番号（変更不可）'!$J$2:$K$41,2,FALSE))","v":""},"02",23,"青年女子","走幅跳",{"$f":"'4.陸上（青年・リレー）'!B33","v":0},{"$f":"'4.陸上（青年・リレー）'!C33","v":0},null,{"$f":"'4.陸上（青年・リレー）'!D33","v":"00:00:00"},{"$f":"'4.陸上（青年・リレー）'!E33","v":""},{"$f":"'4.陸上（青年・リレー）'!F33","v":0}]
[220224,80,2,417,22,{"$f":"IF('0.役員名簿'!$B$7=\"\",\"\",VLOOKUP('0.役員名簿'!$B$7,'各番号（変更不可）'!$J$2:$K$41,2,FALSE))","v":""},"02",24,"青年女子","走幅跳",{"$f":"'4.陸上（青年・リレー）'!B34","v":0},{"$f":"'4.陸上（青年・リレー）'!C34","v":0},null,{"$f":"'4.陸上（青年・リレー）'!D34","v":"00:00:00"},{"$f":"'4.陸上（青年・リレー）'!E34","v":""},{"$f":"'4.陸上（青年・リレー）'!F34","v":0}]
[220225,81,2,418,22,{"$f":"IF('0.役員名簿'!$B$7=\"\",\"\",VLOOKUP('0.役員名簿'!$B$7,'各番号（変更不可）'!$J$2:$K$41,2,FALSE))","v":""},"02",25,"青年女子","砲丸投（4kg）",{"$f":"'4.陸上（青年・リレー）'!B35","v":0},{"$f":"'4.陸上（青年・リレー）'!C35","v":0},null,{"$f":"'4.陸上（青年・リレー）'!D35","v":"00:00:00"},{"$f":"'4.陸上（青年・リレー）'!E35","v":""},{"$f":"'4.陸上（青年・リレー）'!F35","v":0}]
[220226,82,2,419,22,{"$f":"IF('0.役員名簿'!$B$7=\"\",\"\",VLOOKUP('0.役員名簿'!$B$7,'各番号（変更不可）'!$J$2:$K$41,2,FALSE))","v":""},"02",26,"青年女子","砲丸投（4kg）",{"$f":"'4.陸上（青年・リレー）'!B36","v":0},{"$f":"'4.陸上（青年・リレー）'!C36","v":0},null,{"$f":"'4.陸上（青年・リレー）'!D36","v":"00:00:00"},{"$f":"'4.陸上（青年・リレー）'!E36","v":""},{"$f":"'4.陸上（青年・リレー）'!F36","v":0}]
[220227,123,1,420,22,{"$f":"IF('0.役員名簿'!$B$7=\"\",\"\",VLOOKUP('0.役員名簿'!$B$7,'各番号（変更不可）'!$J$2:$K$41,2,FALSE))","v":""},"02",27,"男子リレー","男子4×100ｍR",{"$f":"'4.陸上（青年・リレー）'!B39","v":0},{"$f":"'4.陸上（青年・リレー）'!C39","v":0},null,{"$f":"'4.陸上（青年・リレー）'!D39","v":"00:00:00"},{"$f":"'4.陸上（青年・リレー）'!E39","v":""},{"$f":"'4.陸上（青年・リレー）'!F39","v":0}]
[220228,124,1,421,22,{"$f":"IF('0.役員名簿'!$B$7=\"\",\"\",VLOOKUP('0.役員名簿'!$B$7,'各番号（変更不可）'!$J$2:$K$41,2,FALSE))","v":""},"02",28,"男子リレー","男子4×100ｍR",{"$f":"'4.陸上（青年・リレー）'!B40","v":0},{"$f":"'4.陸上（青年・リレー）'!C40","v":0},null,{"$f":"'4.陸上（青年・リレー）'!D40","v":"00:00:00"},{"$f":"'4.陸上（青年・リレー）'!E40","v":""},{"$f":"'4.陸上（青年・リレー）'!F40","v":0}]
[220229,125,1,422,22,{"$f":"IF('0.役員名簿'!$B$7=\"\",\"\",VLOOKUP('0.役員名簿'!$B$7,'各番号（変更不可）'!$J$2:$K$41,2,FALSE))","v":""},"02",29,"男子リレー","男子4×100ｍR",{"$f":"'4.陸上（青年・リレー）'!B41","v":0},{"$f":"'4.陸上（青年・リレー）'!C41","v":0},null,{"$f":"'4.陸上（青年・リレー）'!D41","v":"00:00:00"},{"$f":"'4.陸上（青年・リレー）'!E41","v":""},{"$f":"'4.陸上（青年・リレー）'!F41","v":0}]
[220230,126,1,423,22,{"$f":"IF('0.役員名簿'!$B$7=\"\",\"\",VLOOKUP('0.役員名簿'!$B$7,'各番号（変更不可）'!$J$2:$K$41,2,FALSE))","v":""},"02",30,"男子リレー","男子4×100ｍR",{"$f":"'4.陸上（青年・リレー）'!B42","v":0},{"$f":"'4.陸上（青年・リレー）'!C42","v":0},null,{"$f":"'4.陸上（青年・リレー）'!D42","v":"00:00:00"},{"$f":"'4.陸上（青年・リレー）'!E42","v":""},{"$f":"'4.陸上（青年・リレー）'!F42","v":0}]
[220231,127,1,424,22,{"$f":"IF('0.役員名簿'!$B$7=\"\",\"\",VLOOKUP('0.役員名簿'!$B$7,'各番号（変更不可）'!$J$2:$K$41,2,FALSE))","v":""},"02",31,"男子リレー","男子4×100ｍR",{"$f":"'4.陸上（青年・リレー）'!B43","v":0},{"$f":"'4.陸上（青年・リレー）'!C43","v":0},null,{"$f":"'4.陸上（青年・リレー）'!D43","v":"00:00:00"},{"$f":"'4.陸上（青年・リレー）'!E43","v":""},{"$f":"'4.陸上（青年・リレー）'!F43","v":0}]
[220232,128,1,425,22,{"$f":"IF('0.役員名簿'!$B$7=\"\",\"\",VLOOKUP('0.役員名簿'!$B$7,'各番号（変更不可）'!$J$2:$K$41,2,FALSE))","v":""},"02",32,"男子リレー","男子4×100ｍR",{"$f":"'4.陸上（青年・リレー）'!B44","v":0},{"$f":"'4.陸上（青年・リレー）'!C44","v":0},null,{"$f":"'4.陸上（青年・リレー）'!D44","v":"00:00:00"},{"$f":"'4.陸上（青年・リレー）'!E44","v":""},{"$f":"'4.陸上（青年・リレー）'!F44","v":0}]
[220233,129,2,426,22,{"$f":"IF('0.役員名簿'!$B$7=\"\",\"\",VLOOKUP('0.役員名簿'!$B$7,'各番号（変更不可）'!$J$2:$K$41,2,FALSE))","v":""},"02",33,"女子リレー","女子4×100ｍR",{"$f":"'4.陸上（青年・リレー）'!B47","v":0},{"$f":"'4.陸上（青年・リレー）'!C47","v":0},null,{"$f":"'4.陸上（青年・リレー）'!D47","v":"00:00:00"},{"$f":"'4.陸上（青年・リレー）'!E47","v":""},{"$f":"'4.陸上（青年・リレー）'!F47","v":0}]
[220234,130,2,427,22,{"$f":"IF('0.役員名簿'!$B$7=\"\",\"\",VLOOKUP('0.役員名簿'!$B$7,'各番号（変更不可）'!$J$2:$K$41,2,FALSE))","v":""},"02",34,"女子リレー","女子4×100ｍR",{"$f":"'4.陸上（青年・リレー）'!B48","v":0},{"$f":"'4.陸上（青年・リレー）'!C48","v":0},null,{"$f":"'4.陸上（青年・リレー）'!D48","v":"00:00:00"},{"$f":"'4.陸上（青年・リレー）'!E48","v":""},{"$f":"'4.陸上（青年・リレー）'!F48","v":0}]
[220235,131,2,428,22,{"$f":"IF('0.役員名簿'!$B$7=\"\",\"\",VLOOKUP('0.役員名簿'!$B$7,'各番号（変更不可）'!$J$2:$K$41,2,FALSE))","v":""},"02",35,"女子リレー","女子4×100ｍR",{"$f":"'4.陸上（青年・リレー）'!B49","v":0},{"$f":"'4.陸上（青年・リレー）'!C49","v":0},null,{"$f":"'4.陸上（青年・リレー）'!D49","v":"00:00:00"},{"$f":"'4.陸上（青年・リレー）'!E49","v":""},{"$f":"'4.陸上（青年・リレー）'!F49","v":0}]
[220236,132,2,429,22,{"$f":"IF('0.役員名簿'!$B$7=\"\",\"\",VLOOKUP('0.役員名簿'!$B$7,'各番号（変更不可）'!$J$2:$K$41,2,FALSE))","v":""},"02",36,"女子リレー","女子4×100ｍR",{"$f":"'4.陸上（青年・リレー）'!B50","v":0},{"$f":"'4.陸上（青年・リレー）'!C50","v":0},null,{"$f":"'4.陸上（青年・リレー）'!D50","v":"00:00:00"},{"$f":"'4.陸上（青年・リレー）'!E50","v":""},{"$f":"'4.陸上（青年・リレー）'!F50","v":0}]
[220237,133,2,430,22,{"$f":"IF('0.役員名簿'!$B$7=\"\",\"\",VLOOKUP('0.役員名簿'!$B$7,'各番号（変更不可）'!$J$2:$K$41,2,FALSE))","v":""},"02",37,"女子リレー","女子4×100ｍR",{"$f":"'4.陸上（青年・リレー）'!B51","v":0},{"$f":"'4.陸上（青年・リレー）'!C51","v":0},null,{"$f":"'4.陸上（青年・リレー）'!D51","v":"00:00:00"},{"$f":"'4.陸上（青年・リレー）'!E51","v":""},{"$f":"'4.陸上（青年・リレー）'!F51","v":0}]
[220238,134,2,431,22,{"$f":"IF('0.役員名簿'!$B$7=\"\",\"\",VLOOKUP('0.役員名簿'!$B$7,'各番号（変更不可）'!$J$2:$K$41,2,FALSE))","v":""},"02",38,"女子リレー","女子4×100ｍR",{"$f":"'4.陸上（青年・リレー）'!B52","v":0},{"$f":"'4.陸上（青年・リレー）'!C52","v":0},null,{"$f":"'4.陸上（青年・リレー）'!D52","v":"00:00:00"},{"$f":"'4.陸上（青年・リレー）'!E52","v":""},{"$f":"'4.陸上（青年・リレー）'!F52","v":0}]
[220301,23,1,432,22,{"$f":"IF('0.役員名簿'!$B$7=\"\",\"\",VLOOKUP('0.役員名簿'!$B$7,'各番号（変更不可）'!$J$2:$K$41,2,FALSE))","v":""},"03","01","壮年男子","100ｍ(40～49歳)",{"$f":"'5.陸上（壮年男子）'!F9","v":0},{"$f":"'5.陸上（壮年男子）'!G9","v":0},null,{"$f":"'5.陸上（壮年男子）'!H9","v":"00:00:00"},{"$f":"'5.陸上（壮年男子）'!I9","v":""},{"$f":"'5.陸上（壮年男子）'!J9","v":0}]
[220302,24,1,433,22,{"$f":"IF('0.役員名簿'!$B$7=\"\",\"\",VLOOKUP('0.役員名簿'!$B$7,'各番号（変更不可）'!$J$2:$K$41,2,FALSE))","v":""},"03","02","壮年男子","100ｍ(40～49歳)",{"$f":"'5.陸上（壮年男子）'!F10","v":0},{"$f":"'5.陸上（壮年男子）'!G10","v":0},null,{"$f":"'5.陸上（壮年男子）'!H10","v":"00:00:00"},{"$f":"'5.陸上（壮年男子）'!I10","v":""},{"$f":"'5.陸上（壮年男子）'!J10","v":0}]
[220303,25,1,434,22,{"$f":"IF('0.役員名簿'!$B$7=\"\",\"\",VLOOKUP('0.役員名簿'!$B$7,'各番号（変更不可）'!$J$2:$K$41,2,FALSE))","v":""},"03","03","壮年男子","100ｍ(50～59歳)",{"$f":"'5.陸上（壮年男子）'!F11","v":0},{"$f":"'5.陸上（壮年男子）'!G11","v":0},null,{"$f":"'5.陸上（壮年男子）'!H11","v":"00:00:00"},{"$f":"'5.陸上（壮年男子）'!I11","v":""},{"$f":"'5.陸上（壮年男子）'!J11","v":0}]
[220304,26,1,435,22,{"$f":"IF('0.役員名簿'!$B$7=\"\",\"\",VLOOKUP('0.役員名簿'!$B$7,'各番号（変更不可）'!$J$2:$K$41,2,FALSE))","v":""},"03","04","壮年男子","100ｍ(50～59歳)",{"$f":"'5.陸上（壮年男子）'!F12","v":0},{"$f":"'5.陸上（壮年男子）'!G12","v":0},null,{"$f":"'5.陸上（壮年男子）'!H12","v":"00:00:00"},{"$f":"'5.陸上（壮年男子）'!I12","v":""},{"$f":"'5.陸上（壮年男子）'!J12","v":0}]
[220305,27,1,436,22,{"$f":"IF('0.役員名簿'!$B$7=\"\",\"\",VLOOKUP('0.役員名簿'!$B$7,'各番号（変更不可）'!$J$2:$K$41,2,FALSE))","v":""},"03","05","壮年男子","100ｍ(60～69歳)",{"$f":"'5.陸上（壮年男子）'!F13","v":0},{"$f":"'5.陸上（壮年男子）'!G13","v":0},null,{"$f":"'5.陸上（壮年男子）'!H13","v":"00:00:00"},{"$f":"'5.陸上（壮年男子）'!I13","v":""},{"$f":"'5.陸上（壮年男子）'!J13","v":0}]
[220306,28,1,437,22,{"$f":"IF('0.役員名簿'!$B$7=\"\",\"\",VLOOKUP('0.役員名簿'!$B$7,'各番号（変更不可）'!$J$2:$K$41,2,FALSE))","v":""},"03","06","壮年男子","100ｍ(60～69歳)",{"$f":"'5.陸上（壮年男子）'!F14","v":0},{"$f":"'5.陸上（壮年男子）'!G14","v":0},null,{"$f":"'5.陸上（壮年男子）'!H14","v":"00:00:00"},{"$f":"'5.陸上（壮年男子）'!I14","v":""},{"$f":"'5.陸上（壮年男子）'!J14","v":0}]
[220307,29,1,438,22,{"$f":"IF('0.役員名簿'!$B$7=\"\",\"\",VLOOKUP('0.役員名簿'!$B$7,'各番号（変更不可）'!$J$2:$K$41,2,FALSE))","v":""},"03","07","壮年男子","100ｍ(70～79歳)",{"$f":"'5.陸上（壮年男子）'!F15","v":0},{"$f":"'5.陸上（壮年男子）'!G15","v":0},null,{"$f":"'5.陸上（壮年男子）'!H15","v":"00:00:00"},{"$f":"'5.陸上（壮年男子）'!I15","v":""},{"$f":"'5.陸上（壮年男子）'!J15","v":0}]
[220308,30,1,439,22,{"$f":"IF('0.役員名簿'!$B$7=\"\",\"\",VLOOKUP('0.役員名簿'!$B$7,'各番号（変更不可）'!$J$2:$K$41,2,FALSE))","v":""},"03","08","壮年男子","100ｍ(70～79歳)",{"$f":"'5.陸上（壮年男子）'!F16","v":0},{"$f":"'5.陸上（壮年男子）'!G16","v":0},null,{"$f":"'5.陸上（壮年男子）'!H16","v":"00:00:00"},{"$f":"'5.陸上（壮年男子）'!I16","v":""},{"$f":"'5.陸上（壮年男子）'!J16","v":0}]
[220309,31,1,440,22,{"$f":"IF('0.役員名簿'!$B$7=\"\",\"\",VLOOKUP('0.役員名簿'!$B$7,'各番号（変更不可）'!$J$2:$K$41,2,FALSE))","v":""},"03","09","壮年男子","100ｍ(80歳以上)",{"$f":"'5.陸上（壮年男子）'!F17","v":0},{"$f":"'5.陸上（壮年男子）'!G17","v":0},null,{"$f":"'5.陸上（壮年男子）'!H17","v":"00:00:00"},{"$f":"'5.陸上（壮年男子）'!I17","v":""},{"$f":"'5.陸上（壮年男子）'!J17","v":0}]
[220310,32,1,441,22,{"$f":"IF('0.役員名簿'!$B$7=\"\",\"\",VLOOKUP('0.役員名簿'!$B$7,'各番号（変更不可）'!$J$2:$K$41,2,FALSE))","v":""},"03",10,"壮年男子","100ｍ(80歳以上)",{"$f":"'5.陸上（壮年男子）'!F18","v":0},{"$f":"'5.陸上（壮年男子）'!G18","v":0},null,{"$f":"'5.陸上（壮年男子）'!H18","v":"00:00:00"},{"$f":"'5.陸上（壮年男子）'!I18","v":""},{"$f":"'5.陸上（壮年男子）'!J18","v":0}]
[220311,33,1,442,22,{"$f":"IF('0.役員名簿'!$B$7=\"\",\"\",VLOOKUP('0.役員名簿'!$B$7,'各番号（変更不可）'!$J$2:$K$41,2,FALSE))","v":""},"03",11,"壮年男子","3,000ｍ(50～59歳)",{"$f":"'5.陸上（壮年男子）'!F19","v":0},{"$f":"'5.陸上（壮年男子）'!G19","v":0},null,{"$f":"'5.陸上（壮年男子）'!H19","v":"00:00:00"},{"$f":"'5.陸上（壮年男子）'!I19","v":""},{"$f":"'5.陸上（壮年男子）'!J19","v":0}]
[220312,34,1,443,22,{"$f":"IF('0.役員名簿'!$B$7=\"\",\"\",VLOOKUP('0.役員名簿'!$B$7,'各番号（変更不可）'!$J$2:$K$41,2,FALSE))","v":""},"03",12,"壮年男子","3,000ｍ(50～59歳)",{"$f":"'5.陸上（壮年男子）'!F20","v":0},{"$f":"'5.陸上（壮年男子）'!G20","v":0},null,{"$f":"'5.陸上（壮年男子）'!H20","v":"00:00:00"},{"$f":"'5.陸上（壮年男子）'!I20","v":""},{"$f":"'5.陸上（壮年男子）'!J20","v":0}]
[220313,35,1,444,22,{"$f":"IF('0.役員名簿'!$B$7=\"\",\"\",VLOOKUP('0.役員名簿'!$B$7,'各番号（変更不可）'!$J$2:$K$41,2,FALSE))","v":""},"03",13,"壮年男子","3,000ｍ(60～69歳)",{"$f":"'5.陸上（壮年男子）'!F21","v":0},{"$f":"'5.陸上（壮年男子）'!G21","v":0},null,{"$f":"'5.陸上（壮年男子）'!H21","v":"00:00:00"},{"$f":"'5.陸上（壮年男子）'!I21","v":""},{"$f":"'5.陸上（壮年男子）'!J21","v":0}]
[220314,36,1,445,22,{"$f":"IF('0.役員名簿'!$B$7=\"\",\"\",VLOOKUP('0.役員名簿'!$B$7,'各番号（変更不可）'!$J$2:$K$41,2,FALSE))","v":""},"03",14,"壮年男子","3,000ｍ(60～69歳)",{"$f":"'5.陸上（壮年男子）'!F22","v":0},{"$f":"'5.陸上（壮年男子）'!G22","v":0},null,{"$f":"'5.陸上（壮年男子）'!H22","v":"00:00:00"},{"$f":"'5.陸上（壮年男子）'!I22","v":""},{"$f":"'5.陸上（壮年男子）'!J22","v":0}]
[220315,37,1,446,22,{"$f":"IF('0.役員名簿'!$B$7=\"\",\"\",VLOOKUP('0.役員名簿'!$B$7,'各番号（変更不可）'!$J$2:$K$41,2,FALSE))","v":""},"03",15,"壮年男子","3,000ｍ(70～79歳)",{"$f":"'5.陸上（壮年男子）'!F23","v":0},{"$f":"'5.陸上（壮年男子）'!G23","v":0},null,{"$f":"'5.陸上（壮年男子）'!H23","v":"00:00:00"},{"$f":"'5.陸上（壮年男子）'!I23","v":""},{"$f":"'5.陸上（壮年男子）'!J23","v":0}]
[220316,38,1,447,22,{"$f":"IF('0.役員名簿'!$B$7=\"\",\"\",VLOOKUP('0.役員名簿'!$B$7,'各番号（変更不可）'!$J$2:$K$41,2,FALSE))","v":""},"03",16,"壮年男子","3,000ｍ(70～79歳)",{"$f":"'5.陸上（壮年男子）'!F24","v":0},{"$f":"'5.陸上（壮年男子）'!G24","v":0},null,{"$f":"'5.陸上（壮年男子）'!H24","v":"00:00:00"},{"$f":"'5.陸上（壮年男子）'!I24","v":""},{"$f":"'5.陸上（壮年男子）'!J24","v":0}]
[220317,39,1,448,22,{"$f":"IF('0.役員名簿'!$B$7=\"\",\"\",VLOOKUP('0.役員名簿'!$B$7,'各番号（変更不可）'!$J$2:$K$41,2,FALSE))","v":""},"03",17,"壮年男子","3,000ｍ(80歳以上)",{"$f":"'5.陸上（壮年男子）'!F25","v":0},{"$f":"'5.陸上（壮年男子）'!G25","v":0},null,{"$f":"'5.陸上（壮年男子）'!H25","v":"00:00:00"},{"$f":"'5.陸上（壮年男子）'!I25","v":""},{"$f":"'5.陸上（壮年男子）'!J25","v":0}]
[220318,40,1,449,22,{"$f":"IF('0.役員名簿'!$B$7=\"\",\"\",VLOOKUP('0.役員名簿'!$B$7,'各番号（変更不可）'!$J$2:$K$41,2,FALSE))","v":""},"03",18,"壮年男子","3,000ｍ(80歳以上)",{"$f":"'5.陸上（壮年男子）'!F26","v":0},{"$f":"'5.陸上（壮年男子）'!G26","v":0},null,{"$f":"'5.陸上（壮年男子）'!H26","v":"00:00:00"},{"$f":"'5.陸上（壮年男子）'!I26","v":""},{"$f":"'5.陸上（壮年男子）'!J26","v":0}]
[220319,41,1,450,22,{"$f":"IF('0.役員名簿'!$B$7=\"\",\"\",VLOOKUP('0.役員名簿'!$B$7,'各番号（変更不可）'!$J$2:$K$41,2,FALSE))","v":""},"03",19,"壮年男子","5,000ｍ(40～49歳)",{"$f":"'5.陸上（壮年男子）'!F27","v":0},{"$f":"'5.陸上（壮年男子）'!G27","v":0},null,{"$f":"'5.陸上（壮年男子）'!H27","v":"00:00:00"},{"$f":"'5.陸上（壮年男子）'!I27","v":""},{"$f":"'5.陸上（壮年男子）'!J27","v":0}]
[220320,42,1,451,22,{"$f":"IF('0.役員名簿'!$B$7=\"\",\"\",VLOOKUP('0.役員名簿'!$B$7,'各番号（変更不可）'!$J$2:$K$41,2,FALSE))","v":""},"03",20,"壮年男子","5,000ｍ(40～49歳)",{"$f":"'5.陸上（壮年男子）'!F28","v":0},{"$f":"'5.陸上（壮年男子）'!G28","v":0},null,{"$f":"'5.陸上（壮年男子）'!H28","v":"00:00:00"},{"$f":"'5.陸上（壮年男子）'!I28","v":""},{"$f":"'5.陸上（壮年男子）'!J28","v":0}]
[220321,43,1,452,22,{"$f":"IF('0.役員名簿'!$B$7=\"\",\"\",VLOOKUP('0.役員名簿'!$B$7,'各番号（変更不可）'!$J$2:$K$41,2,FALSE))","v":""},"03",21,"壮年男子","走幅跳(40～49歳)",{"$f":"'5.陸上（壮年男子）'!F29","v":0},{"$f":"'5.陸上（壮年男子）'!G29","v":0},null,{"$f":"'5.陸上（壮年男子）'!H29","v":"00:00:00"},{"$f":"'5.陸上（壮年男子）'!I29","v":""},{"$f":"'5.陸上（壮年男子）'!J29","v":0}]
[220322,44,1,453,22,{"$f":"IF('0.役員名簿'!$B$7=\"\",\"\",VLOOKUP('0.役員名簿'!$B$7,'各番号（変更不可）'!$J$2:$K$41,2,FALSE))","v":""},"03",22,"壮年男子","走幅跳(40～49歳)",{"$f":"'5.陸上（壮年男子）'!F30","v":0},{"$f":"'5.陸上（壮年男子）'!G30","v":0},null,{"$f":"'5.陸上（壮年男子）'!H30","v":"00:00:00"},{"$f":"'5.陸上（壮年男子）'!I30","v":""},{"$f":"'5.陸上（壮年男子）'!J30","v":0}]
[220323,45,1,454,22,{"$f":"IF('0.役員名簿'!$B$7=\"\",\"\",VLOOKUP('0.役員名簿'!$B$7,'各番号（変更不可）'!$J$2:$K$41,2,FALSE))","v":""},"03",23,"壮年男子","走幅跳(50～59歳)",{"$f":"'5.陸上（壮年男子）'!F31","v":0},{"$f":"'5.陸上（壮年男子）'!G31","v":0},null,{"$f":"'5.陸上（壮年男子）'!H31","v":"00:00:00"},{"$f":"'5.陸上（壮年男子）'!I31","v":""},{"$f":"'5.陸上（壮年男子）'!J31","v":0}]
[220324,46,1,455,22,{"$f":"IF('0.役員名簿'!$B$7=\"\",\"\",VLOOKUP('0.役員名簿'!$B$7,'各番号（変更不可）'!$J$2:$K$41,2,FALSE))","v":""},"03",24,"壮年男子","走幅跳(50～59歳)",{"$f":"'5.陸上（壮年男子）'!F32","v":0},{"$f":"'5.陸上（壮年男子）'!G32","v":0},null,{"$f":"'5.陸上（壮年男子）'!H32","v":"00:00:00"},{"$f":"'5.陸上（壮年男子）'!I32","v":""},{"$f":"'5.陸上（壮年男子）'!J32","v":0}]
[220325,47,1,456,22,{"$f":"IF('0.役員名簿'!$B$7=\"\",\"\",VLOOKUP('0.役員名簿'!$B$7,'各番号（変更不可）'!$J$2:$K$41,2,FALSE))","v":""},"03",25,"壮年男子","走幅跳(60～69歳)",{"$f":"'5.陸上（壮年男子）'!F33","v":0},{"$f":"'5.陸上（壮年男子）'!G33","v":0},null,{"$f":"'5.陸上（壮年男子）'!H33","v":"00:00:00"},{"$f":"'5.陸上（壮年男子）'!I33","v":""},{"$f":"'5.陸上（壮年男子）'!J33","v":0}]
[{"$f":"VALUE(E458&F458&G458&H458)","v":220326},48,1,457,22,{"$f":"IF('0.役員名簿'!$B$7=\"\",\"\",VLOOKUP('0.役員名簿'!$B$7,'各番号（変更不可）'!$J$2:$K$41,2,FALSE))","v":""},"03",26,"壮年男子","走幅跳(60～69歳)",{"$f":"'5.陸上（壮年男子）'!F34","v":0},{"$f":"'5.陸上（壮年男子）'!G34","v":0},null,{"$f":"'5.陸上（壮年男子）'!H34","v":"00:00:00"},{"$f":"'5.陸上（壮年男子）'!I34","v":""},{"$f":"'5.陸上（壮年男子）'!J34","v":0}]
[220327,49,1,458,22,{"$f":"IF('0.役員名簿'!$B$7=\"\",\"\",VLOOKUP('0.役員名簿'!$B$7,'各番号（変更不可）'!$J$2:$K$41,2,FALSE))","v":""},"03",27,"壮年男子","走幅跳(70～79歳)",{"$f":"'5.陸上（壮年男子）'!F35","v":0},{"$f":"'5.陸上（壮年男子）'!G35","v":0},null,{"$f":"'5.陸上（壮年男子）'!H35","v":"00:00:00"},{"$f":"'5.陸上（壮年男子）'!I35","v":""},{"$f":"'5.陸上（壮年男子）'!J35","v":0}]
[220328,50,1,459,22,{"$f":"IF('0.役員名簿'!$B$7=\"\",\"\",VLOOKUP('0.役員名簿'!$B$7,'各番号（変更不可）'!$J$2:$K$41,2,FALSE))","v":""},"03",28,"壮年男子","走幅跳(70～79歳)",{"$f":"'5.陸上（壮年男子）'!F36","v":0},{"$f":"'5.陸上（壮年男子）'!G36","v":0},null,{"$f":"'5.陸上（壮年男子）'!H36","v":"00:00:00"},{"$f":"'5.陸上（壮年男子）'!I36","v":""},{"$f":"'5.陸上（壮年男子）'!J36","v":0}]
[220329,51,1,460,22,{"$f":"IF('0.役員名簿'!$B$7=\"\",\"\",VLOOKUP('0.役員名簿'!$B$7,'各番号（変更不可）'!$J$2:$K$41,2,FALSE))","v":""},"03",29,"壮年男子","走幅跳(80歳以上)",{"$f":"'5.陸上（壮年男子）'!F37","v":0},{"$f":"'5.陸上（壮年男子）'!G37","v":0},null,{"$f":"'5.陸上（壮年男子）'!H37","v":"00:00:00"},{"$f":"'5.陸上（壮年男子）'!I37","v":""},{"$f":"'5.陸上（壮年男子）'!J37","v":0}]
[220330,52,1,461,22,{"$f":"IF('0.役員名簿'!$B$7=\"\",\"\",VLOOKUP('0.役員名簿'!$B$7,'各番号（変更不可）'!$J$2:$K$41,2,FALSE))","v":""},"03",30,"壮年男子","走幅跳(80歳以上)",{"$f":"'5.陸上（壮年男子）'!F38","v":0},{"$f":"'5.陸上（壮年男子）'!G38","v":0},null,{"$f":"'5.陸上（壮年男子）'!H38","v":"00:00:00"},{"$f":"'5.陸上（壮年男子）'!I38","v":""},{"$f":"'5.陸上（壮年男子）'!J38","v":0}]
[220331,53,1,462,22,{"$f":"IF('0.役員名簿'!$B$7=\"\",\"\",VLOOKUP('0.役員名簿'!$B$7,'各番号（変更不可）'!$J$2:$K$41,2,FALSE))","v":""},"03",31,"壮年男子","砲丸投(40～49歳)",{"$f":"'5.陸上（壮年男子）'!F39","v":0},{"$f":"'5.陸上（壮年男子）'!G39","v":0},null,{"$f":"'5.陸上（壮年男子）'!H39","v":"00:00:00"},{"$f":"'5.陸上（壮年男子）'!I39","v":""},{"$f":"'5.陸上（壮年男子）'!J39","v":0}]
[220332,54,1,463,22,{"$f":"IF('0.役員名簿'!$B$7=\"\",\"\",VLOOKUP('0.役員名簿'!$B$7,'各番号（変更不可）'!$J$2:$K$41,2,FALSE))","v":""},"03",32,"壮年男子","砲丸投(40～49歳)",{"$f":"'5.陸上（壮年男子）'!F40","v":0},{"$f":"'5.陸上（壮年男子）'!G40","v":0},null,{"$f":"'5.陸上（壮年男子）'!H40","v":"00:00:00"},{"$f":"'5.陸上（壮年男子）'!I40","v":""},{"$f":"'5.陸上（壮年男子）'!J40","v":0}]
[220333,55,1,464,22,{"$f":"IF('0.役員名簿'!$B$7=\"\",\"\",VLOOKUP('0.役員名簿'!$B$7,'各番号（変更不可）'!$J$2:$K$41,2,FALSE))","v":""},"03",33,"壮年男子","砲丸投(50～59歳)",{"$f":"'5.陸上（壮年男子）'!F41","v":0},{"$f":"'5.陸上（壮年男子）'!G41","v":0},null,{"$f":"'5.陸上（壮年男子）'!H41","v":"00:00:00"},{"$f":"'5.陸上（壮年男子）'!I41","v":""},{"$f":"'5.陸上（壮年男子）'!J41","v":0}]
[220334,56,1,465,22,{"$f":"IF('0.役員名簿'!$B$7=\"\",\"\",VLOOKUP('0.役員名簿'!$B$7,'各番号（変更不可）'!$J$2:$K$41,2,FALSE))","v":""},"03",34,"壮年男子","砲丸投(50～59歳)",{"$f":"'5.陸上（壮年男子）'!F42","v":0},{"$f":"'5.陸上（壮年男子）'!G42","v":0},null,{"$f":"'5.陸上（壮年男子）'!H42","v":"00:00:00"},{"$f":"'5.陸上（壮年男子）'!I42","v":""},{"$f":"'5.陸上（壮年男子）'!J42","v":0}]
[220335,57,1,466,22,{"$f":"IF('0.役員名簿'!$B$7=\"\",\"\",VLOOKUP('0.役員名簿'!$B$7,'各番号（変更不可）'!$J$2:$K$41,2,FALSE))","v":""},"03",35,"壮年男子","砲丸投(60～69歳)",{"$f":"'5.陸上（壮年男子）'!F43","v":0},{"$f":"'5.陸上（壮年男子）'!G43","v":0},null,{"$f":"'5.陸上（壮年男子）'!H43","v":"00:00:00"},{"$f":"'5.陸上（壮年男子）'!I43","v":""},{"$f":"'5.陸上（壮年男子）'!J43","v":0}]
[220336,58,1,467,22,{"$f":"IF('0.役員名簿'!$B$7=\"\",\"\",VLOOKUP('0.役員名簿'!$B$7,'各番号（変更不可）'!$J$2:$K$41,2,FALSE))","v":""},"03",36,"壮年男子","砲丸投(60～69歳)",{"$f":"'5.陸上（壮年男子）'!F44","v":0},{"$f":"'5.陸上（壮年男子）'!G44","v":0},null,{"$f":"'5.陸上（壮年男子）'!H44","v":"00:00:00"},{"$f":"'5.陸上（壮年男子）'!I44","v":""},{"$f":"'5.陸上（壮年男子）'!J44","v":0}]
[220337,59,1,468,22,{"$f":"IF('0.役員名簿'!$B$7=\"\",\"\",VLOOKUP('0.役員名簿'!$B$7,'各番号（変更不可）'!$J$2:$K$41,2,FALSE))","v":""},"03",37,"壮年男子","砲丸投(70～79歳)",{"$f":"'5.陸上（壮年男子）'!F45","v":0},{"$f":"'5.陸上（壮年男子）'!G45","v":0},null,{"$f":"'5.陸上（壮年男子）'!H45","v":"00:00:00"},{"$f":"'5.陸上（壮年男子）'!I45","v":""},{"$f":"'5.陸上（壮年男子）'!J45","v":0}]
[220338,60,1,469,22,{"$f":"IF('0.役員名簿'!$B$7=\"\",\"\",VLOOKUP('0.役員名簿'!$B$7,'各番号（変更不可）'!$J$2:$K$41,2,FALSE))","v":""},"03",38,"壮年男子","砲丸投(70～79歳)",{"$f":"'5.陸上（壮年男子）'!F46","v":0},{"$f":"'5.陸上（壮年男子）'!G46","v":0},null,{"$f":"'5.陸上（壮年男子）'!H46","v":"00:00:00"},{"$f":"'5.陸上（壮年男子）'!I46","v":""},{"$f":"'5.陸上（壮年男子）'!J46","v":0}]
[220339,61,1,470,22,{"$f":"IF('0.役員名簿'!$B$7=\"\",\"\",VLOOKUP('0.役員名簿'!$B$7,'各番号（変更不可）'!$J$2:$K$41,2,FALSE))","v":""},"03",39,"壮年男子","砲丸投(80歳以上)",{"$f":"'5.陸上（壮年男子）'!F47","v":0},{"$f":"'5.陸上（壮年男子）'!G47","v":0},null,{"$f":"'5.陸上（壮年男子）'!H47","v":"00:00:00"},{"$f":"'5.陸上（壮年男子）'!I47","v":""},{"$f":"'5.陸上（壮年男子）'!J47","v":0}]
[220340,62,1,471,22,{"$f":"IF('0.役員名簿'!$B$7=\"\",\"\",VLOOKUP('0.役員名簿'!$B$7,'各番号（変更不可）'!$J$2:$K$41,2,FALSE))","v":""},"03",40,"壮年男子","砲丸投(80歳以上)",{"$f":"'5.陸上（壮年男子）'!F48","v":0},{"$f":"'5.陸上（壮年男子）'!G48","v":0},null,{"$f":"'5.陸上（壮年男子）'!H48","v":"00:00:00"},{"$f":"'5.陸上（壮年男子）'!I48","v":""},{"$f":"'5.陸上（壮年男子）'!J48","v":0}]
[220401,83,2,472,22,{"$f":"IF('0.役員名簿'!$B$7=\"\",\"\",VLOOKUP('0.役員名簿'!$B$7,'各番号（変更不可）'!$J$2:$K$41,2,FALSE))","v":""},"04","01","壮年女子","100ｍ(40～49歳)",{"$f":"'6.陸上（壮年女子）'!F9","v":0},{"$f":"'6.陸上（壮年女子）'!G9","v":0},null,{"$f":"'6.陸上（壮年女子）'!H9","v":"00:00:00"},{"$f":"'6.陸上（壮年女子）'!I9","v":""},{"$f":"'6.陸上（壮年女子）'!J9","v":0}]
[220402,84,2,473,22,{"$f":"IF('0.役員名簿'!$B$7=\"\",\"\",VLOOKUP('0.役員名簿'!$B$7,'各番号（変更不可）'!$J$2:$K$41,2,FALSE))","v":""},"04","02","壮年女子","100ｍ(40～49歳)",{"$f":"'6.陸上（壮年女子）'!F10","v":0},{"$f":"'6.陸上（壮年女子）'!G10","v":0},null,{"$f":"'6.陸上（壮年女子）'!H10","v":"00:00:00"},{"$f":"'6.陸上（壮年女子）'!I10","v":""},{"$f":"'6.陸上（壮年女子）'!J10","v":0}]
[220403,85,2,474,22,{"$f":"IF('0.役員名簿'!$B$7=\"\",\"\",VLOOKUP('0.役員名簿'!$B$7,'各番号（変更不可）'!$J$2:$K$41,2,FALSE))","v":""},"04","03","壮年女子","100ｍ(50～59歳)",{"$f":"'6.陸上（壮年女子）'!F11","v":0},{"$f":"'6.陸上（壮年女子）'!G11","v":0},null,{"$f":"'6.陸上（壮年女子）'!H11","v":"00:00:00"},{"$f":"'6.陸上（壮年女子）'!I11","v":""},{"$f":"'6.陸上（壮年女子）'!J11","v":0}]
[220404,86,2,475,22,{"$f":"IF('0.役員名簿'!$B$7=\"\",\"\",VLOOKUP('0.役員名簿'!$B$7,'各番号（変更不可）'!$J$2:$K$41,2,FALSE))","v":""},"04","04","壮年女子","100ｍ(50～59歳)",{"$f":"'6.陸上（壮年女子）'!F12","v":0},{"$f":"'6.陸上（壮年女子）'!G12","v":0},null,{"$f":"'6.陸上（壮年女子）'!H12","v":"00:00:00"},{"$f":"'6.陸上（壮年女子）'!I12","v":""},{"$f":"'6.陸上（壮年女子）'!J12","v":0}]
[220405,87,2,476,22,{"$f":"IF('0.役員名簿'!$B$7=\"\",\"\",VLOOKUP('0.役員名簿'!$B$7,'各番号（変更不可）'!$J$2:$K$41,2,FALSE))","v":""},"04","05","壮年女子","100ｍ(60～69歳)",{"$f":"'6.陸上（壮年女子）'!F13","v":0},{"$f":"'6.陸上（壮年女子）'!G13","v":0},null,{"$f":"'6.陸上（壮年女子）'!H13","v":"00:00:00"},{"$f":"'6.陸上（壮年女子）'!I13","v":""},{"$f":"'6.陸上（壮年女子）'!J13","v":0}]
[220406,88,2,477,22,{"$f":"IF('0.役員名簿'!$B$7=\"\",\"\",VLOOKUP('0.役員名簿'!$B$7,'各番号（変更不可）'!$J$2:$K$41,2,FALSE))","v":""},"04","06","壮年女子","100ｍ(60～69歳)",{"$f":"'6.陸上（壮年女子）'!F14","v":0},{"$f":"'6.陸上（壮年女子）'!G14","v":0},null,{"$f":"'6.陸上（壮年女子）'!H14","v":"00:00:00"},{"$f":"'6.陸上（壮年女子）'!I14","v":""},{"$f":"'6.陸上（壮年女子）'!J14","v":0}]
[220407,89,2,478,22,{"$f":"IF('0.役員名簿'!$B$7=\"\",\"\",VLOOKUP('0.役員名簿'!$B$7,'各番号（変更不可）'!$J$2:$K$41,2,FALSE))","v":""},"04","07","壮年女子","100ｍ(70～79歳)",{"$f":"'6.陸上（壮年女子）'!F15","v":0},{"$f":"'6.陸上（壮年女子）'!G15","v":0},null,{"$f":"'6.陸上（壮年女子）'!H15","v":"00:00:00"},{"$f":"'6.陸上（壮年女子）'!I15","v":""},{"$f":"'6.陸上（壮年女子）'!J15","v":0}]
[220408,90,2,479,22,{"$f":"IF('0.役員名簿'!$B$7=\"\",\"\",VLOOKUP('0.役員名簿'!$B$7,'各番号（変更不可）'!$J$2:$K$41,2,FALSE))","v":""},"04","08","壮年女子","100ｍ(70～79歳)",{"$f":"'6.陸上（壮年女子）'!F16","v":0},{"$f":"'6.陸上（壮年女子）'!G16","v":0},null,{"$f":"'6.陸上（壮年女子）'!H16","v":"00:00:00"},{"$f":"'6.陸上（壮年女子）'!I16","v":""},{"$f":"'6.陸上（壮年女子）'!J16","v":0}]
[220409,91,2,480,22,{"$f":"IF('0.役員名簿'!$B$7=\"\",\"\",VLOOKUP('0.役員名簿'!$B$7,'各番号（変更不可）'!$J$2:$K$41,2,FALSE))","v":""},"04","09","壮年女子","100ｍ(80歳以上)",{"$f":"'6.陸上（壮年女子）'!F17","v":0},{"$f":"'6.陸上（壮年女子）'!G17","v":0},null,{"$f":"'6.陸上（壮年女子）'!H17","v":"00:00:00"},{"$f":"'6.陸上（壮年女子）'!I17","v":""},{"$f":"'6.陸上（壮年女子）'!J17","v":0}]
[220410,92,2,481,22,{"$f":"IF('0.役員名簿'!$B$7=\"\",\"\",VLOOKUP('0.役員名簿'!$B$7,'各番号（変更不可）'!$J$2:$K$41,2,FALSE))","v":""},"04",10,"壮年女子","100ｍ(80歳以上)",{"$f":"'6.陸上（壮年女子）'!F18","v":0},{"$f":"'6.陸上（壮年女子）'!G18","v":0},null,{"$f":"'6.陸上（壮年女子）'!H18","v":"00:00:00"},{"$f":"'6.陸上（壮年女子）'!I18","v":""},{"$f":"'6.陸上（壮年女子）'!J18","v":0}]
[220411,93,2,482,22,{"$f":"IF('0.役員名簿'!$B$7=\"\",\"\",VLOOKUP('0.役員名簿'!$B$7,'各番号（変更不可）'!$J$2:$K$41,2,FALSE))","v":""},"04",11,"壮年女子","3,000ｍ(40～49歳)",{"$f":"'6.陸上（壮年女子）'!F19","v":0},{"$f":"'6.陸上（壮年女子）'!G19","v":0},null,{"$f":"'6.陸上（壮年女子）'!H19","v":"00:00:00"},{"$f":"'6.陸上（壮年女子）'!I19","v":""},{"$f":"'6.陸上（壮年女子）'!J19","v":0}]
[220412,94,2,483,22,{"$f":"IF('0.役員名簿'!$B$7=\"\",\"\",VLOOKUP('0.役員名簿'!$B$7,'各番号（変更不可）'!$J$2:$K$41,2,FALSE))","v":""},"04",12,"壮年女子","3,000ｍ(40～49歳)",{"$f":"'6.陸上（壮年女子）'!F20","v":0},{"$f":"'6.陸上（壮年女子）'!G20","v":0},null,{"$f":"'6.陸上（壮年女子）'!H20","v":"00:00:00"},{"$f":"'6.陸上（壮年女子）'!I20","v":""},{"$f":"'6.陸上（壮年女子）'!J20","v":0}]
[220413,95,2,484,22,{"$f":"IF('0.役員名簿'!$B$7=\"\",\"\",VLOOKUP('0.役員名簿'!$B$7,'各番号（変更不可）'!$J$2:$K$41,2,FALSE))","v":""},"04",13,"壮年女子","3,000ｍ(50～59歳)",{"$f":"'6.陸上（壮年女子）'!F21","v":0},{"$f":"'6.陸上（壮年女子）'!G21","v":0},null,{"$f":"'6.陸上（壮年女子）'!H21","v":"00:00:00"},{"$f":"'6.陸上（壮年女子）'!I21","v":""},{"$f":"'6.陸上（壮年女子）'!J21","v":0}]
[220414,96,2,485,22,{"$f":"IF('0.役員名簿'!$B$7=\"\",\"\",VLOOKUP('0.役員名簿'!$B$7,'各番号（変更不可）'!$J$2:$K$41,2,FALSE))","v":""},"04",14,"壮年女子","3,000ｍ(50～59歳)",{"$f":"'6.陸上（壮年女子）'!F22","v":0},{"$f":"'6.陸上（壮年女子）'!G22","v":0},null,{"$f":"'6.陸上（壮年女子）'!H22","v":"00:00:00"},{"$f":"'6.陸上（壮年女子）'!I22","v":""},{"$f":"'6.陸上（壮年女子）'!J22","v":0}]
[220415,97,2,486,22,{"$f":"IF('0.役員名簿'!$B$7=\"\",\"\",VLOOKUP('0.役員名簿'!$B$7,'各番号（変更不可）'!$J$2:$K$41,2,FALSE))","v":""},"04",15,"壮年女子","3,000ｍ(60～69歳)",{"$f":"'6.陸上（壮年女子）'!F23","v":0},{"$f":"'6.陸上（壮年女子）'!G23","v":0},null,{"$f":"'6.陸上（壮年女子）'!H23","v":"00:00:00"},{"$f":"'6.陸上（壮年女子）'!I23","v":""},{"$f":"'6.陸上（壮年女子）'!J23","v":0}]
[220416,98,2,487,22,{"$f":"IF('0.役員名簿'!$B$7=\"\",\"\",VLOOKUP('0.役員名簿'!$B$7,'各番号（変更不可）'!$J$2:$K$41,2,FALSE))","v":""},"04",16,"壮年女子","3,000ｍ(60～69歳)",{"$f":"'6.陸上（壮年女子）'!F24","v":0},{"$f":"'6.陸上（壮年女子）'!G24","v":0},null,{"$f":"'6.陸上（壮年女子）'!H24","v":"00:00:00"},{"$f":"'6.陸上（壮年女子）'!I24","v":""},{"$f":"'6.陸上（壮年女子）'!J24","v":0}]
[220417,99,2,488,22,{"$f":"IF('0.役員名簿'!$B$7=\"\",\"\",VLOOKUP('0.役員名簿'!$B$7,'各番号（変更不可）'!$J$2:$K$41,2,FALSE))","v":""},"04",17,"壮年女子","3,000ｍ(70～79歳)",{"$f":"'6.陸上（壮年女子）'!F25","v":0},{"$f":"'6.陸上（壮年女子）'!G25","v":0},null,{"$f":"'6.陸上（壮年女子）'!H25","v":"00:00:00"},{"$f":"'6.陸上（壮年女子）'!I25","v":""},{"$f":"'6.陸上（壮年女子）'!J25","v":0}]
[220418,100,2,489,22,{"$f":"IF('0.役員名簿'!$B$7=\"\",\"\",VLOOKUP('0.役員名簿'!$B$7,'各番号（変更不可）'!$J$2:$K$41,2,FALSE))","v":""},"04",18,"壮年女子","3,000ｍ(70～79歳)",{"$f":"'6.陸上（壮年女子）'!F26","v":0},{"$f":"'6.陸上（壮年女子）'!G26","v":0},null,{"$f":"'6.陸上（壮年女子）'!H26","v":"00:00:00"},{"$f":"'6.陸上（壮年女子）'!I26","v":""},{"$f":"'6.陸上（壮年女子）'!J26","v":0}]
[220419,101,2,490,22,{"$f":"IF('0.役員名簿'!$B$7=\"\",\"\",VLOOKUP('0.役員名簿'!$B$7,'各番号（変更不可）'!$J$2:$K$41,2,FALSE))","v":""},"04",19,"壮年女子","3,000ｍ(80歳以上)",{"$f":"'6.陸上（壮年女子）'!F27","v":0},{"$f":"'6.陸上（壮年女子）'!G27","v":0},null,{"$f":"'6.陸上（壮年女子）'!H27","v":"00:00:00"},{"$f":"'6.陸上（壮年女子）'!I27","v":""},{"$f":"'6.陸上（壮年女子）'!J27","v":0}]
[220420,102,2,491,22,{"$f":"IF('0.役員名簿'!$B$7=\"\",\"\",VLOOKUP('0.役員名簿'!$B$7,'各番号（変更不可）'!$J$2:$K$41,2,FALSE))","v":""},"04",20,"壮年女子","3,000ｍ(80歳以上)",{"$f":"'6.陸上（壮年女子）'!F28","v":0},{"$f":"'6.陸上（壮年女子）'!G28","v":0},null,{"$f":"'6.陸上（壮年女子）'!H28","v":"00:00:00"},{"$f":"'6.陸上（壮年女子）'!I28","v":""},{"$f":"'6.陸上（壮年女子）'!J28","v":0}]
[220421,103,2,492,22,{"$f":"IF('0.役員名簿'!$B$7=\"\",\"\",VLOOKUP('0.役員名簿'!$B$7,'各番号（変更不可）'!$J$2:$K$41,2,FALSE))","v":""},"04",21,"壮年女子","走幅跳(40～49歳)",{"$f":"'6.陸上（壮年女子）'!F29","v":0},{"$f":"'6.陸上（壮年女子）'!G29","v":0},null,{"$f":"'6.陸上（壮年女子）'!H29","v":"00:00:00"},{"$f":"'6.陸上（壮年女子）'!I29","v":""},{"$f":"'6.陸上（壮年女子）'!J29","v":0}]
[220422,104,2,493,22,{"$f":"IF('0.役員名簿'!$B$7=\"\",\"\",VLOOKUP('0.役員名簿'!$B$7,'各番号（変更不可）'!$J$2:$K$41,2,FALSE))","v":""},"04",22,"壮年女子","走幅跳(40～49歳)",{"$f":"'6.陸上（壮年女子）'!F30","v":0},{"$f":"'6.陸上（壮年女子）'!G30","v":0},null,{"$f":"'6.陸上（壮年女子）'!H30","v":"00:00:00"},{"$f":"'6.陸上（壮年女子）'!I30","v":""},{"$f":"'6.陸上（壮年女子）'!J30","v":0}]
[220423,105,2,494,22,{"$f":"IF('0.役員名簿'!$B$7=\"\",\"\",VLOOKUP('0.役員名簿'!$B$7,'各番号（変更不可）'!$J$2:$K$41,2,FALSE))","v":""},"04",23,"壮年女子","走幅跳(50～59歳)",{"$f":"'6.陸上（壮年女子）'!F31","v":0},{"$f":"'6.陸上（壮年女子）'!G31","v":0},null,{"$f":"'6.陸上（壮年女子）'!H31","v":"00:00:00"},{"$f":"'6.陸上（壮年女子）'!I31","v":""},{"$f":"'6.陸上（壮年女子）'!J31","v":0}]
[220424,106,2,495,22,{"$f":"IF('0.役員名簿'!$B$7=\"\",\"\",VLOOKUP('0.役員名簿'!$B$7,'各番号（変更不可）'!$J$2:$K$41,2,FALSE))","v":""},"04",24,"壮年女子","走幅跳(50～59歳)",{"$f":"'6.陸上（壮年女子）'!F32","v":0},{"$f":"'6.陸上（壮年女子）'!G32","v":0},null,{"$f":"'6.陸上（壮年女子）'!H32","v":"00:00:00"},{"$f":"'6.陸上（壮年女子）'!I32","v":""},{"$f":"'6.陸上（壮年女子）'!J32","v":0}]
[220425,107,2,496,22,{"$f":"IF('0.役員名簿'!$B$7=\"\",\"\",VLOOKUP('0.役員名簿'!$B$7,'各番号（変更不可）'!$J$2:$K$41,2,FALSE))","v":""},"04",25,"壮年女子","走幅跳(60～69歳)",{"$f":"'6.陸上（壮年女子）'!F33","v":0},{"$f":"'6.陸上（壮年女子）'!G33","v":0},null,{"$f":"'6.陸上（壮年女子）'!H33","v":"00:00:00"},{"$f":"'6.陸上（壮年女子）'!I33","v":""},{"$f":"'6.陸上（壮年女子）'!J33","v":0}]
[220426,108,2,497,22,{"$f":"IF('0.役員名簿'!$B$7=\"\",\"\",VLOOKUP('0.役員名簿'!$B$7,'各番号（変更不可）'!$J$2:$K$41,2,FALSE))","v":""},"04",26,"壮年女子","走幅跳(60～69歳)",{"$f":"'6.陸上（壮年女子）'!F34","v":0},{"$f":"'6.陸上（壮年女子）'!G34","v":0},null,{"$f":"'6.陸上（壮年女子）'!H34","v":"00:00:00"},{"$f":"'6.陸上（壮年女子）'!I34","v":""},{"$f":"'6.陸上（壮年女子）'!J34","v":0}]
[220427,109,2,498,22,{"$f":"IF('0.役員名簿'!$B$7=\"\",\"\",VLOOKUP('0.役員名簿'!$B$7,'各番号（変更不可）'!$J$2:$K$41,2,FALSE))","v":""},"04",27,"壮年女子","走幅跳(70～79歳)",{"$f":"'6.陸上（壮年女子）'!F35","v":0},{"$f":"'6.陸上（壮年女子）'!G35","v":0},null,{"$f":"'6.陸上（壮年女子）'!H35","v":"00:00:00"},{"$f":"'6.陸上（壮年女子）'!I35","v":""},{"$f":"'6.陸上（壮年女子）'!J35","v":0}]
[220428,110,2,499,22,{"$f":"IF('0.役員名簿'!$B$7=\"\",\"\",VLOOKUP('0.役員名簿'!$B$7,'各番号（変更不可）'!$J$2:$K$41,2,FALSE))","v":""},"04",28,"壮年女子","走幅跳(70～79歳)",{"$f":"'6.陸上（壮年女子）'!F36","v":0},{"$f":"'6.陸上（壮年女子）'!G36","v":0},null,{"$f":"'6.陸上（壮年女子）'!H36","v":"00:00:00"},{"$f":"'6.陸上（壮年女子）'!I36","v":""},{"$f":"'6.陸上（壮年女子）'!J36","v":0}]
[220429,111,2,500,22,{"$f":"IF('0.役員名簿'!$B$7=\"\",\"\",VLOOKUP('0.役員名簿'!$B$7,'各番号（変更不可）'!$J$2:$K$41,2,FALSE))","v":""},"04",29,"壮年女子","走幅跳(80歳以上)",{"$f":"'6.陸上（壮年女子）'!F37","v":0},{"$f":"'6.陸上（壮年女子）'!G37","v":0},null,{"$f":"'6.陸上（壮年女子）'!H37","v":"00:00:00"},{"$f":"'6.陸上（壮年女子）'!I37","v":""},{"$f":"'6.陸上（壮年女子）'!J37","v":0}]
[220430,112,2,501,22,{"$f":"IF('0.役員名簿'!$B$7=\"\",\"\",VLOOKUP('0.役員名簿'!$B$7,'各番号（変更不可）'!$J$2:$K$41,2,FALSE))","v":""},"04",30,"壮年女子","走幅跳(80歳以上)",{"$f":"'6.陸上（壮年女子）'!F38","v":0},{"$f":"'6.陸上（壮年女子）'!G38","v":0},null,{"$f":"'6.陸上（壮年女子）'!H38","v":"00:00:00"},{"$f":"'6.陸上（壮年女子）'!I38","v":""},{"$f":"'6.陸上（壮年女子）'!J38","v":0}]
[220431,113,2,502,22,{"$f":"IF('0.役員名簿'!$B$7=\"\",\"\",VLOOKUP('0.役員名簿'!$B$7,'各番号（変更不可）'!$J$2:$K$41,2,FALSE))","v":""},"04",31,"壮年女子","砲丸投(40～49歳)",{"$f":"'6.陸上（壮年女子）'!F39","v":0},{"$f":"'6.陸上（壮年女子）'!G39","v":0},null,{"$f":"'6.陸上（壮年女子）'!H39","v":"00:00:00"},{"$f":"'6.陸上（壮年女子）'!I39","v":""},{"$f":"'6.陸上（壮年女子）'!J39","v":0}]
[220432,114,2,503,22,{"$f":"IF('0.役員名簿'!$B$7=\"\",\"\",VLOOKUP('0.役員名簿'!$B$7,'各番号（変更不可）'!$J$2:$K$41,2,FALSE))","v":""},"04",32,"壮年女子","砲丸投(40～49歳)",{"$f":"'6.陸上（壮年女子）'!F40","v":0},{"$f":"'6.陸上（壮年女子）'!G40","v":0},null,{"$f":"'6.陸上（壮年女子）'!H40","v":"00:00:00"},{"$f":"'6.陸上（壮年女子）'!I40","v":""},{"$f":"'6.陸上（壮年女子）'!J40","v":0}]
[220433,115,2,504,22,{"$f":"IF('0.役員名簿'!$B$7=\"\",\"\",VLOOKUP('0.役員名簿'!$B$7,'各番号（変更不可）'!$J$2:$K$41,2,FALSE))","v":""},"04",33,"壮年女子","砲丸投(50～59歳)",{"$f":"'6.陸上（壮年女子）'!F41","v":0},{"$f":"'6.陸上（壮年女子）'!G41","v":0},null,{"$f":"'6.陸上（壮年女子）'!H41","v":"00:00:00"},{"$f":"'6.陸上（壮年女子）'!I41","v":""},{"$f":"'6.陸上（壮年女子）'!J41","v":0}]
[220434,116,2,505,22,{"$f":"IF('0.役員名簿'!$B$7=\"\",\"\",VLOOKUP('0.役員名簿'!$B$7,'各番号（変更不可）'!$J$2:$K$41,2,FALSE))","v":""},"04",34,"壮年女子","砲丸投(50～59歳)",{"$f":"'6.陸上（壮年女子）'!F42","v":0},{"$f":"'6.陸上（壮年女子）'!G42","v":0},null,{"$f":"'6.陸上（壮年女子）'!H42","v":"00:00:00"},{"$f":"'6.陸上（壮年女子）'!I42","v":""},{"$f":"'6.陸上（壮年女子）'!J42","v":0}]
[220435,117,2,506,22,{"$f":"IF('0.役員名簿'!$B$7=\"\",\"\",VLOOKUP('0.役員名簿'!$B$7,'各番号（変更不可）'!$J$2:$K$41,2,FALSE))","v":""},"04",35,"壮年女子","砲丸投(60～69歳)",{"$f":"'6.陸上（壮年女子）'!F43","v":0},{"$f":"'6.陸上（壮年女子）'!G43","v":0},null,{"$f":"'6.陸上（壮年女子）'!H43","v":"00:00:00"},{"$f":"'6.陸上（壮年女子）'!I43","v":""},{"$f":"'6.陸上（壮年女子）'!J43","v":0}]
[220436,118,2,507,22,{"$f":"IF('0.役員名簿'!$B$7=\"\",\"\",VLOOKUP('0.役員名簿'!$B$7,'各番号（変更不可）'!$J$2:$K$41,2,FALSE))","v":""},"04",36,"壮年女子","砲丸投(60～69歳)",{"$f":"'6.陸上（壮年女子）'!F44","v":0},{"$f":"'6.陸上（壮年女子）'!G44","v":0},null,{"$f":"'6.陸上（壮年女子）'!H44","v":"00:00:00"},{"$f":"'6.陸上（壮年女子）'!I44","v":""},{"$f":"'6.陸上（壮年女子）'!J44","v":0}]
[220437,119,2,508,22,{"$f":"IF('0.役員名簿'!$B$7=\"\",\"\",VLOOKUP('0.役員名簿'!$B$7,'各番号（変更不可）'!$J$2:$K$41,2,FALSE))","v":""},"04",37,"壮年女子","砲丸投(70～79歳)",{"$f":"'6.陸上（壮年女子）'!F45","v":0},{"$f":"'6.陸上（壮年女子）'!G45","v":0},null,{"$f":"'6.陸上（壮年女子）'!H45","v":"00:00:00"},{"$f":"'6.陸上（壮年女子）'!I45","v":""},{"$f":"'6.陸上（壮年女子）'!J45","v":0}]
[220438,120,2,509,22,{"$f":"IF('0.役員名簿'!$B$7=\"\",\"\",VLOOKUP('0.役員名簿'!$B$7,'各番号（変更不可）'!$J$2:$K$41,2,FALSE))","v":""},"04",38,"壮年女子","砲丸投(70～79歳)",{"$f":"'6.陸上（壮年女子）'!F46","v":0},{"$f":"'6.陸上（壮年女子）'!G46","v":0},null,{"$f":"'6.陸上（壮年女子）'!H46","v":"00:00:00"},{"$f":"'6.陸上（壮年女子）'!I46","v":""},{"$f":"'6.陸上（壮年女子）'!J46","v":0}]
[220439,121,2,510,22,{"$f":"IF('0.役員名簿'!$B$7=\"\",\"\",VLOOKUP('0.役員名簿'!$B$7,'各番号（変更不可）'!$J$2:$K$41,2,FALSE))","v":""},"04",39,"壮年女子","砲丸投(80歳以上)",{"$f":"'6.陸上（壮年女子）'!F47","v":0},{"$f":"'6.陸上（壮年女子）'!G47","v":0},null,{"$f":"'6.陸上（壮年女子）'!H47","v":"00:00:00"},{"$f":"'6.陸上（壮年女子）'!I47","v":""},{"$f":"'6.陸上（壮年女子）'!J47","v":0}]
[220440,122,2,511,22,{"$f":"IF('0.役員名簿'!$B$7=\"\",\"\",VLOOKUP('0.役員名簿'!$B$7,'各番号（変更不可）'!$J$2:$K$41,2,FALSE))","v":""},"04",40,"壮年女子","砲丸投(80歳以上)",{"$f":"'6.陸上（壮年女子）'!F48","v":0},{"$f":"'6.陸上（壮年女子）'!G48","v":0},null,{"$f":"'6.陸上（壮年女子）'!H48","v":"00:00:00"},{"$f":"'6.陸上（壮年女子）'!I48","v":""},{"$f":"'6.陸上（壮年女子）'!J48","v":0}]

{"sheet":"陸上個人申込用紙","index":2,"n_rows":66,"n_cols":9,"rows_kept":66,"cut":false,"hidden":true,"merged":[[46,6,47,6],[46,7,47,7],[12,1,12,6],[13,2,13,4],[14,6,15,6],[14,7,15,7],[15,1,17,2],[15,3,17,4],[15,5,17,5],[16,6,17,6],[36,7,37,7],[42,1,42,6],[43,2,43,4],[44,1,44,2],[44,3,44,4],[44,6,45,6],[44,7,45,7],[45,1,47,2],[45,3,47,4],[45,5,47,5],[32,1,32,6],[33,2,33,4],[34,1,34,2],[34,3,34,4],[34,6,35,6],[34,7,35,7],[35,1,37,2],[35,3,37,4],[35,5,37,5],[36,6,37,6],[33,6,33,7],[43,6,43,7],[24,1,24,2],[24,3,24,4],[24,6,25,6],[24,7,25,7],[25,1,27,2],[25,3,27,4],[25,5,27,5],[26,6,27,6],[26,7,27,7],[22,1,22,6],[23,2,23,4],[16,7,17,7],[4,7,5,7],[6,7,7,7],[23,6,23,7],[2,1,2,6],[14,1,14,2],[14,3,14,4],[4,1,4,2],[4,3,4,4],[4,6,5,6],[6,6,7,6],[3,2,3,4],[5,1,7,2],[5,3,7,4],[5,5,7,5],[3,6,3,7],[13,6,13,7],[52,4,52,7],[52,2,52,3],[61,2,61,3],[61,4,61,7],[54,3,54,4],[55,3,55,4],[56,3,56,4],[54,1,54,2],[55,1,55,2],[56,1,56,2],[54,5,54,6],[55,5,55,6],[56,5,56,6],[53,1,53,2],[53,5,53,6],[53,3,53,4],[64,1,64,2],[64,3,64,4],[64,5,64,6],[65,1,65,2],[65,3,65,4],[65,5,65,6],[62,1,62,2],[62,3,62,4],[62,5,62,6],[63,1,63,2],[63,3,63,4],[63,5,63,6]]}
[null,null,null,null,null,null,null,null,61]
[null,null,null,null,null,null,null,"申込書44"]
[{"$f":"IF(I1=\"\",\"\",\"(\"&IF(VLOOKUP($I1,データベース!$B$2:$O$135,2)=1,\"男子\",\"女子\")&\")\")","v":{"$error":"#N/A"}},"陸上競技個人申込書"]
[null,"郡市名",{"$f":"'0.役員名簿'!$B$7","v":0},null,null,"ナンバー",{"$f":"IF(I1=\"\",\"\",VLOOKUP($I1,データベース!$B$2:$O$135,10))","v":{"$error":"#N/A"}}]
[null,"種別",null,"種目",null,"年齢","氏名",{"$f":"IF(I1=\"\",\"\",VLOOKUP($I1,データベース!$B$2:$O$135,11))","v":{"$error":"#N/A"}}]
[null,{"$f":"IF(I1=\"\",\"\",VLOOKUP($I1,データベース!$B$2:$O$135,8))","v":{"$error":"#N/A"}},null,{"$f":"IF(I1=\"\",\"\",VLOOKUP($I1,データベース!$B$2:$O$135,9))","v":{"$error":"#N/A"}},null,{"$f":"IF(I1=\"\",\"\",VLOOKUP($I1,データベース!$B$2:$O$135,14))","v":{"$error":"#N/A"}}]
[null,null,null,null,null,null,"記録"]
[]
[]
[]
[null,null,null,null,null,null,null,null,62]
[null,null,null,null,null,null,null,"申込書44"]
[{"$f":"IF(I11=\"\",\"\",\"(\"&IF(VLOOKUP($I11,データベース!$B$2:$O$135,2)=1,\"男子\",\"女子\")&\")\")","v":{"$error":"#N/A"}},"陸上競技個人申込書"]
[null,"郡市名",{"$f":"'0.役員名簿'!$B$7","v":0},null,null,"ナンバー",{"$f":"IF(I11=\"\",\"\",VLOOKUP($I11,データベース!$B$2:$O$135,10))","v":{"$error":"#N/A"}}]
[null,"種別",null,"種目",null,"年齢","氏名",{"$f":"IF(I11=\"\",\"\",VLOOKUP($I11,データベース!$B$2:$O$135,11))","v":{"$error":"#N/A"}}]
[null,{"$f":"IF(I11=\"\",\"\",VLOOKUP($I11,データベース!$B$2:$O$135,8))","v":{"$error":"#N/A"}},null,{"$f":"IF(I11=\"\",\"\",VLOOKUP($I11,データベース!$B$2:$O$135,9))","v":{"$error":"#N/A"}},null,{"$f":"IF(I11=\"\",\"\",VLOOKUP($I11,データベース!$B$2:$O$135,14))","v":{"$error":"#N/A"}}]
[null,null,null,null,null,null,"記録"]
[]
[]
[]
[]
[null,null,null,null,null,null,null,"申込書44"]
[{"$f":"IF(I21=\"\",\"\",\"(\"&IF(VLOOKUP($I21,データベース!$B$2:$O$135,2)=1,\"男子\",\"女子\")&\")\")","v":""},"陸上競技個人申込書"]
[null,"郡市名",{"$f":"'0.役員名簿'!$B$7","v":0},null,null,"ナンバー",{"$f":"IF(I21=\"\",\"\",VLOOKUP($I21,データベース!$B$2:$O$135,10))","v":""}]
[null,"種別",null,"種目",null,"年齢","氏名",{"$f":"IF(I21=\"\",\"\",VLOOKUP($I21,データベース!$B$2:$O$135,11))","v":""}]
[null,{"$f":"IF(I21=\"\",\"\",VLOOKUP($I21,データベース!$B$2:$O$135,8))","v":""},null,{"$f":"IF(I21=\"\",\"\",VLOOKUP($I21,データベース!$B$2:$O$135,9))","v":""},null,{"$f":"IF(I21=\"\",\"\",VLOOKUP($I21,データベース!$B$2:$O$135,14))","v":""}]
[null,null,null,null,null,null,"記録"]
[]
[]
[]
[]
[null,null,null,null,null,null,null,"申込書44"]
[{"$f":"IF(I31=\"\",\"\",\"(\"&IF(VLOOKUP($I31,データベース!$B$2:$O$135,2)=1,\"男子\",\"女子\")&\")\")","v":""},"陸上競技個人申込書"]
[null,"郡市名",{"$f":"'0.役員名簿'!$B$7","v":0},null,null,"ナンバー",{"$f":"IF(I31=\"\",\"\",VLOOKUP($I31,データベース!$B$2:$O$135,10))","v":""}]
[null,"種別",null,"種目",null,"年齢","氏名",{"$f":"IF(I31=\"\",\"\",VLOOKUP($I31,データベース!$B$2:$O$135,11))","v":""}]
[null,{"$f":"IF(I31=\"\",\"\",VLOOKUP($I31,データベース!$B$2:$O$135,8))","v":""},null,{"$f":"IF(I31=\"\",\"\",VLOOKUP($I31,データベース!$B$2:$O$135,9))","v":""},null,{"$f":"IF(I31=\"\",\"\",VLOOKUP($I31,データベース!$B$2:$O$135,14))","v":""}]
[null,null,null,null,null,null,"記録"]
[]
[]
[]
[]
[null,null,null,null,null,null,null,"申込書44"]
[{"$f":"IF(I41=\"\",\"\",\"(\"&IF(VLOOKUP($I41,データベース!$B$2:$O$135,2)=1,\"男子\",\"女子\")&\")\")","v":""},"陸上競技個人申込書"]
[null,"郡市名",{"$f":"'0.役員名簿'!$B$7","v":0},null,null,"ナンバー",{"$f":"IF(I41=\"\",\"\",VLOOKUP($I41,データベース!$B$2:$O$135,10))","v":""}]
[null,"種別",null,"種目",null,"年齢","氏名",{"$f":"IF(I41=\"\",\"\",VLOOKUP($I41,データベース!$B$2:$O$135,11))","v":""}]
[null,{"$f":"IF(I41=\"\",\"\",VLOOKUP($I41,データベース!$B$2:$O$135,8))","v":""},null,{"$f":"IF(I41=\"\",\"\",VLOOKUP($I41,データベース!$B$2:$O$135,9))","v":""},null,{"$f":"IF(I41=\"\",\"\",VLOOKUP($I41,データベース!$B$2:$O$135,14))","v":""}]
[null,null,null,null,null,null,"記録"]
[]
[]
[]
[null,null,null,null,null,null,null,"申込書44"]
["（男子）","陸上競技リレー申込書"]
[null,"郡市名",{"$f":"'0.役員名簿'!$B$7","v":0},null,"4×100m R"]
[null,"ナンバー",null,"氏　　　　名",null,"ナンバー",null,"氏　　　　名"]
[null,{"$f":"データベース!K126","v":0},null,{"$f":"データベース!L126","v":0},null,{"$f":"データベース!K129","v":0},null,{"$f":"データベース!L129","v":0}]
[null,{"$f":"データベース!K127","v":0},null,{"$f":"データベース!L127","v":0},null,{"$f":"データベース!K130","v":0},null,{"$f":"データベース!L130","v":0}]
[null,{"$f":"データベース!K128","v":0},null,{"$f":"データベース!L128","v":0},null,{"$f":"データベース!K131","v":0},null,{"$f":"データベース!L131","v":0}]
[]
[]
[null,null,null,null,null,null,null,"申込書44"]
["（女子）","陸上競技リレー申込書"]
[null,"郡市名",{"$f":"'0.役員名簿'!$B$7","v":0},null,"4×100m R"]
[null,"ナンバー",null,"氏　　　　名",null,"ナンバー",null,"氏　　　　名"]
[null,{"$f":"データベース!K132","v":0},null,{"$f":"データベース!L132","v":0},null,{"$f":"データベース!K135","v":0},null,{"$f":"データベース!L135","v":0}]
[null,{"$f":"データベース!K133","v":0},null,{"$f":"データベース!L133","v":0},null,{"$f":"データベース!K136","v":0},null,{"$f":"データベース!L136","v":0}]
[null,{"$f":"データベース!K134","v":0},null,{"$f":"データベース!L134","v":0},null,{"$f":"データベース!K137","v":0},null,{"$f":"データベース!L137","v":0}]

{"sheet":"各番号（変更不可）","index":3,"n_rows":41,"n_cols":15,"rows_kept":41,"cut":false,"hidden":true,"merged":[]}
["競技名","番号",1,2,3,4,5,null,"郡市体育・スポーツ協会","郡市","番号"]
["陸上競技",22,"一般","青年・リレー","壮年男子","壮年女子",null,null,"(公財)北九州市スポーツ協会","北九州市",11,null,null,null,12]
["バスケットボール競技",10,"一般男子","一般女子","青年男子","青年女子",null,null,"(公財)福岡市スポーツ協会","福岡市",12]
["バレーボール競技",11,"一般男子","一般女子","青年男子","青年女子","壮年女子",null,"大牟田市体育協会","大牟田市",13]
["ソフトテニス競技",12,"一般","壮年",null,null,null,null,"(公財)久留米市スポーツ協会","久留米市",14]
["卓球競技",13,"一般","青年","壮年",null,null,null,"(一社)直方市体育協会","直方市",15]
["バドミントン競技",14,"一般男子","一般女子","青年","壮年男子","壮年女子",null,"（一社）飯塚市スポーツ協会","飯塚市",16]
["柔道競技",15,"一般","青年",null,null,null,null,"NPO法人田川市スポーツ協会","田川市",17]
["剣道競技",16,"一般男子","一般女子","青年男子","青年女子",null,null,"柳川市体育協会","柳川市",18]
["弓道競技",17,"一般男子","一般女子","青年",null,null,null,"八女市体育協会","八女市",19]
["相撲競技",18,"一般男子","青年男子","個人戦",null,null,null,"筑後市スポーツ協会","筑後市",20]
["ソフトボール競技",19,"一般男子",null,null,null,null,null,"大川市スポーツ協会","大川市",21]
["空手道競技",20,"男子","壮年男子","女子",null,null,null,"行橋市体育協会","行橋市",22]
["テニス競技",21,"一般",null,null,null,null,null,"豊前市スポーツ協会","豊前市",23]
[null,null,null,null,null,null,null,null,"（一社）中間市スポーツ協会","中間市",24]
[null,null,null,null,null,null,null,null,"(一社）小郡市スポーツ協会","小郡市",25]
[null,null,null,null,null,null,null,null,"(一社)筑紫野市体育協会","筑紫野市",26]
[null,null,null,null,null,null,null,null,"(一社)春日市スポーツ協会","春日市",27]
[null,null,null,null,null,null,null,null,"(公財)大野城市スポーツ協会","大野城市",28]
[null,null,null,null,null,null,null,null,"(一社)宗像市スポーツ協会","宗像市",29]
[null,null,null,null,null,null,null,null,"(一社)太宰府市スポーツ協会","太宰府市",30]
[null,null,null,null,null,null,null,null,"NPO法人古賀市スポーツ協会","古賀市",31]
[null,null,null,null,null,null,null,null,"福津市体育協会","福津市",32]
[null,null,null,null,null,null,null,null,"うきは市スポーツ協会","うきは市",33]
[null,null,null,null,null,null,null,null,"宮若市体育協会","宮若市",34]
[null,null,null,null,null,null,null,null,"嘉麻市スポーツ協会","嘉麻市",35]
[null,null,null,null,null,null,null,null,"朝倉市体育協会","朝倉市",36]
[null,null,null,null,null,null,null,null,"みやま市スポーツ協会","みやま市",37]
[null,null,null,null,null,null,null,null,"糸島市スポーツ協会","糸島市",38]
[null,null,null,null,null,null,null,null,"(一社）那珂川市体育協会","那珂川市",39]
[null,null,null,null,null,null,null,null,"糟屋郡スポーツ協会","糟屋郡",40]
[null,null,null,null,null,null,null,null,"遠賀郡体育協会","遠賀郡",41]
[null,null,null,null,null,null,null,null,"鞍手郡体育協会","鞍手郡",42]
[null,null,null,null,null,null,null,null,"嘉穂郡体育協会","嘉穂郡",43]
[null,null,null,null,null,null,null,null,"朝倉郡体育協会","朝倉郡",44]
[null,null,null,null,null,null,null,null,"三井郡体育協会","三井郡",45]
[null,null,null,null,null,null,null,null,"三潴郡体育協会","三潴郡",46]
[null,null,null,null,null,null,null,null,"八女郡スポーツ協会","八女郡",47]
[null,null,null,null,null,null,null,null,"田川郡社会体育振興協会","田川郡",48]
[null,null,null,null,null,null,null,null,"京都郡スポーツ協会","京都郡",49]
[null,null,null,null,null,null,null,null,"築上郡スポーツ協会","築上郡",50]

{"sheet":"作成及び申込要領","index":4,"n_rows":38,"n_cols":22,"rows_kept":38,"cut":false,"hidden":false,"merged":[[19,0,19,24],[20,0,20,24],[10,0,10,24],[11,0,11,24],[17,0,17,24],[18,0,18,24],[13,0,13,24],[14,0,14,24],[15,0,15,24],[0,0,0,24],[2,0,2,24],[7,0,7,24],[8,0,8,24],[5,0,5,24],[3,0,3,24],[4,0,4,24],[33,11,33,13],[33,16,33,23],[33,14,33,15],[21,1,21,23],[29,1,29,3],[29,4,29,6],[22,10,23,13],[24,1,25,9],[31,8,31,10],[33,2,33,3],[33,4,33,5],[33,6,33,8],[33,9,33,10],[25,21,25,23],[27,1,27,23],[24,21,24,23],[34,16,34,23],[34,14,34,15],[35,2,35,3],[35,4,35,5],[35,6,35,8],[35,9,35,10],[35,11,35,13],[35,14,35,15],[34,2,34,3],[34,4,34,5],[34,6,34,8],[34,9,34,10],[34,11,34,13],[35,16,35,23],[37,16,37,23],[36,2,36,3],[36,4,36,5],[36,6,36,8],[36,9,36,10],[36,11,36,13],[36,16,36,23],[37,2,37,3],[37,4,37,5],[37,6,37,8],[37,9,37,10],[37,11,37,13]]}
["秋季大会参加申込書等作成及び提出要領"]
[]
["１　以下の手順に従い、①〜④の全てのシートに必要事項を入力してください。"]
["２　入力内容を確認し、7月30日（火）までに下記メールアドレス宛にこのファイルを送付してください。"]
["　ただし、その際ファイルにパスワードを設定するなど、個人情報保護にご留意ください。"]
["　また、確認用に原本（印刷したもの）を郵送にて送付してください。"]
[]
["①「0.役員名簿」"]
["（１）郡市名、会長名、役名・氏名・役職名・保険加入の有無（○か×）を入力する。"]
[]
["②「1.参加人員」"]
["（１）各競技・種別ごとの参加人員数をそれぞれ入力する。(郡市名、大会役員、合計は自動計算)"]
[]
["③「2.参加料内訳書」"]
["（１）代表者の職・氏名を入力する。"]
["（２）申込人数の入力は、不要。（参加人員から自動計算）"]
[]
["④「3.陸上(一般)」～「43.テニス」"]
["（１）出場する競技・種別の参加者データを入力する。（下記参照）"]
["（２）参加者のうち、学生・生徒該当者は「学生」欄に○印、在勤地該当者は「在勤地」欄に○印を"]
["　　入力する。(参加基準を満たす者)"]
[null,"※「陸上競技個人申込書」は、様式を本協会HPからダウンロードしてください。男女それぞれ必要数シートを増やして入力し、下記メールアドレスまでファイルを送付してください。"]
[null,null,null,null,null,null,null,null,null,null,"記 入 例"]
[]
[null,"第67回福岡県民スポーツ大会",null,null,null,null,null,null,null,null,null,null,null,null,null,null,null,null,null,null,null,"申込書 7"]
[]
[]
[null,"バスケットボール競技申込書"]
[]
[null,"郡市名",null,null,"( ○○○ )"]
[]
[null,null,"一般男子の部(区名)",null,null,null,null,null,"○○○区"]
[]
[null,null,null,null,"番号",null,"氏名",null,null,"身長",null,"生年月日",null,null,"年齢",null,"住所"]
[null,null,"監 督",null,null,null,"福岡　一郎",null,null,null,null,"1963-04-29",null,null,59,null,"○○市○○区○○2-1-3"]
[null,null,"選 手",null,10,null,"スポ協 太朗",null,null,184,null,"2001-01-01",null,null,22,null,"○○市○○区○○2-1-4"]
[null,null,"〃"]
[null,null,"〃"]

{"sheet":"こちらから","index":5,"n_rows":29,"n_cols":1,"rows_kept":29,"cut":false,"hidden":false,"merged":[[0,0,0,1]]}
["申し込み種別をクリックしてください"]
["作成要領"]
["役員名簿・参加人員"]
[]
["陸上競技"]
[]
["バスケットボール競技"]
[]
["バレーボール競技"]
[]
["ソフトテニス競技"]
[]
["卓球競技"]
[]
["バドミントン競技"]
[]
["柔道競技"]
[]
["剣道競技"]
[]
["弓道競技"]
[]
["相撲競技"]
[]
["ソフトボール競技"]
[]
["空手道競技"]
[]
["テニス競技"]

{"sheet":"0.役員名簿","index":6,"n_rows":26,"n_cols":9,"rows_kept":26,"cut":false,"hidden":false,"merged":[[3,0,3,3]]}
[null,null,null,"申込書 1"]
[{"$f":"\"第\"&Facesheet!$B$2&\"回福岡県民スポーツ大会\"","v":"第67回福岡県民スポーツ大会"}]
[]
["秋季大会　役員名簿"]
[]
[null,"郡市名","体育・スポーツ協会会長名"]
[]
[]
["役　名","氏　名","役　職　名","保険加入",null,null,null,null,"〇"]
["団　長",null,null,null,null,null,null,null,"×"]
["副団長"]
["副団長"]
["総監督"]
["総　務"]
["総　務"]
["総　務"]
["総　務"]
["総　務"]
["総　務"]
["総　務"]
["総　務"]
["総　務"]
["顧　問"]
["顧　問"]
["顧　問"]
["顧　問"]

{"sheet":"1.参加人員","index":7,"n_rows":53,"n_cols":22,"rows_kept":53,"cut":false,"hidden":false,"merged":[[52,0,52,23],[51,21,51,23],[48,21,48,23],[49,0,49,11],[49,12,49,14],[49,15,49,17],[49,18,49,20],[49,21,49,23],[48,0,48,6],[48,7,48,11],[48,12,48,14],[48,15,48,17],[48,18,48,20],[50,0,50,11],[50,12,50,14],[50,15,50,17],[50,18,50,20],[50,21,50,23],[51,0,51,20],[45,18,45,20],[45,21,45,23],[46,7,46,11],[46,12,46,14],[46,15,46,17],[46,18,46,20],[46,21,46,23],[43,21,43,23],[44,0,47,6],[44,7,44,11],[44,12,44,14],[44,15,44,17],[44,18,44,20],[44,21,44,23],[45,7,45,11],[45,12,45,14],[45,15,45,17],[47,7,47,11],[47,12,47,14],[47,15,47,17],[47,18,47,20],[47,21,47,23],[36,18,36,20],[36,21,36,23],[40,21,40,23],[39,7,39,11],[39,12,39,14],[39,15,39,17],[39,18,39,20],[39,21,39,23],[40,7,40,11],[40,12,40,14],[40,15,40,17],[40,18,40,20],[38,15,38,17],[38,18,38,20],[38,21,38,23],[36,7,36,11],[36,12,36,14],[36,15,36,17],[37,0,39,6],[37,7,37,11],[37,12,37,14],[37,15,37,17],[37,18,37,20],[34,21,34,23],[35,7,35,11],[35,12,35,14],[35,15,35,17],[35,18,35,20],[35,21,35,23],[33,0,36,6],[33,7,33,11],[33,12,33,14],[33,15,33,17],[33,18,33,20],[33,21,33,23],[34,7,34,11],[34,12,34,14],[34,15,34,17],[34,18,34,20],[37,21,37,23],[38,7,38,11],[38,12,38,14],[31,21,31,23],[32,7,32,11],[32,12,32,14],[32,15,32,17],[32,18,32,20],[32,21,32,23],[30,7,30,11],[30,12,30,14],[30,15,30,17],[30,18,30,20],[30,21,30,23],[22,15,22,17],[22,18,22,20],[22,21,22,23],[23,7,23,11],[23,12,23,14],[23,15,23,17],[20,0,21,6],[20,7,20,11],[20,12,20,14],[20,15,20,17],[20,18,20,20],[20,21,20,23],[21,7,21,11],[21,12,21,14],[21,15,21,17],[21,18,21,20],[23,18,23,20],[23,21,23,23],[21,21,21,23],[22,0,24,6],[22,7,22,11],[22,12,22,14],[24,7,24,11],[24,12,24,14],[15,0,19,6],[15,7,15,11],[15,12,15,14],[15,15,15,17],[15,18,15,20],[15,21,15,23],[16,7,16,11],[16,12,16,14],[16,15,16,17],[16,18,16,20],[18,7,18,11],[18,12,18,14],[18,15,18,17],[18,18,18,20],[18,21,18,23],[19,7,19,11],[19,12,19,14],[19,15,19,17],[19,18,19,20],[19,21,19,23],[0,21,0,23],[8,21,8,23],[9,7,9,11],[9,12,9,14],[9,15,9,17],[9,18,9,20],[9,21,9,23],[6,21,6,23],[7,7,7,11],[7,12,7,14],[7,15,7,17],[7,18,7,20],[7,21,7,23],[8,7,8,11],[8,12,8,14],[8,15,8,17],[8,18,8,20],[6,7,6,11],[6,12,6,14],[6,15,6,17],[6,18,6,20],[3,1,3,4],[4,0,4,6],[4,7,4,11],[4,12,4,14],[4,15,4,17],[4,18,4,20],[4,21,4,23],[5,7,5,11],[5,12,5,14],[5,15,5,17],[5,18,5,20],[5,21,5,23],[11,0,14,6],[11,7,11,11],[11,12,11,14],[11,15,11,17],[11,18,11,20],[5,0,10,6],[11,21,11,23],[12,7,12,11],[12,12,12,14],[12,15,12,17],[12,18,12,20],[12,21,12,23],[10,7,10,11],[10,12,10,14],[10,15,10,17],[10,18,10,20],[10,21,10,23],[13,7,13,11],[13,12,13,14],[13,15,13,17],[13,18,13,20],[13,21,13,23],[14,7,14,11],[14,12,14,14],[14,15,14,17],[14,18,14,20],[14,21,14,23],[16,21,16,23],[17,7,17,11],[17,12,17,14],[17,15,17,17],[17,18,17,20],[17,21,17,23],[24,15,24,17],[24,18,24,20],[24,21,24,23],[26,21,26,23],[25,7,25,11],[28,21,28,23],[29,7,29,11],[29,12,29,14],[29,15,29,17],[29,18,29,20],[29,21,29,23],[27,7,27,11],[27,12,27,14],[27,15,27,17],[27,18,27,20],[27,21,27,23],[28,7,28,11],[25,15,25,17],[25,18,25,20],[25,21,25,23],[26,7,26,11],[26,12,26,14],[26,15,26,17],[26,18,26,20],[31,0,32,6],[31,7,31,11],[31,12,31,14],[31,15,31,17],[31,18,31,20],[28,12,28,14],[28,15,28,17],[28,18,28,20],[25,0,30,6],[25,12,25,14],[42,7,42,11],[42,12,42,14],[42,15,42,17],[42,18,42,20],[42,21,42,23],[43,0,43,6],[43,7,43,11],[43,12,43,14],[43,15,43,17],[43,18,43,20],[40,0,42,6],[41,7,41,11],[41,12,41,14],[41,15,41,17],[41,18,41,20],[41,21,41,23]]}
[null,null,null,null,null,null,null,null,null,null,null,null,null,null,null,null,null,null,null,null,null,"申込書 2"]
[{"$f":"\"第\"&Facesheet!$B$2&\"回福岡県民スポーツ大会\"","v":"第67回福岡県民スポーツ大会"}]
[]
["(",{"$f":"'0.役員名簿'!B7","v":0},null,null,null,")選手団人員"]
["競技名",null,null,null,null,null,null,"種　別",null,null,null,null,"監　督",null,null,"選　手",null,null,"コーチ等",null,null,"計"]
["陸上競技",null,null,null,null,null,null,"一般男子",null,null,null,null,null,null,null,null,null,null,null,null,null,{"$f":"SUM(M6:U6)","v":0}]
[null,null,null,null,null,null,null,"一般女子",null,null,null,null,null,null,null,null,null,null,null,null,null,{"$f":"SUM(M7:U7)","v":0}]
[null,null,null,null,null,null,null,"青年男子",null,null,null,null,null,null,null,null,null,null,null,null,null,{"$f":"SUM(M8:U8)","v":0}]
[null,null,null,null,null,null,null,"青年女子",null,null,null,null,null,null,null,null,null,null,null,null,null,0]
[null,null,null,null,null,null,null,"壮年男子",null,null,null,null,null,null,null,null,null,null,null,null,null,0]
[null,null,null,null,null,null,null,"壮年女子",null,null,null,null,null,null,null,null,null,null,null,null,null,0]
["バスケットボール",null,null,null,null,null,null,"一般男子",null,null,null,null,null,null,null,null,null,null,null,null,null,0]
[null,null,null,null,null,null,null,"一般女子",null,null,null,null,null,null,null,null,null,null,null,null,null,0]
[null,null,null,null,null,null,null,"青年男子",null,null,null,null,null,null,null,null,null,null,null,null,null,0]
[null,null,null,null,null,null,null,"青年女子",null,null,null,null,null,null,null,null,null,null,null,null,null,0]
["バレーボール",null,null,null,null,null,null,"一般男子",null,null,null,null,null,null,null,null,null,null,null,null,null,0]
[null,null,null,null,null,null,null,"一般女子",null,null,null,null,null,null,null,null,null,null,null,null,null,0]
[null,null,null,null,null,null,null,"青年男子",null,null,null,null,null,null,null,null,null,null,null,null,null,0]
[null,null,null,null,null,null,null,"青年女子",null,null,null,null,null,null,null,null,null,null,null,null,null,0]
[null,null,null,null,null,null,null,"壮年女子",null,null,null,null,null,null,null,null,null,null,null,null,null,0]
["ソフトテニス",null,null,null,null,null,null,"一般",null,null,null,null,null,null,null,null,null,null,null,null,null,0]
[null,null,null,null,null,null,null,"壮年(公開競技）",null,null,null,null,null,null,null,null,null,null,null,null,null,0]
["卓球",null,null,null,null,null,null,"一般",null,null,null,null,null,null,null,null,null,null,null,null,null,0]
[null,null,null,null,null,null,null,"青年",null,null,null,null,null,null,null,null,null,null,null,null,null,0]
[null,null,null,null,null,null,null,"壮年",null,null,null,null,null,null,null,null,null,null,null,null,null,0]
["バドミントン",null,null,null,null,null,null,"一般男子",null,null,null,null,null,null,null,null,null,null,null,null,null,0]
[null,null,null,null,null,null,null,"一般女子",null,null,null,null,null,null,null,null,null,null,null,null,null,0]
[null,null,null,null,null,null,null,"青年",null,null,null,null,null,null,null,null,null,null,null,null,null,0]
[null,null,null,null,null,null,null,"壮年男子",null,null,null,null,null,null,null,null,null,null,null,null,null,0]
[null,null,null,null,null,null,null,"壮年女子",null,null,null,null,null,null,null,null,null,null,null,null,null,0]
[null,null,null,null,null,null,null,"壮年混成男女",null,null,null,null,null,null,null,null,null,null,null,null,null,0]
["柔道",null,null,null,null,null,null,"一般男子",null,null,null,null,null,null,null,null,null,null,null,null,null,0]
[null,null,null,null,null,null,null,"青年男子",null,null,null,null,null,null,null,null,null,null,null,null,null,0]
["剣道",null,null,null,null,null,null,"一般男子",null,null,null,null,null,null,null,null,null,null,null,null,null,0]
[null,null,null,null,null,null,null,"一般女子",null,null,null,null,null,null,null,null,null,null,null,null,null,0]
[null,null,null,null,null,null,null,"青年男子",null,null,null,null,null,null,null,null,null,null,null,null,null,0]
[null,null,null,null,null,null,null,"青年女子",null,null,null,null,null,null,null,null,null,null,null,null,null,0]
["弓道",null,null,null,null,null,null,"一般男子",null,null,null,null,null,null,null,null,null,null,null,null,null,0]
[null,null,null,null,null,null,null,"一般女子",null,null,null,null,null,null,null,null,null,null,null,null,null,0]
[null,null,null,null,null,null,null,"青年",null,null,null,null,null,null,null,null,null,null,null,null,null,0]
["相撲",null,null,null,null,null,null,"一般男子",null,null,null,null,null,null,null,null,null,null,null,null,null,0]
[null,null,null,null,null,null,null,"青年男子",null,null,null,null,null,null,null,null,null,null,null,null,null,0]
[null,null,null,null,null,null,null,"個 人 戦 の み",null,null,null,null,null,null,null,null,null,null,null,null,null,0]
["ソフトボール",null,null,null,null,null,null,"一般男子",null,null,null,null,null,null,null,null,null,null,null,null,null,0]
["空手道",null,null,null,null,null,null,"一般男子",null,null,null,null,null,null,null,null,null,null,null,null,null,0]
[null,null,null,null,null,null,null,"一般女子",null,null,null,null,null,null,null,null,null,null,null,null,null,{"$f":"SUM(M46:U46)","v":0}]
[null,null,null,null,null,null,null,"壮年男子",null,null,null,null,null,null,null,null,null,null,null,null,null,0]
[null,null,null,null,null,null,null,"壮年女子",null,null,null,null,null,null,null,null,null,null,null,null,null,0]
["テニス",null,null,null,null,null,null,"一般",null,null,null,null,null,null,null,null,null,null,null,null,null,0]
["小　　計",null,null,null,null,null,null,null,null,null,null,null,{"$f":"SUM(M6:O49)","v":0},null,null,{"$f":"SUM(P6:R49)","v":0},null,null,{"$f":"SUM(S6:U49)","v":0},null,null,{"$f":"SUM(V6:X49)","v":0}]
["大　　会　　役　　員",null,null,null,null,null,null,null,null,null,null,null,null,null,null,null,null,null,null,null,null,{"$f":"COUNTIF('0.役員名簿'!$D$10:$D$26,\"〇\")","v":0}]
["合　　計",null,null,null,null,null,null,null,null,null,null,null,null,null,null,null,null,null,null,null,null,{"$f":"SUM(V50:X51)","v":0}]
["(注)　監督兼選手の場合は、選手欄にカウントすること。"]

{"sheet":"2.参加料内訳","index":8,"n_rows":31,"n_cols":22,"rows_kept":31,"cut":false,"hidden":false,"merged":[[1,0,1,21],[8,0,8,6],[8,7,8,16],[8,17,8,21],[9,0,9,6],[9,7,9,11],[9,12,9,16],[9,17,9,20],[4,0,4,5],[4,7,4,21],[5,0,6,5],[5,7,6,21],[3,14,3,16],[3,11,3,13],[10,0,10,6],[10,7,10,11],[10,12,10,16],[10,17,10,20],[11,0,11,6],[11,7,11,11],[11,12,11,16],[11,17,11,20],[14,0,14,6],[14,7,14,11],[14,12,14,16],[14,17,14,20],[12,0,12,6],[12,7,12,11],[12,12,12,16],[12,17,12,20],[13,0,13,6],[13,7,13,11],[13,12,13,16],[13,17,13,20],[15,0,15,6],[15,7,15,11],[15,12,15,16],[15,17,15,20],[16,0,16,6],[16,7,16,11],[16,12,16,16],[16,17,16,20],[17,0,17,6],[17,7,17,11],[17,12,17,16],[17,17,17,20],[18,0,18,6],[18,7,18,11],[18,12,18,16],[18,17,18,20],[19,0,19,6],[19,7,19,11],[19,12,19,16],[19,17,19,20],[20,0,20,6],[20,7,20,11],[20,12,20,16],[20,17,20,20],[21,0,21,6],[21,7,21,11],[21,12,21,16],[21,17,21,20],[22,0,22,6],[22,7,22,11],[22,12,22,16],[22,17,22,20],[23,0,23,16],[23,17,23,20],[30,0,30,21],[25,0,25,21],[26,0,26,21],[28,0,28,21],[27,0,27,21],[29,0,29,21]]}
[{"$f":"\"第\"&Facesheet!$B$2&\"回福岡県民スポーツ大会\"","v":"第67回福岡県民スポーツ大会"}]
["秋季大会　参加料内訳書"]
[]
[null,null,null,null,null,null,null,null,null,null,null,"申込期日：",null,null,"令和  6  年",null,null,null,"月",null,"日"]
["郡 市 名",null,null,null,null,null,null,"代表者役職及び氏名"]
[{"$f":"'0.役員名簿'!B7","v":0}]
[]
[]
["競技種目名",null,null,null,null,null,null,"申込人数(人)×参加料(円)",null,null,null,null,null,null,null,null,null,"合計金額"]
["大会役員",null,null,null,null,null,null,{"$f":"COUNTIF('0.役員名簿'!D10:D26,\"〇\")","v":0},null,null,null,null,"×　500円",null,null,null,null,{"$f":"H10*500","v":0},null,null,null,"円"]
["陸上競技",null,null,null,null,null,null,{"$f":"SUM('1.参加人員'!V6:X11)","v":0},null,null,null,null,"×　500円",null,null,null,null,{"$f":"H11*500","v":0},null,null,null,"円"]
["バスケットボール",null,null,null,null,null,null,{"$f":"SUM('1.参加人員'!V12:X15)","v":0},null,null,null,null,"×　500円",null,null,null,null,0,null,null,null,"円"]
["バレーボール",null,null,null,null,null,null,{"$f":"SUM('1.参加人員'!V16:X20)","v":0},null,null,null,null,"×　500円",null,null,null,null,0,null,null,null,"円"]
["ソフトテニス",null,null,null,null,null,null,{"$f":"SUM('1.参加人員'!V21:X22)","v":0},null,null,null,null,"×　500円",null,null,null,null,0,null,null,null,"円"]
["卓球",null,null,null,null,null,null,{"$f":"SUM('1.参加人員'!V23:X25)","v":0},null,null,null,null,"×　500円",null,null,null,null,0,null,null,null,"円"]
["バドミントン",null,null,null,null,null,null,{"$f":"SUM('1.参加人員'!V26:X31)","v":0},null,null,null,null,"×　500円",null,null,null,null,0,null,null,null,"円"]
["柔道",null,null,null,null,null,null,{"$f":"SUM('1.参加人員'!V32:X33)","v":0},null,null,null,null,"×　500円",null,null,null,null,0,null,null,null,"円"]
["剣道",null,null,null,null,null,null,{"$f":"SUM('1.参加人員'!V34:X37)","v":0},null,null,null,null,"×　500円",null,null,null,null,0,null,null,null,"円"]
["弓道",null,null,null,null,null,null,{"$f":"SUM('1.参加人員'!V38:X40)","v":0},null,null,null,null,"×　500円",null,null,null,null,0,null,null,null,"円"]
["相撲",null,null,null,null,null,null,{"$f":"SUM('1.参加人員'!V41:X43)","v":0},null,null,null,null,"×　500円",null,null,null,null,0,null,null,null,"円"]
["ソフトボール",null,null,null,null,null,null,{"$f":"'1.参加人員'!V44","v":0},null,null,null,null,"×　500円",null,null,null,null,0,null,null,null,"円"]
["空手道",null,null,null,null,null,null,{"$f":"SUM('1.参加人員'!V45:X48)","v":0},null,null,null,null,"×　500円",null,null,null,null,0,null,null,null,"円"]
["テニス",null,null,null,null,null,null,{"$f":"'1.参加人員'!V49","v":0},null,null,null,null,"×　500円",null,null,null,null,0,null,null,null,"円"]
["振　込　金　額　合　計",null,null,null,null,null,null,null,null,null,null,null,null,null,null,null,null,{"$f":"SUM(R10:U23)","v":0},null,null,null,"円"]
[]
["※　秋季大会申込み締切は、令和６年７月３０日（火）です。本データをメールにて"]
["　送付し、お申込みください。"]
["※　役員の参加料については、役員名簿(申込書１）において保険加入欄に○印を"]
["　された方が対象となります。"]
["※　参加料を支払われた方が、保険適用対象者となります。"]
["※　参加料は、原則ご返金することができませんので予めご了承ください。"]

{"sheet":"3.陸上（一般）","index":9,"n_rows":32,"n_cols":6,"rows_kept":32,"cut":false,"hidden":false,"merged":[[1,0,1,2],[32,0,32,5],[3,0,3,5]]}
[null,null,null,null,null,"申込書 3"]
[{"$f":"\"第\"&Facesheet!$B$2&\"回福岡県民スポーツ大会\"","v":"第67回福岡県民スポーツ大会"}]
[]
["陸上競技"]
[]
["郡市名（",{"$f":"'0.役員名簿'!B7","v":0},")"]
[]
[null,null,"氏　名","生年月日","年齢","住所"]
["監　督",null,null,null,{"$f":"IF(D9=\"\",\"\",DATEDIF(D9,Facesheet!$B$3,\"Y\"))","v":""}]
["監　督",null,null,null,{"$f":"IF(D10=\"\",\"\",DATEDIF(D10,Facesheet!$B$3,\"Y\"))","v":""}]
[]
["一般男子",null,"令和6年4月1日現在の満年齢が39歳以下の者"]
["種　目","ゼッケン","氏　名","生年月日","年齢","住所"]
["100ｍ",null,null,null,{"$f":"IF(D14=\"\",\"\",DATEDIF(D14,Facesheet!$B$3,\"Y\"))","v":""}]
["100ｍ",null,null,null,{"$f":"IF(D15=\"\",\"\",DATEDIF(D15,Facesheet!$B$3,\"Y\"))","v":""}]
["5,000ｍ",null,null,null,{"$f":"IF(D16=\"\",\"\",DATEDIF(D16,Facesheet!$B$3,\"Y\"))","v":""}]
["5,000ｍ",null,null,null,{"$f":"IF(D17=\"\",\"\",DATEDIF(D17,Facesheet!$B$3,\"Y\"))","v":""}]
["走高跳",null,null,null,{"$f":"IF(D18=\"\",\"\",DATEDIF(D18,Facesheet!$B$3,\"Y\"))","v":""}]
["走高跳",null,null,null,{"$f":"IF(D19=\"\",\"\",DATEDIF(D19,Facesheet!$B$3,\"Y\"))","v":""}]
["走幅跳",null,null,null,{"$f":"IF(D20=\"\",\"\",DATEDIF(D20,Facesheet!$B$3,\"Y\"))","v":""}]
["走幅跳",null,null,null,{"$f":"IF(D21=\"\",\"\",DATEDIF(D21,Facesheet!$B$3,\"Y\"))","v":""}]
[]
["一般女子",null,"令和6年4月1日現在の満年齢が39歳以下の者"]
["種　目","ゼッケン","氏　名","生年月日","年齢","住所"]
["100ｍ",null,null,null,{"$f":"IF(D25=\"\",\"\",DATEDIF(D25,Facesheet!$B$3,\"Y\"))","v":""}]
["100ｍ",null,null,null,{"$f":"IF(D26=\"\",\"\",DATEDIF(D26,Facesheet!$B$3,\"Y\"))","v":""}]
["3,000ｍ",null,null,null,{"$f":"IF(D27=\"\",\"\",DATEDIF(D27,Facesheet!$B$3,\"Y\"))","v":""}]
["3,000ｍ",null,null,null,{"$f":"IF(D28=\"\",\"\",DATEDIF(D28,Facesheet!$B$3,\"Y\"))","v":""}]
["走幅跳",null,null,null,{"$f":"IF(D29=\"\",\"\",DATEDIF(D29,Facesheet!$B$3,\"Y\"))","v":""}]
["走幅跳",null,null,null,{"$f":"IF(D30=\"\",\"\",DATEDIF(D30,Facesheet!$B$3,\"Y\"))","v":""}]
["砲丸投（4kg）",null,null,null,{"$f":"IF(D31=\"\",\"\",DATEDIF(D31,Facesheet!$B$3,\"Y\"))","v":""}]
["砲丸投（4kg）",null,null,null,{"$f":"IF(D32=\"\",\"\",DATEDIF(D32,Facesheet!$B$3,\"Y\"))","v":""}]

{"sheet":"4.陸上（青年・リレー）","index":10,"n_rows":52,"n_cols":6,"rows_kept":52,"cut":false,"hidden":false,"merged":[[3,0,3,5],[1,0,1,2],[6,2,6,4],[22,2,22,4]]}
[null,null,null,null,null,"申込書 4"]
[{"$f":"\"第\"&Facesheet!$B$2&\"回福岡県民スポーツ大会\"","v":"第67回福岡県民スポーツ大会"}]
[]
["陸上競技"]
["郡市名（",{"$f":"'0.役員名簿'!B7","v":0},"）"]
[]
["青年男子",null,"平成元年4月2日以降に出生した者"]
["種　目","ゼッケン","氏　名","生年月日","年齢","住所"]
["100ｍ",null,null,null,{"$f":"IF(D9=\"\",\"\",DATEDIF(D9,Facesheet!$B$3,\"Y\"))","v":""}]
["100ｍ",null,null,null,{"$f":"IF(D10=\"\",\"\",DATEDIF(D10,Facesheet!$B$3,\"Y\"))","v":""}]
["400ｍ",null,null,null,{"$f":"IF(D11=\"\",\"\",DATEDIF(D11,Facesheet!$B$3,\"Y\"))","v":""}]
["400ｍ",null,null,null,{"$f":"IF(D12=\"\",\"\",DATEDIF(D12,Facesheet!$B$3,\"Y\"))","v":""}]
["1,500ｍ",null,null,null,{"$f":"IF(D13=\"\",\"\",DATEDIF(D13,Facesheet!$B$3,\"Y\"))","v":""}]
["1,500ｍ",null,null,null,{"$f":"IF(D14=\"\",\"\",DATEDIF(D14,Facesheet!$B$3,\"Y\"))","v":""}]
["5,000ｍ",null,null,null,{"$f":"IF(D15=\"\",\"\",DATEDIF(D15,Facesheet!$B$3,\"Y\"))","v":""}]
["5,000ｍ",null,null,null,{"$f":"IF(D16=\"\",\"\",DATEDIF(D16,Facesheet!$B$3,\"Y\"))","v":""}]
["走高跳",null,null,null,{"$f":"IF(D17=\"\",\"\",DATEDIF(D17,Facesheet!$B$3,\"Y\"))","v":""}]
["走高跳",null,null,null,{"$f":"IF(D18=\"\",\"\",DATEDIF(D18,Facesheet!$B$3,\"Y\"))","v":""}]
["走幅跳",null,null,null,{"$f":"IF(D19=\"\",\"\",DATEDIF(D19,Facesheet!$B$3,\"Y\"))","v":""}]
["走幅跳",null,null,null,{"$f":"IF(D20=\"\",\"\",DATEDIF(D20,Facesheet!$B$3,\"Y\"))","v":""}]
["砲丸投（6kg）",null,null,null,{"$f":"IF(D21=\"\",\"\",DATEDIF(D21,Facesheet!$B$3,\"Y\"))","v":""}]
["砲丸投（6kg）",null,null,null,{"$f":"IF(D22=\"\",\"\",DATEDIF(D22,Facesheet!$B$3,\"Y\"))","v":""}]
["青年女子",null,"平成元年4月2日以降に出生した者"]
["種　目","ゼッケン","氏　名","生年月日","年齢","住所"]
["100ｍ",null,null,null,{"$f":"IF(D25=\"\",\"\",DATEDIF(D25,Facesheet!$B$3,\"Y\"))","v":""}]
["100ｍ",null,null,null,{"$f":"IF(D26=\"\",\"\",DATEDIF(D26,Facesheet!$B$3,\"Y\"))","v":""}]
["200ｍ",null,null,null,{"$f":"IF(D27=\"\",\"\",DATEDIF(D27,Facesheet!$B$3,\"Y\"))","v":""}]
["200ｍ",null,null,null,{"$f":"IF(D28=\"\",\"\",DATEDIF(D28,Facesheet!$B$3,\"Y\"))","v":""}]
["800ｍ",null,null,null,{"$f":"IF(D29=\"\",\"\",DATEDIF(D29,Facesheet!$B$3,\"Y\"))","v":""}]
["800ｍ",null,null,null,{"$f":"IF(D30=\"\",\"\",DATEDIF(D30,Facesheet!$B$3,\"Y\"))","v":""}]
["走高跳",null,null,null,{"$f":"IF(D31=\"\",\"\",DATEDIF(D31,Facesheet!$B$3,\"Y\"))","v":""}]
["走高跳",null,null,null,{"$f":"IF(D32=\"\",\"\",DATEDIF(D32,Facesheet!$B$3,\"Y\"))","v":""}]
["走幅跳",null,null,null,{"$f":"IF(D33=\"\",\"\",DATEDIF(D33,Facesheet!$B$3,\"Y\"))","v":""}]
["走幅跳",null,null,null,{"$f":"IF(D34=\"\",\"\",DATEDIF(D34,Facesheet!$B$3,\"Y\"))","v":""}]
["砲丸投（4kg）",null,null,null,{"$f":"IF(D35=\"\",\"\",DATEDIF(D35,Facesheet!$B$3,\"Y\"))","v":""}]
["砲丸投（4kg）",null,null,null,{"$f":"IF(D36=\"\",\"\",DATEDIF(D36,Facesheet!$B$3,\"Y\"))","v":""}]
["男子リレー"]
["種　目","ゼッケン","氏　名","生年月日","年齢","住所"]
["男子4×100ｍR",null,null,null,{"$f":"IF(D39=\"\",\"\",DATEDIF(D39,Facesheet!$B$3,\"Y\"))","v":""}]
["男子4×100ｍR",null,null,null,{"$f":"IF(D40=\"\",\"\",DATEDIF(D40,Facesheet!$B$3,\"Y\"))","v":""}]
["男子4×100ｍR",null,null,null,{"$f":"IF(D41=\"\",\"\",DATEDIF(D41,Facesheet!$B$3,\"Y\"))","v":""}]
["男子4×100ｍR",null,null,null,{"$f":"IF(D42=\"\",\"\",DATEDIF(D42,Facesheet!$B$3,\"Y\"))","v":""}]
["男子4×100ｍR",null,null,null,{"$f":"IF(D43=\"\",\"\",DATEDIF(D43,Facesheet!$B$3,\"Y\"))","v":""}]
["男子4×100ｍR",null,null,null,{"$f":"IF(D44=\"\",\"\",DATEDIF(D44,Facesheet!$B$3,\"Y\"))","v":""}]
["女子リレー"]
["種　目","ゼッケン","氏　名","生年月日","年齢","住所"]
["女子4×100ｍR",null,null,null,{"$f":"IF(D47=\"\",\"\",DATEDIF(D47,Facesheet!$B$3,\"Y\"))","v":""}]
["女子4×100ｍR",null,null,null,{"$f":"IF(D48=\"\",\"\",DATEDIF(D48,Facesheet!$B$3,\"Y\"))","v":""}]
["女子4×100ｍR",null,null,null,{"$f":"IF(D49=\"\",\"\",DATEDIF(D49,Facesheet!$B$3,\"Y\"))","v":""}]
["女子4×100ｍR",null,null,null,{"$f":"IF(D50=\"\",\"\",DATEDIF(D50,Facesheet!$B$3,\"Y\"))","v":""}]
["女子4×100ｍR",null,null,null,{"$f":"IF(D51=\"\",\"\",DATEDIF(D51,Facesheet!$B$3,\"Y\"))","v":""}]
["女子4×100ｍR",null,null,null,{"$f":"IF(D52=\"\",\"\",DATEDIF(D52,Facesheet!$B$3,\"Y\"))","v":""}]

{"sheet":"5.陸上（壮年男子）","index":11,"n_rows":48,"n_cols":10,"rows_kept":48,"cut":false,"hidden":false,"merged":[[3,4,3,9],[1,4,1,6]]}
[null,null,null,null,null,null,null,null,null,"申込書 5"]
[null,null,null,null,{"$f":"\"第\"&Facesheet!$B$2&\"回福岡県民スポーツ大会\"","v":"第67回福岡県民スポーツ大会"}]
[]
[null,null,null,null,"陸上競技"]
[null,null,null,null,"郡市名（",{"$f":"'0.役員名簿'!B7","v":0},"）"]
[]
[null,null,null,null,"壮年男子",null,"各種目の年齢区分は令和6年4月1日現在の満年齢"]
[null,null,null,null,"種　目","ゼッケン","氏　名","生年月日","年齢","住所"]
[22,{"$f":"IF($F$5=\"\",\"\",VLOOKUP($F$5,'各番号（変更不可）'!$J$2:$K$41,2,FALSE))","v":{"$error":"#N/A"}},3,1,"100ｍ(40～49歳)",null,null,null,{"$f":"IF(H9=\"\",\"\",DATEDIF(H9,Facesheet!$B$3,\"Y\"))","v":""}]
[22,{"$f":"IF($F$5=\"\",\"\",VLOOKUP($F$5,'各番号（変更不可）'!$J$2:$K$41,2,FALSE))","v":{"$error":"#N/A"}},3,2,"100ｍ(40～49歳)",null,null,null,{"$f":"IF(H10=\"\",\"\",DATEDIF(H10,Facesheet!$B$3,\"Y\"))","v":""}]
[22,{"$f":"IF($F$5=\"\",\"\",VLOOKUP($F$5,'各番号（変更不可）'!$J$2:$K$41,2,FALSE))","v":{"$error":"#N/A"}},3,3,"100ｍ(50～59歳)",null,null,null,{"$f":"IF(H11=\"\",\"\",DATEDIF(H11,Facesheet!$B$3,\"Y\"))","v":""}]
[22,{"$f":"IF($F$5=\"\",\"\",VLOOKUP($F$5,'各番号（変更不可）'!$J$2:$K$41,2,FALSE))","v":{"$error":"#N/A"}},3,4,"100ｍ(50～59歳)",null,null,null,{"$f":"IF(H12=\"\",\"\",DATEDIF(H12,Facesheet!$B$3,\"Y\"))","v":""}]
[22,{"$f":"IF($F$5=\"\",\"\",VLOOKUP($F$5,'各番号（変更不可）'!$J$2:$K$41,2,FALSE))","v":{"$error":"#N/A"}},3,5,"100ｍ(60～69歳)",null,null,null,{"$f":"IF(H13=\"\",\"\",DATEDIF(H13,Facesheet!$B$3,\"Y\"))","v":""}]
[22,{"$f":"IF($F$5=\"\",\"\",VLOOKUP($F$5,'各番号（変更不可）'!$J$2:$K$41,2,FALSE))","v":{"$error":"#N/A"}},3,6,"100ｍ(60～69歳)",null,null,null,{"$f":"IF(H14=\"\",\"\",DATEDIF(H14,Facesheet!$B$3,\"Y\"))","v":""}]
[22,{"$f":"IF($F$5=\"\",\"\",VLOOKUP($F$5,'各番号（変更不可）'!$J$2:$K$41,2,FALSE))","v":{"$error":"#N/A"}},3,7,"100ｍ(70～79歳)",null,null,null,{"$f":"IF(H15=\"\",\"\",DATEDIF(H15,Facesheet!$B$3,\"Y\"))","v":""}]
[22,{"$f":"IF($F$5=\"\",\"\",VLOOKUP($F$5,'各番号（変更不可）'!$J$2:$K$41,2,FALSE))","v":{"$error":"#N/A"}},3,8,"100ｍ(70～79歳)",null,null,null,{"$f":"IF(H16=\"\",\"\",DATEDIF(H16,Facesheet!$B$3,\"Y\"))","v":""}]
[22,{"$f":"IF($F$5=\"\",\"\",VLOOKUP($F$5,'各番号（変更不可）'!$J$2:$K$41,2,FALSE))","v":{"$error":"#N/A"}},3,9,"100ｍ(80歳以上)",null,null,null,{"$f":"IF(H17=\"\",\"\",DATEDIF(H17,Facesheet!$B$3,\"Y\"))","v":""}]
[22,{"$f":"IF($F$5=\"\",\"\",VLOOKUP($F$5,'各番号（変更不可）'!$J$2:$K$41,2,FALSE))","v":{"$error":"#N/A"}},3,10,"100ｍ(80歳以上)",null,null,null,{"$f":"IF(H18=\"\",\"\",DATEDIF(H18,Facesheet!$B$3,\"Y\"))","v":""}]
[22,{"$f":"IF($F$5=\"\",\"\",VLOOKUP($F$5,'各番号（変更不可）'!$J$2:$K$41,2,FALSE))","v":{"$error":"#N/A"}},3,11,"3,000ｍ(50～59歳)",null,null,null,{"$f":"IF(H19=\"\",\"\",DATEDIF(H19,Facesheet!$B$3,\"Y\"))","v":""}]
[22,{"$f":"IF($F$5=\"\",\"\",VLOOKUP($F$5,'各番号（変更不可）'!$J$2:$K$41,2,FALSE))","v":{"$error":"#N/A"}},3,12,"3,000ｍ(50～59歳)",null,null,null,{"$f":"IF(H20=\"\",\"\",DATEDIF(H20,Facesheet!$B$3,\"Y\"))","v":""}]
[22,{"$f":"IF($F$5=\"\",\"\",VLOOKUP($F$5,'各番号（変更不可）'!$J$2:$K$41,2,FALSE))","v":{"$error":"#N/A"}},3,13,"3,000ｍ(60～69歳)",null,null,null,{"$f":"IF(H21=\"\",\"\",DATEDIF(H21,Facesheet!$B$3,\"Y\"))","v":""}]
[22,{"$f":"IF($F$5=\"\",\"\",VLOOKUP($F$5,'各番号（変更不可）'!$J$2:$K$41,2,FALSE))","v":{"$error":"#N/A"}},3,14,"3,000ｍ(60～69歳)",null,null,null,{"$f":"IF(H22=\"\",\"\",DATEDIF(H22,Facesheet!$B$3,\"Y\"))","v":""}]
[22,{"$f":"IF($F$5=\"\",\"\",VLOOKUP($F$5,'各番号（変更不可）'!$J$2:$K$41,2,FALSE))","v":{"$error":"#N/A"}},3,15,"3,000ｍ(70～79歳)",null,null,null,{"$f":"IF(H23=\"\",\"\",DATEDIF(H23,Facesheet!$B$3,\"Y\"))","v":""}]
[22,{"$f":"IF($F$5=\"\",\"\",VLOOKUP($F$5,'各番号（変更不可）'!$J$2:$K$41,2,FALSE))","v":{"$error":"#N/A"}},3,16,"3,000ｍ(70～79歳)",null,null,null,{"$f":"IF(H24=\"\",\"\",DATEDIF(H24,Facesheet!$B$3,\"Y\"))","v":""}]
[22,{"$f":"IF($F$5=\"\",\"\",VLOOKUP($F$5,'各番号（変更不可）'!$J$2:$K$41,2,FALSE))","v":{"$error":"#N/A"}},3,17,"3,000ｍ(80歳以上)",null,null,null,{"$f":"IF(H25=\"\",\"\",DATEDIF(H25,Facesheet!$B$3,\"Y\"))","v":""}]
[22,{"$f":"IF($F$5=\"\",\"\",VLOOKUP($F$5,'各番号（変更不可）'!$J$2:$K$41,2,FALSE))","v":{"$error":"#N/A"}},3,18,"3,000ｍ(80歳以上)",null,null,null,{"$f":"IF(H26=\"\",\"\",DATEDIF(H26,Facesheet!$B$3,\"Y\"))","v":""}]
[22,{"$f":"IF($F$5=\"\",\"\",VLOOKUP($F$5,'各番号（変更不可）'!$J$2:$K$41,2,FALSE))","v":{"$error":"#N/A"}},3,19,"5,000ｍ(40～49歳)",null,null,null,{"$f":"IF(H27=\"\",\"\",DATEDIF(H27,Facesheet!$B$3,\"Y\"))","v":""}]
[22,{"$f":"IF($F$5=\"\",\"\",VLOOKUP($F$5,'各番号（変更不可）'!$J$2:$K$41,2,FALSE))","v":{"$error":"#N/A"}},3,20,"5,000ｍ(40～49歳)",null,null,null,{"$f":"IF(H28=\"\",\"\",DATEDIF(H28,Facesheet!$B$3,\"Y\"))","v":""}]
[22,{"$f":"IF($F$5=\"\",\"\",VLOOKUP($F$5,'各番号（変更不可）'!$J$2:$K$41,2,FALSE))","v":{"$error":"#N/A"}},3,21,"走幅跳(40～49歳)",null,null,null,{"$f":"IF(H29=\"\",\"\",DATEDIF(H29,Facesheet!$B$3,\"Y\"))","v":""}]
[22,{"$f":"IF($F$5=\"\",\"\",VLOOKUP($F$5,'各番号（変更不可）'!$J$2:$K$41,2,FALSE))","v":{"$error":"#N/A"}},3,22,"走幅跳(40～49歳)",null,null,null,{"$f":"IF(H30=\"\",\"\",DATEDIF(H30,Facesheet!$B$3,\"Y\"))","v":""}]
[22,{"$f":"IF($F$5=\"\",\"\",VLOOKUP($F$5,'各番号（変更不可）'!$J$2:$K$41,2,FALSE))","v":{"$error":"#N/A"}},3,23,"走幅跳(50～59歳)",null,null,null,{"$f":"IF(H31=\"\",\"\",DATEDIF(H31,Facesheet!$B$3,\"Y\"))","v":""}]
[22,{"$f":"IF($F$5=\"\",\"\",VLOOKUP($F$5,'各番号（変更不可）'!$J$2:$K$41,2,FALSE))","v":{"$error":"#N/A"}},3,24,"走幅跳(50～59歳)",null,null,null,{"$f":"IF(H32=\"\",\"\",DATEDIF(H32,Facesheet!$B$3,\"Y\"))","v":""}]
[22,{"$f":"IF($F$5=\"\",\"\",VLOOKUP($F$5,'各番号（変更不可）'!$J$2:$K$41,2,FALSE))","v":{"$error":"#N/A"}},3,25,"走幅跳(60～69歳)",null,null,null,{"$f":"IF(H33=\"\",\"\",DATEDIF(H33,Facesheet!$B$3,\"Y\"))","v":""}]
[22,{"$f":"IF($F$5=\"\",\"\",VLOOKUP($F$5,'各番号（変更不可）'!$J$2:$K$41,2,FALSE))","v":{"$error":"#N/A"}},3,26,"走幅跳(60～69歳)",null,null,null,{"$f":"IF(H34=\"\",\"\",DATEDIF(H34,Facesheet!$B$3,\"Y\"))","v":""}]
[22,{"$f":"IF($F$5=\"\",\"\",VLOOKUP($F$5,'各番号（変更不可）'!$J$2:$K$41,2,FALSE))","v":{"$error":"#N/A"}},3,27,"走幅跳(70～79歳)",null,null,null,{"$f":"IF(H35=\"\",\"\",DATEDIF(H35,Facesheet!$B$3,\"Y\"))","v":""}]
[22,{"$f":"IF($F$5=\"\",\"\",VLOOKUP($F$5,'各番号（変更不可）'!$J$2:$K$41,2,FALSE))","v":{"$error":"#N/A"}},3,28,"走幅跳(70～79歳)",null,null,null,{"$f":"IF(H36=\"\",\"\",DATEDIF(H36,Facesheet!$B$3,\"Y\"))","v":""}]
[22,{"$f":"IF($F$5=\"\",\"\",VLOOKUP($F$5,'各番号（変更不可）'!$J$2:$K$41,2,FALSE))","v":{"$error":"#N/A"}},3,29,"走幅跳(80歳以上)",null,null,null,{"$f":"IF(H37=\"\",\"\",DATEDIF(H37,Facesheet!$B$3,\"Y\"))","v":""}]
[22,{"$f":"IF($F$5=\"\",\"\",VLOOKUP($F$5,'各番号（変更不可）'!$J$2:$K$41,2,FALSE))","v":{"$error":"#N/A"}},3,30,"走幅跳(80歳以上)",null,null,null,{"$f":"IF(H38=\"\",\"\",DATEDIF(H38,Facesheet!$B$3,\"Y\"))","v":""}]
[22,{"$f":"IF($F$5=\"\",\"\",VLOOKUP($F$5,'各番号（変更不可）'!$J$2:$K$41,2,FALSE))","v":{"$error":"#N/A"}},3,31,"砲丸投(40～49歳)",null,null,null,{"$f":"IF(H39=\"\",\"\",DATEDIF(H39,Facesheet!$B$3,\"Y\"))","v":""}]
[22,{"$f":"IF($F$5=\"\",\"\",VLOOKUP($F$5,'各番号（変更不可）'!$J$2:$K$41,2,FALSE))","v":{"$error":"#N/A"}},3,32,"砲丸投(40～49歳)",null,null,null,{"$f":"IF(H40=\"\",\"\",DATEDIF(H40,Facesheet!$B$3,\"Y\"))","v":""}]
[22,{"$f":"IF($F$5=\"\",\"\",VLOOKUP($F$5,'各番号（変更不可）'!$J$2:$K$41,2,FALSE))","v":{"$error":"#N/A"}},3,33,"砲丸投(50～59歳)",null,null,null,{"$f":"IF(H41=\"\",\"\",DATEDIF(H41,Facesheet!$B$3,\"Y\"))","v":""}]
[22,{"$f":"IF($F$5=\"\",\"\",VLOOKUP($F$5,'各番号（変更不可）'!$J$2:$K$41,2,FALSE))","v":{"$error":"#N/A"}},3,34,"砲丸投(50～59歳)",null,null,null,{"$f":"IF(H42=\"\",\"\",DATEDIF(H42,Facesheet!$B$3,\"Y\"))","v":""}]
[22,{"$f":"IF($F$5=\"\",\"\",VLOOKUP($F$5,'各番号（変更不可）'!$J$2:$K$41,2,FALSE))","v":{"$error":"#N/A"}},3,35,"砲丸投(60～69歳)",null,null,null,{"$f":"IF(H43=\"\",\"\",DATEDIF(H43,Facesheet!$B$3,\"Y\"))","v":""}]
[22,{"$f":"IF($F$5=\"\",\"\",VLOOKUP($F$5,'各番号（変更不可）'!$J$2:$K$41,2,FALSE))","v":{"$error":"#N/A"}},3,36,"砲丸投(60～69歳)",null,null,null,{"$f":"IF(H44=\"\",\"\",DATEDIF(H44,Facesheet!$B$3,\"Y\"))","v":""}]
[22,{"$f":"IF($F$5=\"\",\"\",VLOOKUP($F$5,'各番号（変更不可）'!$J$2:$K$41,2,FALSE))","v":{"$error":"#N/A"}},3,37,"砲丸投(70～79歳)",null,null,null,{"$f":"IF(H45=\"\",\"\",DATEDIF(H45,Facesheet!$B$3,\"Y\"))","v":""}]
[22,{"$f":"IF($F$5=\"\",\"\",VLOOKUP($F$5,'各番号（変更不可）'!$J$2:$K$41,2,FALSE))","v":{"$error":"#N/A"}},3,38,"砲丸投(70～79歳)",null,null,null,{"$f":"IF(H46=\"\",\"\",DATEDIF(H46,Facesheet!$B$3,\"Y\"))","v":""}]
[22,{"$f":"IF($F$5=\"\",\"\",VLOOKUP($F$5,'各番号（変更不可）'!$J$2:$K$41,2,FALSE))","v":{"$error":"#N/A"}},3,39,"砲丸投(80歳以上)",null,null,null,{"$f":"IF(H47=\"\",\"\",DATEDIF(H47,Facesheet!$B$3,\"Y\"))","v":""}]
[22,{"$f":"IF($F$5=\"\",\"\",VLOOKUP($F$5,'各番号（変更不可）'!$J$2:$K$41,2,FALSE))","v":{"$error":"#N/A"}},3,40,"砲丸投(80歳以上)",null,null,null,{"$f":"IF(H48=\"\",\"\",DATEDIF(H48,Facesheet!$B$3,\"Y\"))","v":""}]

{"sheet":"6.陸上（壮年女子）","index":12,"n_rows":48,"n_cols":10,"rows_kept":48,"cut":false,"hidden":false,"merged":[[3,4,3,9],[1,4,1,6]]}
[null,null,null,null,null,null,null,null,null,"申込書 6"]
[null,null,null,null,{"$f":"\"第\"&Facesheet!$B$2&\"回福岡県民スポーツ大会\"","v":"第67回福岡県民スポーツ大会"}]
[]
[null,null,null,null,"陸上競技"]
[null,null,null,null,"郡市名(",{"$f":"'0.役員名簿'!B7","v":0},")"]
[]
[null,null,null,null,"壮年女子",null,"各種目の年齢区分は令和6年4月1日現在の満年齢"]
[null,null,null,null,"種　目","ゼッケン","氏　名","生年月日","年齢","住所"]
[22,{"$f":"IF($F$5=\"\",\"\",VLOOKUP($F$5,'各番号（変更不可）'!$J$2:$K$41,2,FALSE))","v":{"$error":"#N/A"}},4,1,"100ｍ(40～49歳)",null,null,null,{"$f":"IF(H9=\"\",\"\",DATEDIF(H9,Facesheet!$B$3,\"Y\"))","v":""}]
[22,{"$f":"IF($F$5=\"\",\"\",VLOOKUP($F$5,'各番号（変更不可）'!$J$2:$K$41,2,FALSE))","v":{"$error":"#N/A"}},4,2,"100ｍ(40～49歳)",null,null,null,{"$f":"IF(H10=\"\",\"\",DATEDIF(H10,Facesheet!$B$3,\"Y\"))","v":""}]
[22,{"$f":"IF($F$5=\"\",\"\",VLOOKUP($F$5,'各番号（変更不可）'!$J$2:$K$41,2,FALSE))","v":{"$error":"#N/A"}},4,3,"100ｍ(50～59歳)",null,null,null,{"$f":"IF(H11=\"\",\"\",DATEDIF(H11,Facesheet!$B$3,\"Y\"))","v":""}]
[22,{"$f":"IF($F$5=\"\",\"\",VLOOKUP($F$5,'各番号（変更不可）'!$J$2:$K$41,2,FALSE))","v":{"$error":"#N/A"}},4,4,"100ｍ(50～59歳)",null,null,null,{"$f":"IF(H12=\"\",\"\",DATEDIF(H12,Facesheet!$B$3,\"Y\"))","v":""}]
[22,{"$f":"IF($F$5=\"\",\"\",VLOOKUP($F$5,'各番号（変更不可）'!$J$2:$K$41,2,FALSE))","v":{"$error":"#N/A"}},4,5,"100ｍ(60～69歳)",null,null,null,{"$f":"IF(H13=\"\",\"\",DATEDIF(H13,Facesheet!$B$3,\"Y\"))","v":""}]
[22,{"$f":"IF($F$5=\"\",\"\",VLOOKUP($F$5,'各番号（変更不可）'!$J$2:$K$41,2,FALSE))","v":{"$error":"#N/A"}},4,6,"100ｍ(60～69歳)",null,null,null,{"$f":"IF(H14=\"\",\"\",DATEDIF(H14,Facesheet!$B$3,\"Y\"))","v":""}]
[22,{"$f":"IF($F$5=\"\",\"\",VLOOKUP($F$5,'各番号（変更不可）'!$J$2:$K$41,2,FALSE))","v":{"$error":"#N/A"}},4,7,"100ｍ(70～79歳)",null,null,null,{"$f":"IF(H15=\"\",\"\",DATEDIF(H15,Facesheet!$B$3,\"Y\"))","v":""}]
[22,{"$f":"IF($F$5=\"\",\"\",VLOOKUP($F$5,'各番号（変更不可）'!$J$2:$K$41,2,FALSE))","v":{"$error":"#N/A"}},4,8,"100ｍ(70～79歳)",null,null,null,{"$f":"IF(H16=\"\",\"\",DATEDIF(H16,Facesheet!$B$3,\"Y\"))","v":""}]
[22,{"$f":"IF($F$5=\"\",\"\",VLOOKUP($F$5,'各番号（変更不可）'!$J$2:$K$41,2,FALSE))","v":{"$error":"#N/A"}},4,9,"100ｍ(80歳以上)",null,null,null,{"$f":"IF(H17=\"\",\"\",DATEDIF(H17,Facesheet!$B$3,\"Y\"))","v":""}]
[22,{"$f":"IF($F$5=\"\",\"\",VLOOKUP($F$5,'各番号（変更不可）'!$J$2:$K$41,2,FALSE))","v":{"$error":"#N/A"}},4,10,"100ｍ(80歳以上)",null,null,null,{"$f":"IF(H18=\"\",\"\",DATEDIF(H18,Facesheet!$B$3,\"Y\"))","v":""}]
[22,{"$f":"IF($F$5=\"\",\"\",VLOOKUP($F$5,'各番号（変更不可）'!$J$2:$K$41,2,FALSE))","v":{"$error":"#N/A"}},4,11,"3,000ｍ(40～49歳)",null,null,null,{"$f":"IF(H19=\"\",\"\",DATEDIF(H19,Facesheet!$B$3,\"Y\"))","v":""}]
[22,{"$f":"IF($F$5=\"\",\"\",VLOOKUP($F$5,'各番号（変更不可）'!$J$2:$K$41,2,FALSE))","v":{"$error":"#N/A"}},4,12,"3,000ｍ(40～49歳)",null,null,null,{"$f":"IF(H20=\"\",\"\",DATEDIF(H20,Facesheet!$B$3,\"Y\"))","v":""}]
[22,{"$f":"IF($F$5=\"\",\"\",VLOOKUP($F$5,'各番号（変更不可）'!$J$2:$K$41,2,FALSE))","v":{"$error":"#N/A"}},4,13,"3,000ｍ(50～59歳)",null,null,null,{"$f":"IF(H21=\"\",\"\",DATEDIF(H21,Facesheet!$B$3,\"Y\"))","v":""}]
[22,{"$f":"IF($F$5=\"\",\"\",VLOOKUP($F$5,'各番号（変更不可）'!$J$2:$K$41,2,FALSE))","v":{"$error":"#N/A"}},4,14,"3,000ｍ(50～59歳)",null,null,null,{"$f":"IF(H22=\"\",\"\",DATEDIF(H22,Facesheet!$B$3,\"Y\"))","v":""}]
[22,{"$f":"IF($F$5=\"\",\"\",VLOOKUP($F$5,'各番号（変更不可）'!$J$2:$K$41,2,FALSE))","v":{"$error":"#N/A"}},4,15,"3,000ｍ(60～69歳)",null,null,null,{"$f":"IF(H23=\"\",\"\",DATEDIF(H23,Facesheet!$B$3,\"Y\"))","v":""}]
[22,{"$f":"IF($F$5=\"\",\"\",VLOOKUP($F$5,'各番号（変更不可）'!$J$2:$K$41,2,FALSE))","v":{"$error":"#N/A"}},4,16,"3,000ｍ(60～69歳)",null,null,null,{"$f":"IF(H24=\"\",\"\",DATEDIF(H24,Facesheet!$B$3,\"Y\"))","v":""}]
[22,{"$f":"IF($F$5=\"\",\"\",VLOOKUP($F$5,'各番号（変更不可）'!$J$2:$K$41,2,FALSE))","v":{"$error":"#N/A"}},4,17,"3,000ｍ(70～79歳)",null,null,null,{"$f":"IF(H25=\"\",\"\",DATEDIF(H25,Facesheet!$B$3,\"Y\"))","v":""}]
[22,{"$f":"IF($F$5=\"\",\"\",VLOOKUP($F$5,'各番号（変更不可）'!$J$2:$K$41,2,FALSE))","v":{"$error":"#N/A"}},4,18,"3,000ｍ(70～79歳)",null,null,null,{"$f":"IF(H26=\"\",\"\",DATEDIF(H26,Facesheet!$B$3,\"Y\"))","v":""}]
[22,{"$f":"IF($F$5=\"\",\"\",VLOOKUP($F$5,'各番号（変更不可）'!$J$2:$K$41,2,FALSE))","v":{"$error":"#N/A"}},4,19,"3,000ｍ(80歳以上)",null,null,null,{"$f":"IF(H27=\"\",\"\",DATEDIF(H27,Facesheet!$B$3,\"Y\"))","v":""}]
[22,{"$f":"IF($F$5=\"\",\"\",VLOOKUP($F$5,'各番号（変更不可）'!$J$2:$K$41,2,FALSE))","v":{"$error":"#N/A"}},4,20,"3,000ｍ(80歳以上)",null,null,null,{"$f":"IF(H28=\"\",\"\",DATEDIF(H28,Facesheet!$B$3,\"Y\"))","v":""}]
[22,{"$f":"IF($F$5=\"\",\"\",VLOOKUP($F$5,'各番号（変更不可）'!$J$2:$K$41,2,FALSE))","v":{"$error":"#N/A"}},4,21,"走幅跳(40～49歳)",null,null,null,{"$f":"IF(H29=\"\",\"\",DATEDIF(H29,Facesheet!$B$3,\"Y\"))","v":""}]
[22,{"$f":"IF($F$5=\"\",\"\",VLOOKUP($F$5,'各番号（変更不可）'!$J$2:$K$41,2,FALSE))","v":{"$error":"#N/A"}},4,22,"走幅跳(40～49歳)",null,null,null,{"$f":"IF(H30=\"\",\"\",DATEDIF(H30,Facesheet!$B$3,\"Y\"))","v":""}]
[22,{"$f":"IF($F$5=\"\",\"\",VLOOKUP($F$5,'各番号（変更不可）'!$J$2:$K$41,2,FALSE))","v":{"$error":"#N/A"}},4,23,"走幅跳(50～59歳)",null,null,null,{"$f":"IF(H31=\"\",\"\",DATEDIF(H31,Facesheet!$B$3,\"Y\"))","v":""}]
[22,{"$f":"IF($F$5=\"\",\"\",VLOOKUP($F$5,'各番号（変更不可）'!$J$2:$K$41,2,FALSE))","v":{"$error":"#N/A"}},4,24,"走幅跳(50～59歳)",null,null,null,{"$f":"IF(H32=\"\",\"\",DATEDIF(H32,Facesheet!$B$3,\"Y\"))","v":""}]
[22,{"$f":"IF($F$5=\"\",\"\",VLOOKUP($F$5,'各番号（変更不可）'!$J$2:$K$41,2,FALSE))","v":{"$error":"#N/A"}},4,25,"走幅跳(60～69歳)",null,null,null,{"$f":"IF(H33=\"\",\"\",DATEDIF(H33,Facesheet!$B$3,\"Y\"))","v":""}]
[22,{"$f":"IF($F$5=\"\",\"\",VLOOKUP($F$5,'各番号（変更不可）'!$J$2:$K$41,2,FALSE))","v":{"$error":"#N/A"}},4,26,"走幅跳(60～69歳)",null,null,null,{"$f":"IF(H34=\"\",\"\",DATEDIF(H34,Facesheet!$B$3,\"Y\"))","v":""}]
[22,{"$f":"IF($F$5=\"\",\"\",VLOOKUP($F$5,'各番号（変更不可）'!$J$2:$K$41,2,FALSE))","v":{"$error":"#N/A"}},4,27,"走幅跳(70～79歳)",null,null,null,{"$f":"IF(H35=\"\",\"\",DATEDIF(H35,Facesheet!$B$3,\"Y\"))","v":""}]
[22,{"$f":"IF($F$5=\"\",\"\",VLOOKUP($F$5,'各番号（変更不可）'!$J$2:$K$41,2,FALSE))","v":{"$error":"#N/A"}},4,28,"走幅跳(70～79歳)",null,null,null,{"$f":"IF(H36=\"\",\"\",DATEDIF(H36,Facesheet!$B$3,\"Y\"))","v":""}]
[22,{"$f":"IF($F$5=\"\",\"\",VLOOKUP($F$5,'各番号（変更不可）'!$J$2:$K$41,2,FALSE))","v":{"$error":"#N/A"}},4,29,"走幅跳(80歳以上)",null,null,null,{"$f":"IF(H37=\"\",\"\",DATEDIF(H37,Facesheet!$B$3,\"Y\"))","v":""}]
[22,{"$f":"IF($F$5=\"\",\"\",VLOOKUP($F$5,'各番号（変更不可）'!$J$2:$K$41,2,FALSE))","v":{"$error":"#N/A"}},4,30,"走幅跳(80歳以上)",null,null,null,{"$f":"IF(H38=\"\",\"\",DATEDIF(H38,Facesheet!$B$3,\"Y\"))","v":""}]
[22,{"$f":"IF($F$5=\"\",\"\",VLOOKUP($F$5,'各番号（変更不可）'!$J$2:$K$41,2,FALSE))","v":{"$error":"#N/A"}},4,31,"砲丸投(40～49歳)",null,null,null,{"$f":"IF(H39=\"\",\"\",DATEDIF(H39,Facesheet!$B$3,\"Y\"))","v":""}]
[22,{"$f":"IF($F$5=\"\",\"\",VLOOKUP($F$5,'各番号（変更不可）'!$J$2:$K$41,2,FALSE))","v":{"$error":"#N/A"}},4,32,"砲丸投(40～49歳)",null,null,null,{"$f":"IF(H40=\"\",\"\",DATEDIF(H40,Facesheet!$B$3,\"Y\"))","v":""}]
[22,{"$f":"IF($F$5=\"\",\"\",VLOOKUP($F$5,'各番号（変更不可）'!$J$2:$K$41,2,FALSE))","v":{"$error":"#N/A"}},4,33,"砲丸投(50～59歳)",null,null,null,{"$f":"IF(H41=\"\",\"\",DATEDIF(H41,Facesheet!$B$3,\"Y\"))","v":""}]
[22,{"$f":"IF($F$5=\"\",\"\",VLOOKUP($F$5,'各番号（変更不可）'!$J$2:$K$41,2,FALSE))","v":{"$error":"#N/A"}},4,34,"砲丸投(50～59歳)",null,null,null,{"$f":"IF(H42=\"\",\"\",DATEDIF(H42,Facesheet!$B$3,\"Y\"))","v":""}]
[22,{"$f":"IF($F$5=\"\",\"\",VLOOKUP($F$5,'各番号（変更不可）'!$J$2:$K$41,2,FALSE))","v":{"$error":"#N/A"}},4,35,"砲丸投(60～69歳)",null,null,null,{"$f":"IF(H43=\"\",\"\",DATEDIF(H43,Facesheet!$B$3,\"Y\"))","v":""}]
[22,{"$f":"IF($F$5=\"\",\"\",VLOOKUP($F$5,'各番号（変更不可）'!$J$2:$K$41,2,FALSE))","v":{"$error":"#N/A"}},4,36,"砲丸投(60～69歳)",null,null,null,{"$f":"IF(H44=\"\",\"\",DATEDIF(H44,Facesheet!$B$3,\"Y\"))","v":""}]
[22,{"$f":"IF($F$5=\"\",\"\",VLOOKUP($F$5,'各番号（変更不可）'!$J$2:$K$41,2,FALSE))","v":{"$error":"#N/A"}},4,37,"砲丸投(70～79歳)",null,null,null,{"$f":"IF(H45=\"\",\"\",DATEDIF(H45,Facesheet!$B$3,\"Y\"))","v":""}]
[22,{"$f":"IF($F$5=\"\",\"\",VLOOKUP($F$5,'各番号（変更不可）'!$J$2:$K$41,2,FALSE))","v":{"$error":"#N/A"}},4,38,"砲丸投(70～79歳)",null,null,null,{"$f":"IF(H46=\"\",\"\",DATEDIF(H46,Facesheet!$B$3,\"Y\"))","v":""}]
[22,{"$f":"IF($F$5=\"\",\"\",VLOOKUP($F$5,'各番号（変更不可）'!$J$2:$K$41,2,FALSE))","v":{"$error":"#N/A"}},4,39,"砲丸投(80歳以上)",null,null,null,{"$f":"IF(H47=\"\",\"\",DATEDIF(H47,Facesheet!$B$3,\"Y\"))","v":""}]
[22,{"$f":"IF($F$5=\"\",\"\",VLOOKUP($F$5,'各番号（変更不可）'!$J$2:$K$41,2,FALSE))","v":{"$error":"#N/A"}},4,40,"砲丸投(80歳以上)",null,null,null,{"$f":"IF(H48=\"\",\"\",DATEDIF(H48,Facesheet!$B$3,\"Y\"))","v":""}]

{"sheet":"7.バスケ〔一般男子〕","index":13,"n_rows":32,"n_cols":7,"rows_kept":32,"cut":false,"hidden":false,"merged":[[3,0,3,6],[28,5,28,6],[29,5,29,6],[1,0,1,2],[7,5,7,6],[26,0,26,1],[27,0,27,6],[26,2,26,6],[7,0,7,1]]}
[null,null,null,null,null,null,"申込書７"]
[{"$f":"\"第\"&Facesheet!$B$2&\"回福岡県民スポーツ大会\"","v":"第67回福岡県民スポーツ大会"}]
[]
["バスケットボール競技"]
[]
["郡市名","（",{"$f":"'0.役員名簿'!$B$7","v":0},"）"]
[]
["一般男子（区名）"]
[]
[null,"番号","氏　名","身長\ncm","生年月日","年齢","住　所"]
["監　督",null,null,null,null,{"$f":"IF(E11=\"\",\"\",DATEDIF(E11,Facesheet!$B$3,\"Y\"))","v":""}]
["選　手",null,null,null,null,{"$f":"IF(E12=\"\",\"\",DATEDIF(E12,Facesheet!$B$3,\"Y\"))","v":""}]
["選　手",null,null,null,null,{"$f":"IF(E13=\"\",\"\",DATEDIF(E13,Facesheet!$B$3,\"Y\"))","v":""}]
["選　手",null,null,null,null,{"$f":"IF(E14=\"\",\"\",DATEDIF(E14,Facesheet!$B$3,\"Y\"))","v":""}]
["選　手",null,null,null,null,{"$f":"IF(E15=\"\",\"\",DATEDIF(E15,Facesheet!$B$3,\"Y\"))","v":""}]
["選　手",null,null,null,null,{"$f":"IF(E16=\"\",\"\",DATEDIF(E16,Facesheet!$B$3,\"Y\"))","v":""}]
["選　手",null,null,null,null,{"$f":"IF(E17=\"\",\"\",DATEDIF(E17,Facesheet!$B$3,\"Y\"))","v":""}]
["選　手",null,null,null,null,{"$f":"IF(E18=\"\",\"\",DATEDIF(E18,Facesheet!$B$3,\"Y\"))","v":""}]
["選　手",null,null,null,null,{"$f":"IF(E19=\"\",\"\",DATEDIF(E19,Facesheet!$B$3,\"Y\"))","v":""}]
["選　手",null,null,null,null,{"$f":"IF(E20=\"\",\"\",DATEDIF(E20,Facesheet!$B$3,\"Y\"))","v":""}]
["選　手",null,null,null,null,{"$f":"IF(E21=\"\",\"\",DATEDIF(E21,Facesheet!$B$3,\"Y\"))","v":""}]
["選　手",null,null,null,null,{"$f":"IF(E22=\"\",\"\",DATEDIF(E22,Facesheet!$B$3,\"Y\"))","v":""}]
["選　手",null,null,null,null,{"$f":"IF(E23=\"\",\"\",DATEDIF(E23,Facesheet!$B$3,\"Y\"))","v":""}]
["コーチ",null,null,null,null,{"$f":"IF(E24=\"\",\"\",DATEDIF(E24,Facesheet!$B$3,\"Y\"))","v":""}]
["マネジャー",null,null,null,null,{"$f":"IF(E25=\"\",\"\",DATEDIF(E25,Facesheet!$B$3,\"Y\"))","v":""}]
["（注）福岡市・北九州市にあっては区名を記入のこと。"]
[{"$f":"G32","v":"1989-03-31"},null,"以前に出生した者。"]
["　 ただし、それ以降に出生した者が選手数の1/2に達しない範囲で参加できる。"]
[null,null,"参加者数",{"$f":"COUNTA(C11:C25)","v":0}]
[]
[]
[null,null,null,null,null,null,"1989-03-31"]

{"sheet":"8.バスケ〔一般女子〕","index":14,"n_rows":27,"n_cols":7,"rows_kept":27,"cut":false,"hidden":false,"merged":[[3,0,3,6],[26,5,26,6],[27,5,27,6],[7,0,7,1]]}
[null,null,null,null,null,null,"申込書8"]
[{"$f":"\"第\"&Facesheet!$B$2&\"回福岡県民スポーツ大会\"","v":"第67回福岡県民スポーツ大会"}]
[]
["バスケットボール競技"]
[]
["郡市名","(",{"$f":"'0.役員名簿'!$B$7","v":0},"）"]
[]
["　一般女子"]
[]
[null,"番号","氏　名","身長\ncm","生年月日","年齢","住　所"]
["監　督",null,null,null,null,{"$f":"IF(E11=\"\",\"\",DATEDIF(E11,Facesheet!$B$3,\"Y\"))","v":""}]
["選　手",null,null,null,null,{"$f":"IF(E12=\"\",\"\",DATEDIF(E12,Facesheet!$B$3,\"Y\"))","v":""}]
["選　手",null,null,null,null,{"$f":"IF(E13=\"\",\"\",DATEDIF(E13,Facesheet!$B$3,\"Y\"))","v":""}]
["選　手",null,null,null,null,{"$f":"IF(E14=\"\",\"\",DATEDIF(E14,Facesheet!$B$3,\"Y\"))","v":""}]
["選　手",null,null,null,null,{"$f":"IF(E15=\"\",\"\",DATEDIF(E15,Facesheet!$B$3,\"Y\"))","v":""}]
["選　手",null,null,null,null,{"$f":"IF(E16=\"\",\"\",DATEDIF(E16,Facesheet!$B$3,\"Y\"))","v":""}]
["選　手",null,null,null,null,{"$f":"IF(E17=\"\",\"\",DATEDIF(E17,Facesheet!$B$3,\"Y\"))","v":""}]
["選　手",null,null,null,null,{"$f":"IF(E18=\"\",\"\",DATEDIF(E18,Facesheet!$B$3,\"Y\"))","v":""}]
["選　手",null,null,null,null,{"$f":"IF(E19=\"\",\"\",DATEDIF(E19,Facesheet!$B$3,\"Y\"))","v":""}]
["選　手",null,null,null,null,{"$f":"IF(E20=\"\",\"\",DATEDIF(E20,Facesheet!$B$3,\"Y\"))","v":""}]
["選　手",null,null,null,null,{"$f":"IF(E21=\"\",\"\",DATEDIF(E21,Facesheet!$B$3,\"Y\"))","v":""}]
["選　手",null,null,null,null,{"$f":"IF(E22=\"\",\"\",DATEDIF(E22,Facesheet!$B$3,\"Y\"))","v":""}]
["選　手",null,null,null,null,{"$f":"IF(E23=\"\",\"\",DATEDIF(E23,Facesheet!$B$3,\"Y\"))","v":""}]
["コーチ",null,null,null,null,{"$f":"IF(E24=\"\",\"\",DATEDIF(E24,Facesheet!$B$3,\"Y\"))","v":""}]
["マネジャー",null,null,null,null,{"$f":"IF(E25=\"\",\"\",DATEDIF(E25,Facesheet!$B$3,\"Y\"))","v":""}]
["（注）福岡市・北九州市にあっては区名を記入のこと。"]
[null,null,"参加人数",{"$f":"COUNTA(C11:C25)","v":0}]

{"sheet":"9.バスケ〔青年男子〕 ","index":15,"n_rows":29,"n_cols":14,"rows_kept":29,"cut":false,"hidden":false,"merged":[[3,0,3,7],[1,0,1,3],[7,3,7,4],[7,0,7,1]]}
[null,null,null,null,null,null,null,"申込書9"]
[{"$f":"\"第\"&Facesheet!$B$2&\"回福岡県民スポーツ大会\"","v":"第67回福岡県民スポーツ大会"}]
[]
["バスケットボール競技"]
[]
["郡市名","（",{"$f":"'0.役員名簿'!$B$7","v":0},"）"]
[]
["青年男子（区名）",null,null,{"$f":"H29","v":"1984-04-02"},null,"以降に出生した者（ｵｰﾊﾞｰｴｲｼﾞ枠２名）"]
[]
[null,"番号","氏　名","身長\ncm","生年月日","年齢","学生","住　所"]
["監　督",null,null,null,null,{"$f":"IF(E11=\"\",\"\",DATEDIF(E11,Facesheet!$B$3,\"Y\"))","v":""},null,null,null,null,null,null,null,"○"]
["選　手",null,null,null,null,{"$f":"IF(E12=\"\",\"\",DATEDIF(E12,Facesheet!$B$3,\"Y\"))","v":""}]
["選　手",null,null,null,null,{"$f":"IF(E13=\"\",\"\",DATEDIF(E13,Facesheet!$B$3,\"Y\"))","v":""}]
["選　手",null,null,null,null,{"$f":"IF(E14=\"\",\"\",DATEDIF(E14,Facesheet!$B$3,\"Y\"))","v":""}]
["選　手",null,null,null,null,{"$f":"IF(E15=\"\",\"\",DATEDIF(E15,Facesheet!$B$3,\"Y\"))","v":""}]
["選　手",null,null,null,null,{"$f":"IF(E16=\"\",\"\",DATEDIF(E16,Facesheet!$B$3,\"Y\"))","v":""}]
["選　手",null,null,null,null,{"$f":"IF(E17=\"\",\"\",DATEDIF(E17,Facesheet!$B$3,\"Y\"))","v":""}]
["選　手",null,null,null,null,{"$f":"IF(E18=\"\",\"\",DATEDIF(E18,Facesheet!$B$3,\"Y\"))","v":""}]
["選　手",null,null,null,null,{"$f":"IF(E19=\"\",\"\",DATEDIF(E19,Facesheet!$B$3,\"Y\"))","v":""}]
["選　手",null,null,null,null,{"$f":"IF(E20=\"\",\"\",DATEDIF(E20,Facesheet!$B$3,\"Y\"))","v":""}]
["選　手",null,null,null,null,{"$f":"IF(E21=\"\",\"\",DATEDIF(E21,Facesheet!$B$3,\"Y\"))","v":""}]
["選　手",null,null,null,null,{"$f":"IF(E22=\"\",\"\",DATEDIF(E22,Facesheet!$B$3,\"Y\"))","v":""}]
["選　手",null,null,null,null,{"$f":"IF(E23=\"\",\"\",DATEDIF(E23,Facesheet!$B$3,\"Y\"))","v":""}]
["コーチ",null,null,null,null,{"$f":"IF(E24=\"\",\"\",DATEDIF(E24,Facesheet!$B$3,\"Y\"))","v":""}]
["マネジャー",null,null,null,null,{"$f":"IF(E25=\"\",\"\",DATEDIF(E25,Facesheet!$B$3,\"Y\"))","v":""}]
["（注）福岡市・北九州市にあっては区名を記入のこと。"]
["（注）学生・生徒に該当する選手は、学生欄に○印を記入のこと。（２名以内）"]
[null,null,null,null,"参加者数",{"$f":"COUNTA(C11:C25)","v":0}]
[null,null,null,null,null,null,null,"1984-04-02"]

{"sheet":"10.バスケ〔青年女子〕","index":16,"n_rows":29,"n_cols":14,"rows_kept":29,"cut":false,"hidden":false,"merged":[[3,0,3,7],[1,0,1,3],[7,3,7,4],[7,0,7,1]]}
[null,null,null,null,null,null,null,"申込書10"]
[{"$f":"\"第\"&Facesheet!$B$2&\"回福岡県民スポーツ大会\"","v":"第67回福岡県民スポーツ大会"}]
[]
["バスケットボール競技"]
[]
["郡市名","（",{"$f":"'0.役員名簿'!$B$7","v":0},"）"]
[]
["青年女子（区名）",null,null,{"$f":"H29","v":"1984-04-02"},null,"以降に出生した者（ｵｰﾊﾞｰｴｲｼﾞ枠２名）"]
[]
[null,"番号","氏　名","身長\ncm","生年月日","年齢","学生","住　所"]
["監　督",null,null,null,null,{"$f":"IF(E11=\"\",\"\",DATEDIF(E11,Facesheet!$B$3,\"Y\"))","v":""},null,null,null,null,null,null,null,"○"]
["選　手",null,null,null,null,{"$f":"IF(E12=\"\",\"\",DATEDIF(E12,Facesheet!$B$3,\"Y\"))","v":""}]
["選　手",null,null,null,null,{"$f":"IF(E13=\"\",\"\",DATEDIF(E13,Facesheet!$B$3,\"Y\"))","v":""}]
["選　手",null,null,null,null,{"$f":"IF(E14=\"\",\"\",DATEDIF(E14,Facesheet!$B$3,\"Y\"))","v":""}]
["選　手",null,null,null,null,{"$f":"IF(E15=\"\",\"\",DATEDIF(E15,Facesheet!$B$3,\"Y\"))","v":""}]
["選　手",null,null,null,null,{"$f":"IF(E16=\"\",\"\",DATEDIF(E16,Facesheet!$B$3,\"Y\"))","v":""}]
["選　手",null,null,null,null,{"$f":"IF(E17=\"\",\"\",DATEDIF(E17,Facesheet!$B$3,\"Y\"))","v":""}]
["選　手",null,null,null,null,{"$f":"IF(E18=\"\",\"\",DATEDIF(E18,Facesheet!$B$3,\"Y\"))","v":""}]
["選　手",null,null,null,null,{"$f":"IF(E19=\"\",\"\",DATEDIF(E19,Facesheet!$B$3,\"Y\"))","v":""}]
["選　手",null,null,null,null,{"$f":"IF(E20=\"\",\"\",DATEDIF(E20,Facesheet!$B$3,\"Y\"))","v":""}]
["選　手",null,null,null,null,{"$f":"IF(E21=\"\",\"\",DATEDIF(E21,Facesheet!$B$3,\"Y\"))","v":""}]
["選　手",null,null,null,null,{"$f":"IF(E22=\"\",\"\",DATEDIF(E22,Facesheet!$B$3,\"Y\"))","v":""}]
["選　手",null,null,null,null,{"$f":"IF(E23=\"\",\"\",DATEDIF(E23,Facesheet!$B$3,\"Y\"))","v":""}]
["コーチ",null,null,null,null,{"$f":"IF(E24=\"\",\"\",DATEDIF(E24,Facesheet!$B$3,\"Y\"))","v":""}]
["マネジャー",null,null,null,null,{"$f":"IF(E25=\"\",\"\",DATEDIF(E25,Facesheet!$B$3,\"Y\"))","v":""}]
["（注）福岡市・北九州市にあっては区名を記入のこと。"]
["（注）学生・生徒に該当する選手は、学生欄に○印を記入のこと（２名以内）"]
[null,null,null,null,"参加者数",{"$f":"COUNTA(C11:C25)","v":0}]
[null,null,null,null,null,null,null,"1984-04-02"]

{"sheet":"11.バレー（一般男子）","index":17,"n_rows":34,"n_cols":7,"rows_kept":34,"cut":false,"hidden":false,"merged":[[3,0,3,6],[31,6,31,7],[32,6,32,7],[8,3,8,6],[1,0,1,3],[29,0,29,1],[29,2,29,6],[30,0,30,6],[7,0,7,1]]}
[null,null,null,null,null,null,"申込書11"]
[{"$f":"\"第\"&Facesheet!$B$2&\"回福岡県民スポーツ大会\"","v":"第67回福岡県民スポーツ大会"}]
[]
["バレーボール競技"]
[]
["郡市名","（",{"$f":"'0.役員名簿'!$B$7","v":0},"）"]
[]
["一般男子（区名）"]
[]
[null,"番号","氏　名","身長\ncm","生年月日","年齢","住　所"]
["監　督",null,null,null,null,{"$f":"IF(E11=\"\",\"\",DATEDIF(E11,Facesheet!$B$3,\"Y\"))","v":""}]
["選　手",null,null,null,null,{"$f":"IF(E12=\"\",\"\",DATEDIF(E12,Facesheet!$B$3,\"Y\"))","v":""}]
["選　手",null,null,null,null,{"$f":"IF(E13=\"\",\"\",DATEDIF(E13,Facesheet!$B$3,\"Y\"))","v":""}]
["選　手",null,null,null,null,{"$f":"IF(E14=\"\",\"\",DATEDIF(E14,Facesheet!$B$3,\"Y\"))","v":""}]
["選　手",null,null,null,null,{"$f":"IF(E15=\"\",\"\",DATEDIF(E15,Facesheet!$B$3,\"Y\"))","v":""}]
["選　手",null,null,null,null,{"$f":"IF(E16=\"\",\"\",DATEDIF(E16,Facesheet!$B$3,\"Y\"))","v":""}]
["選　手",null,null,null,null,{"$f":"IF(E17=\"\",\"\",DATEDIF(E17,Facesheet!$B$3,\"Y\"))","v":""}]
["選　手",null,null,null,null,{"$f":"IF(E18=\"\",\"\",DATEDIF(E18,Facesheet!$B$3,\"Y\"))","v":""}]
["選　手",null,null,null,null,{"$f":"IF(E19=\"\",\"\",DATEDIF(E19,Facesheet!$B$3,\"Y\"))","v":""}]
["選　手",null,null,null,null,{"$f":"IF(E20=\"\",\"\",DATEDIF(E20,Facesheet!$B$3,\"Y\"))","v":""}]
["選　手",null,null,null,null,{"$f":"IF(E21=\"\",\"\",DATEDIF(E21,Facesheet!$B$3,\"Y\"))","v":""}]
["選　手",null,null,null,null,{"$f":"IF(E22=\"\",\"\",DATEDIF(E22,Facesheet!$B$3,\"Y\"))","v":""}]
["選　手",null,null,null,null,{"$f":"IF(E23=\"\",\"\",DATEDIF(E23,Facesheet!$B$3,\"Y\"))","v":""}]
["選　手",null,null,null,null,{"$f":"IF(E24=\"\",\"\",DATEDIF(E24,Facesheet!$B$3,\"Y\"))","v":""}]
["選　手",null,null,null,null,{"$f":"IF(E25=\"\",\"\",DATEDIF(E25,Facesheet!$B$3,\"Y\"))","v":""}]
["選　手",null,null,null,null,{"$f":"IF(E26=\"\",\"\",DATEDIF(E26,Facesheet!$B$3,\"Y\"))","v":""}]
["コーチ",null,null,null,null,{"$f":"IF(E27=\"\",\"\",DATEDIF(E27,Facesheet!$B$3,\"Y\"))","v":""}]
["マネジャー",null,null,null,null,{"$f":"IF(E28=\"\",\"\",DATEDIF(E28,Facesheet!$B$3,\"Y\"))","v":""}]
["（注）福岡市・北九州市にあっては区名を記入のこと。"]
[{"$f":"G34","v":"1994-03-31"},null,"以前に出生した者。"]
["　 ただし、それ以降に出生した者が選手数の1/2に達しない範囲で参加できる。"]
[null,null,null,"参加者数",{"$f":"COUNTA(C11:C28)","v":0}]
[]
[null,null,null,null,null,null,"1994-03-31"]

{"sheet":"12.バレー（一般女子）","index":18,"n_rows":32,"n_cols":11,"rows_kept":32,"cut":false,"hidden":false,"merged":[[3,4,3,10],[29,10,29,11],[30,10,30,11],[8,7,8,10],[1,4,1,7],[7,4,7,5]]}
[null,null,null,null,null,null,null,null,null,null,"申込書12"]
[null,null,null,null,{"$f":"\"第\"&Facesheet!$B$2&\"回福岡県民スポーツ大会\"","v":"第67回福岡県民スポーツ大会"}]
[]
[null,null,null,null,"バレーボール競技"]
[]
[null,null,null,null,"郡市名","（",{"$f":"'0.役員名簿'!$B$7","v":0},"）"]
[]
[null,null,null,null,"一般女子（区名）"]
[]
[null,null,null,null,null,"番号","氏　名","身長\ncm","生年月日","年齢","住　所"]
[11,{"$f":"IF($G$6=\"\",\"\",VLOOKUP($G$6,'各番号（変更不可）'!$J$2:$K$41,2,FALSE))","v":{"$error":"#N/A"}},1,1,"監　督",null,null,null,null,{"$f":"IF(I11=\"\",\"\",DATEDIF(I11,Facesheet!$B$3,\"Y\"))","v":""}]
[11,{"$f":"IF($G$6=\"\",\"\",VLOOKUP($G$6,'各番号（変更不可）'!$J$2:$K$41,2,FALSE))","v":{"$error":"#N/A"}},1,2,"選　手",null,null,null,null,{"$f":"IF(I12=\"\",\"\",DATEDIF(I12,Facesheet!$B$3,\"Y\"))","v":""}]
[11,{"$f":"IF($G$6=\"\",\"\",VLOOKUP($G$6,'各番号（変更不可）'!$J$2:$K$41,2,FALSE))","v":{"$error":"#N/A"}},1,3,"選　手",null,null,null,null,{"$f":"IF(I13=\"\",\"\",DATEDIF(I13,Facesheet!$B$3,\"Y\"))","v":""}]
[11,{"$f":"IF($G$6=\"\",\"\",VLOOKUP($G$6,'各番号（変更不可）'!$J$2:$K$41,2,FALSE))","v":{"$error":"#N/A"}},1,4,"選　手",null,null,null,null,{"$f":"IF(I14=\"\",\"\",DATEDIF(I14,Facesheet!$B$3,\"Y\"))","v":""}]
[11,{"$f":"IF($G$6=\"\",\"\",VLOOKUP($G$6,'各番号（変更不可）'!$J$2:$K$41,2,FALSE))","v":{"$error":"#N/A"}},1,5,"選　手",null,null,null,null,{"$f":"IF(I15=\"\",\"\",DATEDIF(I15,Facesheet!$B$3,\"Y\"))","v":""}]
[11,{"$f":"IF($G$6=\"\",\"\",VLOOKUP($G$6,'各番号（変更不可）'!$J$2:$K$41,2,FALSE))","v":{"$error":"#N/A"}},1,6,"選　手",null,null,null,null,{"$f":"IF(I16=\"\",\"\",DATEDIF(I16,Facesheet!$B$3,\"Y\"))","v":""}]
[11,{"$f":"IF($G$6=\"\",\"\",VLOOKUP($G$6,'各番号（変更不可）'!$J$2:$K$41,2,FALSE))","v":{"$error":"#N/A"}},1,7,"選　手",null,null,null,null,{"$f":"IF(I17=\"\",\"\",DATEDIF(I17,Facesheet!$B$3,\"Y\"))","v":""}]
[11,{"$f":"IF($G$6=\"\",\"\",VLOOKUP($G$6,'各番号（変更不可）'!$J$2:$K$41,2,FALSE))","v":{"$error":"#N/A"}},1,8,"選　手",null,null,null,null,{"$f":"IF(I18=\"\",\"\",DATEDIF(I18,Facesheet!$B$3,\"Y\"))","v":""}]
[11,{"$f":"IF($G$6=\"\",\"\",VLOOKUP($G$6,'各番号（変更不可）'!$J$2:$K$41,2,FALSE))","v":{"$error":"#N/A"}},1,9,"選　手",null,null,null,null,{"$f":"IF(I19=\"\",\"\",DATEDIF(I19,Facesheet!$B$3,\"Y\"))","v":""}]
[11,{"$f":"IF($G$6=\"\",\"\",VLOOKUP($G$6,'各番号（変更不可）'!$J$2:$K$41,2,FALSE))","v":{"$error":"#N/A"}},1,10,"選　手",null,null,null,null,{"$f":"IF(I20=\"\",\"\",DATEDIF(I20,Facesheet!$B$3,\"Y\"))","v":""}]
[11,{"$f":"IF($G$6=\"\",\"\",VLOOKUP($G$6,'各番号（変更不可）'!$J$2:$K$41,2,FALSE))","v":{"$error":"#N/A"}},1,11,"選　手",null,null,null,null,{"$f":"IF(I21=\"\",\"\",DATEDIF(I21,Facesheet!$B$3,\"Y\"))","v":""}]
[11,{"$f":"IF($G$6=\"\",\"\",VLOOKUP($G$6,'各番号（変更不可）'!$J$2:$K$41,2,FALSE))","v":{"$error":"#N/A"}},1,12,"選　手",null,null,null,null,{"$f":"IF(I22=\"\",\"\",DATEDIF(I22,Facesheet!$B$3,\"Y\"))","v":""}]
[11,{"$f":"IF($G$6=\"\",\"\",VLOOKUP($G$6,'各番号（変更不可）'!$J$2:$K$41,2,FALSE))","v":{"$error":"#N/A"}},1,13,"選　手",null,null,null,null,{"$f":"IF(I23=\"\",\"\",DATEDIF(I23,Facesheet!$B$3,\"Y\"))","v":""}]
[11,{"$f":"IF($G$6=\"\",\"\",VLOOKUP($G$6,'各番号（変更不可）'!$J$2:$K$41,2,FALSE))","v":{"$error":"#N/A"}},1,14,"選　手",null,null,null,null,{"$f":"IF(I24=\"\",\"\",DATEDIF(I24,Facesheet!$B$3,\"Y\"))","v":""}]
[11,{"$f":"IF($G$6=\"\",\"\",VLOOKUP($G$6,'各番号（変更不可）'!$J$2:$K$41,2,FALSE))","v":{"$error":"#N/A"}},1,15,"選　手",null,null,null,null,{"$f":"IF(I25=\"\",\"\",DATEDIF(I25,Facesheet!$B$3,\"Y\"))","v":""}]
[11,{"$f":"IF($G$6=\"\",\"\",VLOOKUP($G$6,'各番号（変更不可）'!$J$2:$K$41,2,FALSE))","v":{"$error":"#N/A"}},1,16,"選　手",null,null,null,null,{"$f":"IF(I26=\"\",\"\",DATEDIF(I26,Facesheet!$B$3,\"Y\"))","v":""}]
[11,{"$f":"IF($G$6=\"\",\"\",VLOOKUP($G$6,'各番号（変更不可）'!$J$2:$K$41,2,FALSE))","v":{"$error":"#N/A"}},1,17,"コーチ",null,null,null,null,{"$f":"IF(I27=\"\",\"\",DATEDIF(I27,Facesheet!$B$3,\"Y\"))","v":""}]
[11,{"$f":"IF($G$6=\"\",\"\",VLOOKUP($G$6,'各番号（変更不可）'!$J$2:$K$41,2,FALSE))","v":{"$error":"#N/A"}},1,18,"マネジャー",null,null,null,null,{"$f":"IF(I28=\"\",\"\",DATEDIF(I28,Facesheet!$B$3,\"Y\"))","v":""}]
[null,null,null,null,"（注）福岡市・北九州市にあっては区名を記入のこと。"]
[null,null,null,null,null,null,null,"参加者数",{"$f":"COUNTA(G11:G28)","v":0}]
[]
[null,null,null,null,null,null,null,null,null,null,"1993-03-31"]

{"sheet":"13.バレー（青年男子）","index":19,"n_rows":32,"n_cols":16,"rows_kept":32,"cut":false,"hidden":false,"merged":[[3,0,3,7],[7,3,7,4],[7,0,7,1]]}
[null,null,null,null,null,null,null,"申込書13"]
[{"$f":"\"第\"&Facesheet!$B$2&\"回福岡県民スポーツ大会\"","v":"第67回福岡県民スポーツ大会"}]
[]
["バレーボール競技"]
[]
["郡市名","（",{"$f":"'0.役員名簿'!$B$7","v":0},"）"]
[]
["青年男子（区名）",null,null,{"$f":"H32","v":"1984-04-02"},null,"以降に出生した者（オーバーエイジ枠３名）"]
[]
[null,"番号","氏　名","身長\ncm","生年月日","年齢","学生","住　所"]
["監　督",null,null,null,null,{"$f":"IF(E11=\"\",\"\",DATEDIF(E11,Facesheet!$B$3,\"Y\"))","v":""},null,null,null,null,null,null,null,null,null,"〇"]
["選　手",null,null,null,null,{"$f":"IF(E12=\"\",\"\",DATEDIF(E12,Facesheet!$B$3,\"Y\"))","v":""}]
["選　手",null,null,null,null,{"$f":"IF(E13=\"\",\"\",DATEDIF(E13,Facesheet!$B$3,\"Y\"))","v":""}]
["選　手",null,null,null,null,{"$f":"IF(E14=\"\",\"\",DATEDIF(E14,Facesheet!$B$3,\"Y\"))","v":""}]
["選　手",null,null,null,null,{"$f":"IF(E15=\"\",\"\",DATEDIF(E15,Facesheet!$B$3,\"Y\"))","v":""}]
["選　手",null,null,null,null,{"$f":"IF(E16=\"\",\"\",DATEDIF(E16,Facesheet!$B$3,\"Y\"))","v":""}]
["選　手",null,null,null,null,{"$f":"IF(E17=\"\",\"\",DATEDIF(E17,Facesheet!$B$3,\"Y\"))","v":""}]
["選　手",null,null,null,null,{"$f":"IF(E18=\"\",\"\",DATEDIF(E18,Facesheet!$B$3,\"Y\"))","v":""}]
["選　手",null,null,null,null,{"$f":"IF(E19=\"\",\"\",DATEDIF(E19,Facesheet!$B$3,\"Y\"))","v":""}]
["選　手",null,null,null,null,{"$f":"IF(E20=\"\",\"\",DATEDIF(E20,Facesheet!$B$3,\"Y\"))","v":""}]
["選　手",null,null,null,null,{"$f":"IF(E21=\"\",\"\",DATEDIF(E21,Facesheet!$B$3,\"Y\"))","v":""}]
["選　手",null,null,null,null,{"$f":"IF(E22=\"\",\"\",DATEDIF(E22,Facesheet!$B$3,\"Y\"))","v":""}]
["選　手",null,null,null,null,{"$f":"IF(E23=\"\",\"\",DATEDIF(E23,Facesheet!$B$3,\"Y\"))","v":""}]
["選　手",null,null,null,null,{"$f":"IF(E24=\"\",\"\",DATEDIF(E24,Facesheet!$B$3,\"Y\"))","v":""}]
["選　手",null,null,null,null,{"$f":"IF(E25=\"\",\"\",DATEDIF(E25,Facesheet!$B$3,\"Y\"))","v":""}]
["選　手",null,null,null,null,{"$f":"IF(E26=\"\",\"\",DATEDIF(E26,Facesheet!$B$3,\"Y\"))","v":""}]
["コーチ",null,null,null,null,{"$f":"IF(E27=\"\",\"\",DATEDIF(E27,Facesheet!$B$3,\"Y\"))","v":""}]
["マネジャー",null,null,null,null,{"$f":"IF(E28=\"\",\"\",DATEDIF(E28,Facesheet!$B$3,\"Y\"))","v":""}]
["（注）福岡市・北九州市にあっては区名を記入のこと。"]
["（注）学生・生徒に該当する選手は、学生欄に○印を記入のこと。（３名以内）"]
[null,null,null,"参加者数",{"$f":"COUNTA(C11:C28)","v":0}]
[null,null,null,null,null,null,null,"1984-04-02"]

{"sheet":"14.バレー（青年女子）","index":20,"n_rows":32,"n_cols":16,"rows_kept":32,"cut":false,"hidden":false,"merged":[[3,0,3,7],[7,3,7,4],[7,0,7,1]]}
[null,null,null,null,null,null,null,"申込書14"]
[{"$f":"\"第\"&Facesheet!$B$2&\"回福岡県民スポーツ大会\"","v":"第67回福岡県民スポーツ大会"}]
[]
["バレーボール競技"]
[]
["郡市名","（",{"$f":"'0.役員名簿'!$B$7","v":0},"）"]
[]
["青年女子（区名）",null,null,{"$f":"H32","v":"1984-04-02"},null,"以降に出生した者（オーバーエイジ枠３名）"]
[]
[null,"番号","氏　名","身長\ncm","生年月日","年齢","学生","住　所"]
["監　督",null,null,null,null,{"$f":"IF(E11=\"\",\"\",DATEDIF(E11,Facesheet!$B$3,\"Y\"))","v":""}]
["選　手",null,null,null,null,{"$f":"IF(E12=\"\",\"\",DATEDIF(E12,Facesheet!$B$3,\"Y\"))","v":""},null,null,null,null,null,null,null,null,null,"○"]
["選　手",null,null,null,null,{"$f":"IF(E13=\"\",\"\",DATEDIF(E13,Facesheet!$B$3,\"Y\"))","v":""}]
["選　手",null,null,null,null,{"$f":"IF(E14=\"\",\"\",DATEDIF(E14,Facesheet!$B$3,\"Y\"))","v":""}]
["選　手",null,null,null,null,{"$f":"IF(E15=\"\",\"\",DATEDIF(E15,Facesheet!$B$3,\"Y\"))","v":""}]
["選　手",null,null,null,null,{"$f":"IF(E16=\"\",\"\",DATEDIF(E16,Facesheet!$B$3,\"Y\"))","v":""}]
["選　手",null,null,null,null,{"$f":"IF(E17=\"\",\"\",DATEDIF(E17,Facesheet!$B$3,\"Y\"))","v":""}]
["選　手",null,null,null,null,{"$f":"IF(E18=\"\",\"\",DATEDIF(E18,Facesheet!$B$3,\"Y\"))","v":""}]
["選　手",null,null,null,null,{"$f":"IF(E19=\"\",\"\",DATEDIF(E19,Facesheet!$B$3,\"Y\"))","v":""}]
["選　手",null,null,null,null,{"$f":"IF(E20=\"\",\"\",DATEDIF(E20,Facesheet!$B$3,\"Y\"))","v":""}]
["選　手",null,null,null,null,{"$f":"IF(E21=\"\",\"\",DATEDIF(E21,Facesheet!$B$3,\"Y\"))","v":""}]
["選　手",null,null,null,null,{"$f":"IF(E22=\"\",\"\",DATEDIF(E22,Facesheet!$B$3,\"Y\"))","v":""}]
["選　手",null,null,null,null,{"$f":"IF(E23=\"\",\"\",DATEDIF(E23,Facesheet!$B$3,\"Y\"))","v":""}]
["選　手",null,null,null,null,{"$f":"IF(E24=\"\",\"\",DATEDIF(E24,Facesheet!$B$3,\"Y\"))","v":""}]
["選　手",null,null,null,null,{"$f":"IF(E25=\"\",\"\",DATEDIF(E25,Facesheet!$B$3,\"Y\"))","v":""}]
["選　手",null,null,null,null,{"$f":"IF(E26=\"\",\"\",DATEDIF(E26,Facesheet!$B$3,\"Y\"))","v":""}]
["コーチ",null,null,null,null,{"$f":"IF(E27=\"\",\"\",DATEDIF(E27,Facesheet!$B$3,\"Y\"))","v":""}]
["マネジャー",null,null,null,null,{"$f":"IF(E28=\"\",\"\",DATEDIF(E28,Facesheet!$B$3,\"Y\"))","v":""}]
["（注）福岡市・北九州市にあっては区名を記入のこと。"]
["（注）学生・生徒に該当する選手は、学生欄に○印を記入のこと。（３名以内）"]
[null,null,null,"参加者数",{"$f":"COUNTA(C11:C28)","v":0}]
[null,null,null,null,null,null,null,"1984-04-02"]

{"sheet":"15.バレー（壮年女子）","index":21,"n_rows":30,"n_cols":7,"rows_kept":30,"cut":false,"hidden":false,"merged":[[3,0,3,6],[7,0,7,1],[7,3,7,4]]}
[null,null,null,null,null,null,"申込書15"]
[{"$f":"\"第\"&Facesheet!$B$2&\"回福岡県民スポーツ大会\"","v":"第67回福岡県民スポーツ大会"}]
[]
["バレーボール競技"]
[]
["郡市名","（",{"$f":"'0.役員名簿'!$B$7","v":0},"）"]
[]
["壮年女子（区名）",null,null,{"$f":"G30","v":"1989-03-31"},null,"以前に出生した者"]
[]
[null,"番号","氏　名","身長\ncm","生年月日","年齢","住　所"]
["監　督",null,null,null,null,{"$f":"IF(E11=\"\",\"\",DATEDIF(E11,Facesheet!$B$3,\"Y\"))","v":""}]
["選　手",null,null,null,null,{"$f":"IF(E12=\"\",\"\",DATEDIF(E12,Facesheet!$B$3,\"Y\"))","v":""}]
["選　手",null,null,null,null,{"$f":"IF(E13=\"\",\"\",DATEDIF(E13,Facesheet!$B$3,\"Y\"))","v":""}]
["選　手",null,null,null,null,{"$f":"IF(E14=\"\",\"\",DATEDIF(E14,Facesheet!$B$3,\"Y\"))","v":""}]
["選　手",null,null,null,null,{"$f":"IF(E15=\"\",\"\",DATEDIF(E15,Facesheet!$B$3,\"Y\"))","v":""}]
["選　手",null,null,null,null,{"$f":"IF(E16=\"\",\"\",DATEDIF(E16,Facesheet!$B$3,\"Y\"))","v":""}]
["選　手",null,null,null,null,{"$f":"IF(E17=\"\",\"\",DATEDIF(E17,Facesheet!$B$3,\"Y\"))","v":""}]
["選　手",null,null,null,null,{"$f":"IF(E18=\"\",\"\",DATEDIF(E18,Facesheet!$B$3,\"Y\"))","v":""}]
["選　手",null,null,null,null,{"$f":"IF(E19=\"\",\"\",DATEDIF(E19,Facesheet!$B$3,\"Y\"))","v":""}]
["選　手",null,null,null,null,{"$f":"IF(E20=\"\",\"\",DATEDIF(E20,Facesheet!$B$3,\"Y\"))","v":""}]
["選　手",null,null,null,null,{"$f":"IF(E21=\"\",\"\",DATEDIF(E21,Facesheet!$B$3,\"Y\"))","v":""}]
["選　手",null,null,null,null,{"$f":"IF(E22=\"\",\"\",DATEDIF(E22,Facesheet!$B$3,\"Y\"))","v":""}]
["選　手",null,null,null,null,{"$f":"IF(E23=\"\",\"\",DATEDIF(E23,Facesheet!$B$3,\"Y\"))","v":""}]
["コーチ",null,null,null,null,{"$f":"IF(E24=\"\",\"\",DATEDIF(E24,Facesheet!$B$3,\"Y\"))","v":""}]
["マネジャー",null,null,null,null,{"$f":"IF(E25=\"\",\"\",DATEDIF(E25,Facesheet!$B$3,\"Y\"))","v":""}]
["（注）福岡市・北九州市にあっては区名を記入のこと。"]
[null,null,null,"参加者数",{"$f":"COUNTA(C11:C25)","v":0}]
[]
[]
[null,null,null,null,null,null,"1989-03-31"]

{"sheet":"16.ソフトテニス（一般）","index":22,"n_rows":20,"n_cols":6,"rows_kept":20,"cut":false,"hidden":false,"merged":[[18,0,18,1],[1,0,1,3],[3,0,3,5],[9,0,9,1],[10,0,10,1],[17,0,17,1],[7,0,7,1]]}
[null,null,null,null,null,"申込書16"]
[{"$f":"\"第\"&Facesheet!$B$2&\"回福岡県民スポーツ大会\"","v":"第67回福岡県民スポーツ大会"}]
[]
["ソフトテニス競技"]
[]
[null,"郡市名（",{"$f":"'0.役員名簿'!$B$7","v":0},"）"]
[]
["一般",null,null,"男子6名以内、女子4名以内、総数8名以内"]
[]
[null,null,"氏　名","生年月日","年齢","住　所"]
["監　督",null,null,null,{"$f":"IF(D11=\"\",\"\",DATEDIF(D11,Facesheet!$B$3,\"Y\"))","v":""}]
["男　子","選　手",null,null,{"$f":"IF(D12=\"\",\"\",DATEDIF(D12,Facesheet!$B$3,\"Y\"))","v":""}]
["男　子","選　手",null,null,{"$f":"IF(D13=\"\",\"\",DATEDIF(D13,Facesheet!$B$3,\"Y\"))","v":""}]
["男　子","選　手",null,null,{"$f":"IF(D14=\"\",\"\",DATEDIF(D14,Facesheet!$B$3,\"Y\"))","v":""}]
["男　子","選　手",null,null,{"$f":"IF(D15=\"\",\"\",DATEDIF(D15,Facesheet!$B$3,\"Y\"))","v":""}]
["女　子","選　手",null,null,{"$f":"IF(D16=\"\",\"\",DATEDIF(D16,Facesheet!$B$3,\"Y\"))","v":""}]
["女　子","選　手",null,null,{"$f":"IF(D17=\"\",\"\",DATEDIF(D17,Facesheet!$B$3,\"Y\"))","v":""}]
["交代選手（男子・女子）",null,null,null,{"$f":"IF(D18=\"\",\"\",DATEDIF(D18,Facesheet!$B$3,\"Y\"))","v":""}]
["交代選手（男子・女子）",null,null,null,{"$f":"IF(D19=\"\",\"\",DATEDIF(D19,Facesheet!$B$3,\"Y\"))","v":""}]
[null,null,null,"参加者数",{"$f":"COUNTA(C11:C19)","v":0}]

{"sheet":"17.ソフトテニス（壮年）","index":23,"n_rows":26,"n_cols":11,"rows_kept":26,"cut":false,"hidden":false,"merged":[[11,0,12,0],[13,0,14,0],[15,0,16,0],[10,0,10,1],[1,0,1,3],[7,0,7,5],[3,0,3,5],[9,0,9,1],[21,0,21,5],[22,0,22,5],[20,0,20,5],[17,0,17,1],[18,0,18,1],[19,0,19,5]]}
[null,null,null,null,null,"申込書17"]
[{"$f":"\"第\"&Facesheet!$B$2&\"回福岡県民スポーツ大会\"","v":"第67回福岡県民スポーツ大会"}]
[]
["ソフトテニス競技"]
[]
[null,"郡市名(",{"$f":"'0.役員名簿'!$B$7","v":0},")　　チーム名"]
[null,null,null,null,null,null,null,null,null,null,"Ａ"]
["　壮年（福岡市・北九州市は4ﾁｰﾑ以内、久留米市は2ﾁｰﾑ以内）",null,null,null,null,null,null,null,null,null,"Ｂ"]
[null,null,null,null,null,null,null,null,null,null,"C"]
[null,null,"氏　名","生年月日","年齢","住　所",null,null,null,null,"D"]
["監　督",null,null,null,{"$f":"IF(D11=\"\",\"\",DATEDIF(D11,Facesheet!$B$3,\"Y\"))","v":""}]
["男子\n複\n45","選　手",null,null,{"$f":"IF(D12=\"\",\"\",DATEDIF(D12,Facesheet!$B$3,\"Y\"))","v":""}]
[null,"選　手",null,null,{"$f":"IF(D13=\"\",\"\",DATEDIF(D13,Facesheet!$B$3,\"Y\"))","v":""}]
["女子\n複\n45","選　手",null,null,{"$f":"IF(D14=\"\",\"\",DATEDIF(D14,Facesheet!$B$3,\"Y\"))","v":""}]
[null,"選　手",null,null,{"$f":"IF(D15=\"\",\"\",DATEDIF(D15,Facesheet!$B$3,\"Y\"))","v":""}]
["男子\n複\n55","選　手",null,null,{"$f":"IF(D16=\"\",\"\",DATEDIF(D16,Facesheet!$B$3,\"Y\"))","v":""}]
[null,"選　手",null,null,{"$f":"IF(D17=\"\",\"\",DATEDIF(D17,Facesheet!$B$3,\"Y\"))","v":""}]
["交代選手（男子・女子）",null,null,null,{"$f":"IF(D18=\"\",\"\",DATEDIF(D18,Facesheet!$B$3,\"Y\"))","v":""}]
["交代選手（男子・女子）",null,null,null,{"$f":"IF(D19=\"\",\"\",DATEDIF(D19,Facesheet!$B$3,\"Y\"))","v":""}]
["※　複数参加する郡市は、チームごとに申し込み用紙を作成すること。"]
["（チーム名がわかるようにＡ・Ｂ・Ｃ・Ｄを記入すること。）"]
["　45歳以上は、昭和54年3月31日以前に出生した者。"]
["　55歳以上は、昭和44年3月31日以前に出生した者。"]
[null,null,null,"参加者数",{"$f":"COUNTA(C11:C19)","v":0}]
[null,null,null,null,null,"1979-03-31"]
[null,null,null,null,null,"1969-03-31"]

{"sheet":"18.卓球（一般）","index":24,"n_rows":20,"n_cols":7,"rows_kept":20,"cut":false,"hidden":false,"merged":[[3,0,3,6]]}
[null,null,null,null,null,null,"申込書18"]
[{"$f":"\"第\"&Facesheet!$B$2&\"回福岡県民スポーツ大会\"","v":"第67回福岡県民スポーツ大会"}]
[]
["卓球競技"]
[]
["郡市名（",null,{"$f":"'0.役員名簿'!$B$7","v":0},")"]
[]
["一般（区名）"]
[]
[null,null,"氏　名","性別","生年月日","年齢","住　所"]
["監　督",null,null,null,null,{"$f":"IF(E11=\"\",\"\",DATEDIF(E11,Facesheet!$B$3,\"Y\"))","v":""}]
["選　手",null,null,null,null,{"$f":"IF(E12=\"\",\"\",DATEDIF(E12,Facesheet!$B$3,\"Y\"))","v":""}]
["選　手",null,null,null,null,{"$f":"IF(E13=\"\",\"\",DATEDIF(E13,Facesheet!$B$3,\"Y\"))","v":""}]
["選　手",null,null,null,null,{"$f":"IF(E14=\"\",\"\",DATEDIF(E14,Facesheet!$B$3,\"Y\"))","v":""}]
["選　手",null,null,null,null,{"$f":"IF(E15=\"\",\"\",DATEDIF(E15,Facesheet!$B$3,\"Y\"))","v":""}]
["選　手",null,null,null,null,{"$f":"IF(E16=\"\",\"\",DATEDIF(E16,Facesheet!$B$3,\"Y\"))","v":""}]
["選　手",null,null,null,null,{"$f":"IF(E17=\"\",\"\",DATEDIF(E17,Facesheet!$B$3,\"Y\"))","v":""}]
["（注）福岡市・北九州市にあっては区名を記入のこと。"]
["（注）選手男女各３名以内で構成すること。"]
[null,null,null,null,"参加者数",{"$f":"COUNTA(C11:C17)","v":0}]

{"sheet":"19.卓球（青年）","index":25,"n_rows":22,"n_cols":14,"rows_kept":22,"cut":false,"hidden":false,"merged":[[3,0,3,7]]}
[null,null,null,null,null,null,null,"申込書19"]
[{"$f":"\"第\"&Facesheet!$B$2&\"回福岡県民スポーツ大会\"","v":"第67回福岡県民スポーツ大会"}]
[]
["卓球競技"]
[]
["郡市名（",null,{"$f":"'0.役員名簿'!$B$7","v":0},")"]
[]
["青年（区名）",null,null,null,{"$f":"H22","v":"1984-04-02"},"以降に出生した者（ｵｰﾊﾞｰｴｲｼﾞ枠男女各１名）"]
[]
[null,null,"氏　名","性別","生年月日","年齢","学生","住　所"]
["監　督",null,null,null,null,{"$f":"IF(E11=\"\",\"\",DATEDIF(E11,Facesheet!$B$3,\"Y\"))","v":""},null,null,null,null,null,null,null,"○"]
["選　手",null,null,null,null,{"$f":"IF(E12=\"\",\"\",DATEDIF(E12,Facesheet!$B$3,\"Y\"))","v":""}]
["選　手",null,null,null,null,{"$f":"IF(E13=\"\",\"\",DATEDIF(E13,Facesheet!$B$3,\"Y\"))","v":""}]
["選　手",null,null,null,null,{"$f":"IF(E14=\"\",\"\",DATEDIF(E14,Facesheet!$B$3,\"Y\"))","v":""}]
["選　手",null,null,null,null,{"$f":"IF(E15=\"\",\"\",DATEDIF(E15,Facesheet!$B$3,\"Y\"))","v":""}]
["選　手",null,null,null,null,{"$f":"IF(E16=\"\",\"\",DATEDIF(E16,Facesheet!$B$3,\"Y\"))","v":""}]
["選　手",null,null,null,null,{"$f":"IF(E17=\"\",\"\",DATEDIF(E17,Facesheet!$B$3,\"Y\"))","v":""}]
["（注）福岡市・北九州市にあっては区名を記入のこと。"]
["（注）学生・生徒に該当する選手は学生欄に○印を記入のこと。（男女各１名以内）"]
["（注）選手男女各３名以内で構成すること。"]
[null,null,null,null,"参加者数",{"$f":"COUNTA(C11:C17)","v":0}]
[null,null,null,null,null,null,null,"1984-04-02"]

{"sheet":"20.卓球（壮年）","index":26,"n_rows":22,"n_cols":7,"rows_kept":22,"cut":false,"hidden":false,"merged":[[3,0,3,6]]}
[null,null,null,null,null,null,"申込書20"]
[{"$f":"\"第\"&Facesheet!$B$2&\"回福岡県民スポーツ大会\"","v":"第67回福岡県民スポーツ大会"}]
[]
["卓球競技"]
[]
["郡市名（",null,{"$f":"'0.役員名簿'!$B$7","v":0},")"]
[]
["壮年（区名）",null,null,null,"令和6年4月1日現在の満年齢"]
[]
[null,null,"氏　名","性別","生年月日","年齢","住　所"]
["監　督",null,null,null,null,{"$f":"IF(E11=\"\",\"\",DATEDIF(E11,Facesheet!$B$3,\"Y\"))","v":""}]
["選　手",null,null,null,null,{"$f":"IF(E12=\"\",\"\",DATEDIF(E12,Facesheet!$B$3,\"Y\"))","v":""}]
["選　手",null,null,null,null,{"$f":"IF(E13=\"\",\"\",DATEDIF(E13,Facesheet!$B$3,\"Y\"))","v":""}]
["選　手",null,null,null,null,{"$f":"IF(E14=\"\",\"\",DATEDIF(E14,Facesheet!$B$3,\"Y\"))","v":""}]
["選　手",null,null,null,null,{"$f":"IF(E15=\"\",\"\",DATEDIF(E15,Facesheet!$B$3,\"Y\"))","v":""}]
["選　手",null,null,null,null,{"$f":"IF(E16=\"\",\"\",DATEDIF(E16,Facesheet!$B$3,\"Y\"))","v":""}]
["選　手",null,null,null,null,{"$f":"IF(E17=\"\",\"\",DATEDIF(E17,Facesheet!$B$3,\"Y\"))","v":""}]
["選　手",null,null,null,null,{"$f":"IF(E18=\"\",\"\",DATEDIF(E18,Facesheet!$B$3,\"Y\"))","v":""}]
["選　手",null,null,null,null,{"$f":"IF(E19=\"\",\"\",DATEDIF(E19,Facesheet!$B$3,\"Y\"))","v":""}]
["（注）福岡市・北九州市にあっては区名を記入のこと。"]
["（注）70代を含む選手男女各4名以内で構成すること。"]
[null,null,null,null,"参加者数",{"$f":"COUNTA(C11:C19)","v":0}]

{"sheet":"21.バド（一般男子）","index":27,"n_rows":22,"n_cols":11,"rows_kept":22,"cut":false,"hidden":false,"merged":[[3,0,3,6]]}
[null,null,null,null,null,null,"申込書21"]
[{"$f":"\"第\"&Facesheet!$B$2&\"回福岡県民スポーツ大会\"","v":"第67回福岡県民スポーツ大会"}]
[]
["バドミントン競技"]
[]
["郡市名（",null,{"$f":"'0.役員名簿'!$B$7","v":0},"）"]
[]
["一般男子（区名）"]
[]
[null,null,"氏　名","生年月日","年齢","住　所","ふるさと"]
["監　督",null,null,null,{"$f":"IF(D11=\"\",\"\",DATEDIF(D11,Facesheet!$B$3,\"Y\"))","v":""},null,null,null,null,null,"○"]
["選　手",null,null,null,{"$f":"IF(D12=\"\",\"\",DATEDIF(D12,Facesheet!$B$3,\"Y\"))","v":""}]
["選　手",null,null,null,{"$f":"IF(D13=\"\",\"\",DATEDIF(D13,Facesheet!$B$3,\"Y\"))","v":""}]
["選　手",null,null,null,{"$f":"IF(D14=\"\",\"\",DATEDIF(D14,Facesheet!$B$3,\"Y\"))","v":""}]
["選　手",null,null,null,{"$f":"IF(D15=\"\",\"\",DATEDIF(D15,Facesheet!$B$3,\"Y\"))","v":""}]
["選　手",null,null,null,{"$f":"IF(D16=\"\",\"\",DATEDIF(D16,Facesheet!$B$3,\"Y\"))","v":""}]
["選　手",null,null,null,{"$f":"IF(D17=\"\",\"\",DATEDIF(D17,Facesheet!$B$3,\"Y\"))","v":""}]
["（注）福岡市・北九州市にあっては区名を記入のこと。"]
["（注）監督が選手を兼ねる場合は選手欄にも記入のこと。"]
["（注）他郡市在住であっても、出身中学校所在地の郡市から「ふるさと選手」としての出場を認める。ただし、"]
["　　出場者の1/2以内。該当する選手は、ふるさと欄に○印を記入すること。"]
[null,null,null,"参加者数",{"$f":"COUNTA(C11:C17)","v":0}]

{"sheet":"22.バド（一般女子）","index":28,"n_rows":23,"n_cols":11,"rows_kept":23,"cut":false,"hidden":false,"merged":[[3,0,3,6]]}
[null,null,null,null,null,null,"申込書22"]
[{"$f":"\"第\"&Facesheet!$B$2&\"回福岡県民スポーツ大会\"","v":"第67回福岡県民スポーツ大会"}]
[]
["バドミントン競技"]
[]
["郡市名（",null,{"$f":"'0.役員名簿'!$B$7","v":0},"）"]
[]
["一般女子（区名）"]
[]
[null,null,"氏　名","生年月日","年齢","住　所","ふるさと"]
["監　督",null,null,null,{"$f":"IF(D11=\"\",\"\",DATEDIF(D11,Facesheet!$B$3,\"Y\"))","v":""}]
["選　手",null,null,null,{"$f":"IF(D12=\"\",\"\",DATEDIF(D12,Facesheet!$B$3,\"Y\"))","v":""},null,null,null,null,null,"○"]
["選　手",null,null,null,{"$f":"IF(D13=\"\",\"\",DATEDIF(D13,Facesheet!$B$3,\"Y\"))","v":""}]
["選　手",null,null,null,{"$f":"IF(D14=\"\",\"\",DATEDIF(D14,Facesheet!$B$3,\"Y\"))","v":""}]
["選　手",null,null,null,{"$f":"IF(D15=\"\",\"\",DATEDIF(D15,Facesheet!$B$3,\"Y\"))","v":""}]
["選　手",null,null,null,{"$f":"IF(D16=\"\",\"\",DATEDIF(D16,Facesheet!$B$3,\"Y\"))","v":""}]
["選　手",null,null,null,{"$f":"IF(D17=\"\",\"\",DATEDIF(D17,Facesheet!$B$3,\"Y\"))","v":""}]
["選　手",null,null,null,{"$f":"IF(D18=\"\",\"\",DATEDIF(D18,Facesheet!$B$3,\"Y\"))","v":""}]
["（注）福岡市・北九州市にあっては区名を記入のこと。"]
["（注）監督が選手を兼ねる場合は選手欄にも記入のこと。"]
["（注）他郡市在住であっても、出身中学校所在地の郡市から「ふるさと選手」としての出場を認める。ただし、"]
["　　出場者の1/2以内。該当する選手は、ふるさと欄に○印を記入すること。"]
[null,null,null,"参加者数",{"$f":"COUNTA(C11:C18)","v":0}]

{"sheet":"23.バド（青年）","index":29,"n_rows":22,"n_cols":12,"rows_kept":22,"cut":false,"hidden":false,"merged":[[10,0,10,1],[3,0,3,6],[5,0,5,1],[9,0,9,1],[7,0,7,1],[7,3,7,5]]}
[null,null,null,null,null,null,"申込書23"]
[{"$f":"\"第\"&Facesheet!$B$2&\"回福岡県民スポーツ大会\"","v":"第67回福岡県民スポーツ大会"}]
[]
["バドミントン競技"]
[]
["郡市名（",null,{"$f":"'0.役員名簿'!$B$7","v":0},"）"]
[]
["青年（区名）",null,null,{"$f":"G22","v":"1984-04-02"},null,null,"以降に出生した者"]
[]
[null,null,"氏　名","生年月日","年齢","学生","住　所"]
["監　督",null,null,null,{"$f":"IF(D11=\"\",\"\",DATEDIF(D11,Facesheet!$B$3,\"Y\"))","v":""},null,null,null,null,null,null,"○"]
["選手","男子",null,null,{"$f":"IF(D12=\"\",\"\",DATEDIF(D12,Facesheet!$B$3,\"Y\"))","v":""}]
["選手","男子",null,null,{"$f":"IF(D13=\"\",\"\",DATEDIF(D13,Facesheet!$B$3,\"Y\"))","v":""}]
["選手","男子",null,null,{"$f":"IF(D14=\"\",\"\",DATEDIF(D14,Facesheet!$B$3,\"Y\"))","v":""}]
["選手","女子",null,null,{"$f":"IF(D15=\"\",\"\",DATEDIF(D15,Facesheet!$B$3,\"Y\"))","v":""}]
["選手","女子",null,null,{"$f":"IF(D16=\"\",\"\",DATEDIF(D16,Facesheet!$B$3,\"Y\"))","v":""}]
["選手","女子",null,null,{"$f":"IF(D17=\"\",\"\",DATEDIF(D17,Facesheet!$B$3,\"Y\"))","v":""}]
["（注）福岡市・北九州市にあっては区名を記入のこと。"]
["（注）監督が選手を兼ねる場合は選手欄にも記入のこと。"]
["（注）学生・生徒に該当する選手は、学生欄に○印を記入のこと。（男女各１名以内）"]
[null,null,null,"参加者数",{"$f":"COUNTA(C11:C17)","v":0}]
[null,null,null,null,null,null,"1984-04-02"]

{"sheet":"24.バド（壮年男子）","index":30,"n_rows":21,"n_cols":6,"rows_kept":21,"cut":false,"hidden":false,"merged":[[3,0,3,5],[7,3,7,4]]}
[null,null,null,null,null,"申込書24"]
[{"$f":"\"第\"&Facesheet!$B$2&\"回福岡県民スポーツ大会\"","v":"第67回福岡県民スポーツ大会"}]
[]
["バドミントン競技"]
[]
["郡市名（",null,{"$f":"'0.役員名簿'!$B$7","v":0},"）"]
[]
["壮年男子",null,null,{"$f":"F21","v":"1984-04-01"},null,"以前に出生した者"]
[]
[null,null,"氏　名","生年月日","年齢","住　所"]
["監　督",null,null,null,{"$f":"IF(D11=\"\",\"\",DATEDIF(D11,Facesheet!$B$3,\"Y\"))","v":""}]
["選　手",null,null,null,{"$f":"IF(D12=\"\",\"\",DATEDIF(D12,Facesheet!$B$3,\"Y\"))","v":""}]
["選　手",null,null,null,{"$f":"IF(D13=\"\",\"\",DATEDIF(D13,Facesheet!$B$3,\"Y\"))","v":""}]
["選　手",null,null,null,{"$f":"IF(D14=\"\",\"\",DATEDIF(D14,Facesheet!$B$3,\"Y\"))","v":""}]
["選　手",null,null,null,{"$f":"IF(D15=\"\",\"\",DATEDIF(D15,Facesheet!$B$3,\"Y\"))","v":""}]
["選　手",null,null,null,{"$f":"IF(D16=\"\",\"\",DATEDIF(D16,Facesheet!$B$3,\"Y\"))","v":""}]
["選　手",null,null,null,{"$f":"IF(D17=\"\",\"\",DATEDIF(D17,Facesheet!$B$3,\"Y\"))","v":""}]
["選　手",null,null,null,{"$f":"IF(D18=\"\",\"\",DATEDIF(D18,Facesheet!$B$3,\"Y\"))","v":""}]
["（注）監督が選手を兼ねる場合は選手欄にも記入のこと。"]
[null,null,null,"参加者数",{"$f":"COUNTA(C11:C18)","v":0}]
[null,null,null,null,null,"1984-04-01"]

{"sheet":"25.バド（壮年女子）","index":31,"n_rows":21,"n_cols":6,"rows_kept":21,"cut":false,"hidden":false,"merged":[[3,0,3,5],[7,3,7,4]]}
[null,null,null,null,null,"申込書25"]
[{"$f":"\"第\"&Facesheet!$B$2&\"回福岡県民スポーツ大会\"","v":"第67回福岡県民スポーツ大会"}]
[]
["バドミントン競技"]
[]
["郡市名（",null,{"$f":"'0.役員名簿'!$B$7","v":0},"）"]
[]
["壮年女子",null,null,{"$f":"F21","v":"1984-04-01"},null,"以前に出生した者"]
[]
[null,null,"氏　名","生年月日","年齢","住　所"]
["監　督",null,null,null,{"$f":"IF(D11=\"\",\"\",DATEDIF(D11,Facesheet!$B$3,\"Y\"))","v":""}]
["選　手",null,null,null,{"$f":"IF(D12=\"\",\"\",DATEDIF(D12,Facesheet!$B$3,\"Y\"))","v":""}]
["選　手",null,null,null,{"$f":"IF(D13=\"\",\"\",DATEDIF(D13,Facesheet!$B$3,\"Y\"))","v":""}]
["選　手",null,null,null,{"$f":"IF(D14=\"\",\"\",DATEDIF(D14,Facesheet!$B$3,\"Y\"))","v":""}]
["選　手",null,null,null,{"$f":"IF(D15=\"\",\"\",DATEDIF(D15,Facesheet!$B$3,\"Y\"))","v":""}]
["選　手",null,null,null,{"$f":"IF(D16=\"\",\"\",DATEDIF(D16,Facesheet!$B$3,\"Y\"))","v":""}]
["選　手",null,null,null,{"$f":"IF(D17=\"\",\"\",DATEDIF(D17,Facesheet!$B$3,\"Y\"))","v":""}]
["選　手",null,null,null,{"$f":"IF(D18=\"\",\"\",DATEDIF(D18,Facesheet!$B$3,\"Y\"))","v":""}]
["（注）監督が選手を兼ねる場合は選手欄にも記入のこと。"]
[null,null,null,"参加者数",{"$f":"COUNTA(C11:C18)","v":0}]
[null,null,null,null,null,"1984-04-01"]

{"sheet":"26.バド（混成）","index":32,"n_rows":20,"n_cols":6,"rows_kept":20,"cut":false,"hidden":false,"merged":[[10,0,10,1],[3,0,3,5],[5,0,5,1],[9,0,9,1],[7,3,7,5],[7,0,7,1]]}
[null,null,null,null,null,"申込書26"]
[{"$f":"\"第\"&Facesheet!$B$2&\"回福岡県民スポーツ大会\"","v":"第67回福岡県民スポーツ大会"}]
[]
["バドミントン競技"]
[]
["郡市名（",null,{"$f":"'0.役員名簿'!$B$7","v":0},")"]
[]
["壮年混成",null,null,"　令和6年4月1日現在　55歳以上"]
[]
[null,null,"氏　名","生年月日","年齢","住　所"]
["監　督",null,null,null,{"$f":"IF(D11=\"\",\"\",DATEDIF(D11,Facesheet!$B$3,\"Y\"))","v":""}]
["選手","男子",null,null,{"$f":"IF(D12=\"\",\"\",DATEDIF(D12,Facesheet!$B$3,\"Y\"))","v":""}]
["選手","男子",null,null,{"$f":"IF(D13=\"\",\"\",DATEDIF(D13,Facesheet!$B$3,\"Y\"))","v":""}]
["選手","男子",null,null,{"$f":"IF(D14=\"\",\"\",DATEDIF(D14,Facesheet!$B$3,\"Y\"))","v":""}]
["選手","女子",null,null,{"$f":"IF(D15=\"\",\"\",DATEDIF(D15,Facesheet!$B$3,\"Y\"))","v":""}]
["選手","女子",null,null,{"$f":"IF(D16=\"\",\"\",DATEDIF(D16,Facesheet!$B$3,\"Y\"))","v":""}]
["選手","女子",null,null,{"$f":"IF(D17=\"\",\"\",DATEDIF(D17,Facesheet!$B$3,\"Y\"))","v":""}]
["（注）監督が選手を兼ねる場合は選手欄にも記入のこと。"]
["（注）選手男女各３名で構成すること。"]
[null,null,null,"参加者数",{"$f":"COUNTA(C11:C17)","v":0}]

{"sheet":"27.柔道（一般男子）","index":33,"n_rows":23,"n_cols":16,"rows_kept":23,"cut":false,"hidden":false,"merged":[[18,0,18,7],[17,0,17,7],[1,5,1,7],[10,0,10,1],[3,0,3,7],[5,0,5,1],[9,0,9,1],[7,0,7,1]]}
[null,null,null,null,null,null,null,"申込書27"]
[{"$f":"\"第\"&Facesheet!$B$2&\"回福岡県民スポーツ大会\"","v":"第67回福岡県民スポーツ大会"}]
[]
["柔道競技"]
[]
["郡市名（",null,{"$f":"'0.役員名簿'!$B$7","v":0},"）"]
[]
["一般（区名）"]
[]
[null,null,"氏　名","生年月日","年齢","住　所","在勤地","全柔連登録番号"]
["監　　督",null,null,null,{"$f":"IF(D11=\"\",\"\",DATEDIF(D11,Facesheet!$B$3,\"Y\"))","v":""},null,null,null,null,null,"なし",null,null,null,null,"○"]
["先鋒",null,null,null,{"$f":"IF(D12=\"\",\"\",DATEDIF(D12,Facesheet!$B$3,\"Y\"))","v":""},null,null,null,null,null,"初段"]
["四将",null,null,null,{"$f":"IF(D13=\"\",\"\",DATEDIF(D13,Facesheet!$B$3,\"Y\"))","v":""},null,null,null,null,null,"弐段"]
["中堅",null,null,null,{"$f":"IF(D14=\"\",\"\",DATEDIF(D14,Facesheet!$B$3,\"Y\"))","v":""},null,null,null,null,null,"参段"]
["副将",null,null,null,{"$f":"IF(D15=\"\",\"\",DATEDIF(D15,Facesheet!$B$3,\"Y\"))","v":""},null,null,null,null,null,"四段"]
["大将",null,null,null,{"$f":"IF(D16=\"\",\"\",DATEDIF(D16,Facesheet!$B$3,\"Y\"))","v":""}]
[]
["（注）福岡市・北九州市にあっては区名を記入のこと。"]
["（注）在勤地が当該郡市にある者は、在勤地欄に○印を記入のこと。"]
["（注）申し込む際、全日本柔道連盟登録番号申請中の者は、登録番号欄に「申請中」と記入のこと。"]
["　※　全柔連登録番号記入例：500123456",null,null,null,"（←500から始まる9桁にしてください。）"]
["　※　参加は、2024年全日本柔道連盟に登録した者に限る。"]
[null,null,null,"参加者数",{"$f":"COUNTA(C11:C16)","v":0}]

{"sheet":"28.柔道（青年男子）","index":34,"n_rows":25,"n_cols":16,"rows_kept":25,"cut":false,"hidden":false,"merged":[[3,0,3,8],[19,0,19,7]]}
[null,null,null,null,null,null,null,null,"申込書28"]
[{"$f":"\"第\"&Facesheet!$B$2&\"回福岡県民スポーツ大会\"","v":"第67回福岡県民スポーツ大会"}]
[]
["柔道競技"]
[]
["郡市名（",null,{"$f":"'0.役員名簿'!$B$7","v":0},"）"]
[]
["青年（区名）",null,null,{"$f":"G25","v":"1984-04-02"},"以降に出生した者（ただし、オーバーエイジ枠２名まで可）"]
[]
[null,null,"氏　名","生年月日","年齢","住　所","在勤地","全柔連登録番号","学生"]
["監　督",null,null,null,{"$f":"IF(D11=\"\",\"\",DATEDIF(D11,Facesheet!$B$3,\"Y\"))","v":""},null,null,null,null,null,null,"○",null,null,null,"○"]
["先　鋒\n(73kg以下)",null,null,null,{"$f":"IF(D12=\"\",\"\",DATEDIF(D12,Facesheet!$B$3,\"Y\"))","v":""}]
["四　将\n(90kg以下)",null,null,null,{"$f":"IF(D13=\"\",\"\",DATEDIF(D13,Facesheet!$B$3,\"Y\"))","v":""}]
["中　堅\n(90kg以下)",null,null,null,{"$f":"IF(D14=\"\",\"\",DATEDIF(D14,Facesheet!$B$3,\"Y\"))","v":""}]
["副　将\n(無差別)",null,null,null,{"$f":"IF(D15=\"\",\"\",DATEDIF(D15,Facesheet!$B$3,\"Y\"))","v":""}]
["大　将\n(無差別)",null,null,null,{"$f":"IF(D16=\"\",\"\",DATEDIF(D16,Facesheet!$B$3,\"Y\"))","v":""}]
[]
["（注）福岡市・北九州市にあっては区名を記入のこと。"]
["（注）学生・生徒に該当する選手は、学生欄に○印を記入のこと。（２名以内）"]
["（注）在勤地が当該郡市にある者は、在勤地欄に○印を記入のこと。"]
["（注）申し込む際、全日本柔道連盟登録番号申請中の者は、登録番号欄に「申請中」と記入のこと。"]
["　※　全柔連登録番号記入例：500123456",null,null,null,"（←500から始まる9桁にしてください。）"]
["　※　参加は、2024年全日本柔道連盟に登録した者に限る。"]
[null,null,null,"参加者数",{"$f":"COUNTA(C11:C16)","v":0}]
[null,null,null,null,null,null,"1984-04-02"]

{"sheet":"29.剣道（一般男子） ","index":35,"n_rows":21,"n_cols":6,"rows_kept":21,"cut":false,"hidden":false,"merged":[[10,0,10,1],[3,0,3,5],[5,0,5,1],[9,0,9,1],[7,0,7,1]]}
[null,null,null,null,null,"申込書29"]
[{"$f":"\"第\"&Facesheet!$B$2&\"回福岡県民スポーツ大会\"","v":"第67回福岡県民スポーツ大会"}]
[]
["剣道競技"]
[]
["郡市名（",null,{"$f":"'0.役員名簿'!$B$7","v":0},"）"]
[]
["一般男子（区名）"]
[]
[null,null,"氏　名","生年月日","年齢","住所"]
["監　　督",null,null,null,{"$f":"IF(D11=\"\",\"\",DATEDIF(D11,Facesheet!$B$4,\"Y\"))","v":""}]
["先鋒","25歳以下",null,null,{"$f":"IF(D12=\"\",\"\",DATEDIF(D12,Facesheet!$B$4,\"Y\"))","v":""}]
["次峰","26歳以上\n35歳以下",null,null,{"$f":"IF(D13=\"\",\"\",DATEDIF(D13,Facesheet!$B$4,\"Y\"))","v":""}]
["中堅","36歳以上\n45歳以下",null,null,{"$f":"IF(D14=\"\",\"\",DATEDIF(D14,Facesheet!$B$4,\"Y\"))","v":""}]
["副将","46歳以上\n54歳以下",null,null,{"$f":"IF(D15=\"\",\"\",DATEDIF(D15,Facesheet!$B$4,\"Y\"))","v":""}]
["大将","55歳以上",null,null,{"$f":"IF(D16=\"\",\"\",DATEDIF(D16,Facesheet!$B$4,\"Y\"))","v":""}]
[]
["（注）福岡市・北九州市にあっては区名を記入のこと。"]
["（注）当該年齢者がいない場合、上の年齢者を充当してもよい。"]
["（注）年齢については、申込締切時点（令和6年7月30日）の年齢とする。"]
[null,null,null,"参加者数",{"$f":"COUNTA(C11:C16)","v":0}]

{"sheet":"30.剣道（一般女子）","index":36,"n_rows":19,"n_cols":6,"rows_kept":19,"cut":false,"hidden":false,"merged":[[3,0,3,5]]}
[null,null,null,null,null,"申込書30"]
[{"$f":"\"第\"&Facesheet!$B$2&\"回福岡県民スポーツ大会\"","v":"第67回福岡県民スポーツ大会"}]
[]
["剣道競技"]
[]
["郡市名（",null,{"$f":"'0.役員名簿'!$B$7","v":0},"）"]
[]
["一般女子（区名）"]
[]
[null,null,"氏　名","生年月日","年齢","住所"]
["監　督",null,null,null,{"$f":"IF(D11=\"\",\"\",DATEDIF(D11,Facesheet!$B$4,\"Y\"))","v":""}]
["先　鋒",null,null,null,{"$f":"IF(D12=\"\",\"\",DATEDIF(D12,Facesheet!$B$4,\"Y\"))","v":""}]
["中　堅",null,null,null,{"$f":"IF(D13=\"\",\"\",DATEDIF(D13,Facesheet!$B$4,\"Y\"))","v":""}]
["大　将\n(40歳以上)",null,null,null,{"$f":"IF(D14=\"\",\"\",DATEDIF(D14,Facesheet!$B$4,\"Y\"))","v":""}]
[]
["（注）福岡市・北九州市にあっては区名を記入のこと。"]
["（注）年齢については、申込締切時点（令和6年7月30日）の年齢とする。"]
["（注）大将は、40歳以上の者とする。"]
[null,null,null,"参加者数",{"$f":"COUNTA(C11:C14)","v":0}]

{"sheet":"31.剣道（青年男子）","index":37,"n_rows":22,"n_cols":11,"rows_kept":22,"cut":false,"hidden":false,"merged":[[3,0,3,6],[7,0,7,2],[7,4,7,5]]}
[null,null,null,null,null,null,"申込書31"]
[{"$f":"\"第\"&Facesheet!$B$2&\"回福岡県民スポーツ大会\"","v":"第67回福岡県民スポーツ大会"}]
[]
["剣道競技"]
[]
["郡市名（",null,{"$f":"'0.役員名簿'!$B$7","v":0},")"]
[]
["　青年男子（区名）",null,null,null,{"$f":"G22","v":"1989-04-02"},null,"以降に出生した者"]
[]
[null,null,"氏　名","生年月日","年齢","学生","住　所"]
["監　督",null,null,null,{"$f":"IF(D11=\"\",\"\",DATEDIF(D11,Facesheet!$B$4,\"Y\"))","v":""},null,null,null,null,null,"○"]
["先　鋒",null,null,null,{"$f":"IF(D12=\"\",\"\",DATEDIF(D12,Facesheet!$B$4,\"Y\"))","v":""}]
["次　鋒",null,null,null,{"$f":"IF(D13=\"\",\"\",DATEDIF(D13,Facesheet!$B$4,\"Y\"))","v":""}]
["中　堅",null,null,null,{"$f":"IF(D14=\"\",\"\",DATEDIF(D14,Facesheet!$B$4,\"Y\"))","v":""}]
["副　将",null,null,null,{"$f":"IF(D15=\"\",\"\",DATEDIF(D15,Facesheet!$B$4,\"Y\"))","v":""}]
["大　将\n(30歳代)",null,null,null,{"$f":"IF(D16=\"\",\"\",DATEDIF(D16,Facesheet!$B$4,\"Y\"))","v":""}]
[]
["（注）福岡市・北九州市にあっては区名を記入のこと。"]
["（注）大将は、30歳代の者とする。"]
["（注）学生・生徒に該当する選手は、学生欄に○印を記入のこと。（２名以内）"]
[null,null,null,"参加者数",{"$f":"COUNTA(C11:C16)","v":0}]
[null,null,null,null,null,null,"1989-04-02"]

{"sheet":"32.剣道（青年女子）","index":38,"n_rows":19,"n_cols":11,"rows_kept":19,"cut":false,"hidden":false,"merged":[[3,0,3,6]]}
[null,null,null,null,null,null,"申込書32"]
[{"$f":"\"第\"&Facesheet!$B$2&\"回福岡県民スポーツ大会\"","v":"第67回福岡県民スポーツ大会"}]
[]
["剣道競技"]
[]
["郡市名（",null,{"$f":"'0.役員名簿'!$B$7","v":0},")"]
[]
["青年女子（区名）",null,null,{"$f":"G19","v":"1989-04-02"},"以降に出生した者"]
[]
[null,null,"氏　名","生年月日","年齢","学生","住　所"]
["監　督",null,null,null,{"$f":"IF(D11=\"\",\"\",DATEDIF(D11,Facesheet!$B$4,\"Y\"))","v":""},null,null,null,null,null,"○"]
["先　鋒",null,null,null,{"$f":"IF(D12=\"\",\"\",DATEDIF(D12,Facesheet!$B$4,\"Y\"))","v":""}]
["中　堅",null,null,null,{"$f":"IF(D13=\"\",\"\",DATEDIF(D13,Facesheet!$B$4,\"Y\"))","v":""}]
["大　将",null,null,null,{"$f":"IF(D14=\"\",\"\",DATEDIF(D14,Facesheet!$B$4,\"Y\"))","v":""}]
[]
["（注）福岡市・北九州市にあっては区名を記入のこと。"]
["（注）学生・生徒に該当する選手は、学生欄に○印を記入のこと。（１名以内）"]
[null,null,null,"参加者数",{"$f":"COUNTA(C11:C14)","v":0}]
[null,null,null,null,null,null,"1989-04-02"]

{"sheet":"33.弓道（一般男子）","index":39,"n_rows":21,"n_cols":7,"rows_kept":21,"cut":false,"hidden":false,"merged":[[3,0,3,6],[7,5,7,6],[8,4,8,6]]}
[null,null,null,null,null,null,"申込書33"]
[{"$f":"\"第\"&Facesheet!$B$2&\"回福岡県民スポーツ大会\"","v":"第67回福岡県民スポーツ大会"}]
[]
["弓道競技"]
[]
["郡市名（",null,{"$f":"'0.役員名簿'!$B$7","v":0},")"]
[]
["一般男子（区名）"]
[null,null,null,null,"　"]
[null,null,"氏　名","段級","生年月日","年齢","住　所"]
["監　督",null,null,null,null,{"$f":"IF(E11=\"\",\"\",DATEDIF(E11,Facesheet!$B$3,\"Y\"))","v":""}]
["選　手",null,null,null,null,{"$f":"IF(E12=\"\",\"\",DATEDIF(E12,Facesheet!$B$3,\"Y\"))","v":""}]
["選　手",null,null,null,null,{"$f":"IF(E13=\"\",\"\",DATEDIF(E13,Facesheet!$B$3,\"Y\"))","v":""}]
["選　手",null,null,null,null,{"$f":"IF(E14=\"\",\"\",DATEDIF(E14,Facesheet!$B$3,\"Y\"))","v":""}]
["補　欠",null,null,null,null,{"$f":"IF(E15=\"\",\"\",DATEDIF(E15,Facesheet!$B$3,\"Y\"))","v":""}]
[]
["（注）福岡市・北九州市にあっては区名を記入のこと。"]
["（注）段級は漢数字で記入のこと。"]
["（注）平成6年3月31日以前に出生した者。ただし、それ以降に出生した者は１名まで参加できる。"]
[null,null,null,null,"参加者数",{"$f":"COUNTA(C11:C15)","v":0}]
[null,null,null,null,null,null,"1994-03-31"]

{"sheet":"34.弓道（一般女子）","index":40,"n_rows":19,"n_cols":7,"rows_kept":19,"cut":false,"hidden":false,"merged":[[3,0,3,6]]}
[null,null,null,null,null,null,"申込書34"]
[{"$f":"\"第\"&Facesheet!$B$2&\"回福岡県民スポーツ大会\"","v":"第67回福岡県民スポーツ大会"}]
[]
["弓道競技"]
[]
["郡市名（",null,{"$f":"'0.役員名簿'!$B$7","v":0},")"]
[]
["一般女子（区名）"]
[]
[null,null,"氏　名","段級","生年月日","年齢","住　所"]
["監　督",null,null,null,null,{"$f":"IF(E11=\"\",\"\",DATEDIF(E11,Facesheet!$B$3,\"Y\"))","v":""}]
["選　手",null,null,null,null,{"$f":"IF(E12=\"\",\"\",DATEDIF(E12,Facesheet!$B$3,\"Y\"))","v":""}]
["選　手",null,null,null,null,{"$f":"IF(E13=\"\",\"\",DATEDIF(E13,Facesheet!$B$3,\"Y\"))","v":""}]
["選　手",null,null,null,null,{"$f":"IF(E14=\"\",\"\",DATEDIF(E14,Facesheet!$B$3,\"Y\"))","v":""}]
["補　欠",null,null,null,null,{"$f":"IF(E15=\"\",\"\",DATEDIF(E15,Facesheet!$B$3,\"Y\"))","v":""}]
[]
["（注）福岡市・北九州市にあっては区名を記入のこと。"]
["（注）段級は漢数字で記入のこと。"]
[null,null,null,null,"参加者数",{"$f":"COUNTA(C11:C15)","v":0}]

{"sheet":"35.弓道（青年）","index":41,"n_rows":22,"n_cols":12,"rows_kept":22,"cut":false,"hidden":false,"merged":[[3,0,3,7]]}
[null,null,null,null,null,null,null,"申込書35"]
[{"$f":"\"第\"&Facesheet!$B$2&\"回福岡県民スポーツ大会\"","v":"第67回福岡県民スポーツ大会"}]
[]
["弓道競技"]
[]
["郡市名（",null,{"$f":"'0.役員名簿'!$B$7","v":0},")"]
[]
["青年（区名）",null,null,null,{"$f":"H22","v":"1984-04-02"},"以降に出生した者"]
[]
[null,null,"氏　名","段級","生年月日","年齢","学生","住　所"]
["監　督",null,null,null,null,{"$f":"IF(E11=\"\",\"\",DATEDIF(E11,Facesheet!$B$3,\"Y\"))","v":""},null,null,null,null,null,"○"]
["選　手",null,null,null,null,{"$f":"IF(E12=\"\",\"\",DATEDIF(E12,Facesheet!$B$3,\"Y\"))","v":""}]
["選　手",null,null,null,null,{"$f":"IF(E13=\"\",\"\",DATEDIF(E13,Facesheet!$B$3,\"Y\"))","v":""}]
["選　手",null,null,null,null,{"$f":"IF(E14=\"\",\"\",DATEDIF(E14,Facesheet!$B$3,\"Y\"))","v":""}]
["補　欠",null,null,null,null,{"$f":"IF(E15=\"\",\"\",DATEDIF(E15,Facesheet!$B$3,\"Y\"))","v":""}]
[]
["（注）福岡市・北九州市にあっては区名を記入のこと。"]
["（注）男子、女子、男女混合のいずれでも可。"]
["（注）段級は漢数字で記入のこと。"]
["（注）学生・生徒に該当する選手は、学生欄に○印を記入のこと。（１名以内）"]
[null,null,null,null,"参加者数",{"$f":"COUNTA(C11:C15)","v":0}]
[null,null,null,null,null,null,null,"1984-04-02"]

{"sheet":"36.相撲（一般男子）","index":42,"n_rows":28,"n_cols":12,"rows_kept":28,"cut":false,"hidden":false,"merged":[[26,0,26,5],[7,0,7,2],[16,0,16,2],[3,0,3,6]]}
[null,null,null,null,null,null,"申込書36"]
[{"$f":"\"第\"&Facesheet!$B$2&\"回福岡県民スポーツ大会\"","v":"第67回福岡県民スポーツ大会"}]
[]
["相撲競技"]
[]
["郡市名（",null,{"$f":"'0.役員名簿'!$B$7","v":0},")"]
[]
["　一般A"]
[]
[null,null,"氏　名","生年月日","年齢","住所","在勤地"]
["監　督",null,null,null,{"$f":"IF(D11=\"\",\"\",DATEDIF(D11,Facesheet!$B$3,\"Y\"))","v":""}]
["先　鋒",null,null,null,{"$f":"IF(D12=\"\",\"\",DATEDIF(D12,Facesheet!$B$3,\"Y\"))","v":""}]
["中　堅",null,null,null,{"$f":"IF(D13=\"\",\"\",DATEDIF(D13,Facesheet!$B$3,\"Y\"))","v":""}]
["大　将",null,null,null,{"$f":"IF(D14=\"\",\"\",DATEDIF(D14,Facesheet!$B$3,\"Y\"))","v":""},null,null,null,null,null,null,"○"]
["交代選手",null,null,null,{"$f":"IF(D15=\"\",\"\",DATEDIF(D15,Facesheet!$B$3,\"Y\"))","v":""}]
[null,null,null,"参加者数",{"$f":"COUNTA(C11:C15)","v":0}]
["　一般B"]
[]
[null,null,"氏　名","生年月日","年齢","住所","在勤地"]
["監　督",null,null,null,{"$f":"IF(D20=\"\",\"\",DATEDIF(D20,Facesheet!$B$3,\"Y\"))","v":""}]
["先　鋒",null,null,null,{"$f":"IF(D21=\"\",\"\",DATEDIF(D21,Facesheet!$B$3,\"Y\"))","v":""}]
["中　堅",null,null,null,{"$f":"IF(D22=\"\",\"\",DATEDIF(D22,Facesheet!$B$3,\"Y\"))","v":""}]
["大　将",null,null,null,{"$f":"IF(D23=\"\",\"\",DATEDIF(D23,Facesheet!$B$3,\"Y\"))","v":""}]
["交代選手",null,null,null,{"$f":"IF(D24=\"\",\"\",DATEDIF(D24,Facesheet!$B$3,\"Y\"))","v":""}]
[]
["（注）福岡市・北九州市にあっては区名を記入のこと。"]
["（注）在勤地が当該郡市にある者は、在勤地欄に○印を記入のこと。"]
[null,null,null,"参加者数",{"$f":"COUNTA(C20:C26)","v":0}]

{"sheet":"37.相撲（青年男子）","index":43,"n_rows":22,"n_cols":15,"rows_kept":22,"cut":false,"hidden":false,"merged":[[3,0,3,7]]}
[null,null,null,null,null,null,null,"申込書37"]
[{"$f":"\"第\"&Facesheet!$B$2&\"回福岡県民スポーツ大会\"","v":"第67回福岡県民スポーツ大会"}]
[]
["相撲競技"]
[]
["郡市名（",null,{"$f":"'0.役員名簿'!$B$7","v":0},")"]
[]
["青年",null,{"$f":"G22","v":"1984-04-02"},"以降に出生した者"]
[]
[null,null,"氏　名","生年月日","年齢","住所","在勤地","学生"]
["監　督",null,null,null,{"$f":"IF(D11=\"\",\"\",DATEDIF(D11,Facesheet!$B$3,\"Y\"))","v":""},null,null,null,{"$f":"TODAY()","v":"2024-06-20"},"現在",null,null,null,null,"○"]
["先　鋒",null,null,null,{"$f":"IF(D12=\"\",\"\",DATEDIF(D12,Facesheet!$B$3,\"Y\"))","v":""},null,null,null,"1982-04-02"]
["次　鋒",null,null,null,{"$f":"IF(D13=\"\",\"\",DATEDIF(D13,Facesheet!$B$3,\"Y\"))","v":""}]
["中　堅",null,null,null,{"$f":"IF(D14=\"\",\"\",DATEDIF(D14,Facesheet!$B$3,\"Y\"))","v":""}]
["副　将",null,null,null,{"$f":"IF(D15=\"\",\"\",DATEDIF(D15,Facesheet!$B$3,\"Y\"))","v":""}]
["大　将",null,null,null,{"$f":"IF(D16=\"\",\"\",DATEDIF(D16,Facesheet!$B$3,\"Y\"))","v":""}]
["交代選手",null,null,null,{"$f":"IF(D17=\"\",\"\",DATEDIF(D17,Facesheet!$B$3,\"Y\"))","v":""}]
[]
["（注）学生・生徒に該当する選手は学生欄に○印を記入のこと。（２名以内）"]
["（注）在勤地が当該郡市にある者は、在勤地欄に○印を記入のこと。"]
[null,null,null,"参加者数",{"$f":"COUNTA(C11:C17)","v":0}]
[null,null,null,null,null,null,"1984-04-02"]

{"sheet":"38.相撲（個人戦）","index":44,"n_rows":24,"n_cols":16,"rows_kept":24,"cut":false,"hidden":false,"merged":[[3,0,3,4]]}
[null,null,null,null,"申込書38"]
[{"$f":"\"第\"&Facesheet!$B$2&\"回福岡県民スポーツ大会\"","v":"第67回福岡県民スポーツ大会"}]
[]
["相撲競技"]
[]
["郡市名（",{"$f":"'0.役員名簿'!$B$7","v":"00:00:00"},")"]
[]
["個人戦"]
[]
["氏　名","生年月日","年齢","住　所","在勤地"]
[null,null,{"$f":"IF(B11=\"\",\"\",DATEDIF(B11,Facesheet!$B$3,\"Y\"))","v":""},null,null,{"$f":"TODAY()","v":"2024-06-20"},"現在",null,null,null,null,null,null,null,null,"○"]
[null,null,{"$f":"IF(B12=\"\",\"\",DATEDIF(B12,Facesheet!$B$3,\"Y\"))","v":""}]
[null,null,{"$f":"IF(B13=\"\",\"\",DATEDIF(B13,Facesheet!$B$3,\"Y\"))","v":""}]
[null,null,{"$f":"IF(B14=\"\",\"\",DATEDIF(B14,Facesheet!$B$3,\"Y\"))","v":""}]
[null,null,{"$f":"IF(B15=\"\",\"\",DATEDIF(B15,Facesheet!$B$3,\"Y\"))","v":""}]
[null,null,{"$f":"IF(B16=\"\",\"\",DATEDIF(B16,Facesheet!$B$3,\"Y\"))","v":""}]
[null,null,{"$f":"IF(B17=\"\",\"\",DATEDIF(B17,Facesheet!$B$3,\"Y\"))","v":""}]
[null,null,{"$f":"IF(B18=\"\",\"\",DATEDIF(B18,Facesheet!$B$3,\"Y\"))","v":""}]
[null,null,{"$f":"IF(B19=\"\",\"\",DATEDIF(B19,Facesheet!$B$3,\"Y\"))","v":""}]
[null,null,{"$f":"IF(B20=\"\",\"\",DATEDIF(B20,Facesheet!$B$3,\"Y\"))","v":""}]
[]
["（注）団体戦に出場する者も記入すること。"]
["（注）在勤地が当該郡市にある者は、在勤地欄に○印を記入のこと。"]
[null,"参加者数",{"$f":"COUNTA(A11:A20)","v":0}]

{"sheet":"39.ソフトボール（一般男子）","index":45,"n_rows":33,"n_cols":8,"rows_kept":33,"cut":false,"hidden":false,"merged":[[3,0,3,5],[7,0,7,1]]}
[null,null,null,null,null,"申込書39"]
[{"$f":"\"第\"&Facesheet!$B$2&\"回福岡県民スポーツ大会\"","v":"第67回福岡県民スポーツ大会"}]
[]
["ソフトボール競技"]
[]
["郡市名","（",{"$f":"'0.役員名簿'!$B$7","v":0},"）"]
[]
["一般（区名）",null,null,{"$f":"F33","v":"1984-03-31"},"以前に出生した者"]
[]
[null,"番号","氏　名","生年月日","年齢","住　所"]
["監　督",30,null,null,{"$f":"IF(D11=\"\",\"\",DATEDIF(D11,Facesheet!$B$3,\"Y\"))","v":""},null,{"$f":"TODAY()","v":"2024-06-20"},"現在"]
["選　手",10,null,null,{"$f":"IF(D12=\"\",\"\",DATEDIF(D12,Facesheet!$B$3,\"Y\"))","v":""},null,"1982-03-31"]
["選　手",null,null,null,{"$f":"IF(D13=\"\",\"\",DATEDIF(D13,Facesheet!$B$3,\"Y\"))","v":""}]
["選　手",null,null,null,{"$f":"IF(D14=\"\",\"\",DATEDIF(D14,Facesheet!$B$3,\"Y\"))","v":""}]
["選　手",null,null,null,{"$f":"IF(D15=\"\",\"\",DATEDIF(D15,Facesheet!$B$3,\"Y\"))","v":""}]
["選　手",null,null,null,{"$f":"IF(D16=\"\",\"\",DATEDIF(D16,Facesheet!$B$3,\"Y\"))","v":""}]
["選　手",null,null,null,{"$f":"IF(D17=\"\",\"\",DATEDIF(D17,Facesheet!$B$3,\"Y\"))","v":""}]
["選　手",null,null,null,{"$f":"IF(D18=\"\",\"\",DATEDIF(D18,Facesheet!$B$3,\"Y\"))","v":""}]
["選　手",null,null,null,{"$f":"IF(D19=\"\",\"\",DATEDIF(D19,Facesheet!$B$3,\"Y\"))","v":""}]
["選　手",null,null,null,{"$f":"IF(D20=\"\",\"\",DATEDIF(D20,Facesheet!$B$3,\"Y\"))","v":""}]
["選　手",null,null,null,{"$f":"IF(D21=\"\",\"\",DATEDIF(D21,Facesheet!$B$3,\"Y\"))","v":""}]
["選　手",null,null,null,{"$f":"IF(D22=\"\",\"\",DATEDIF(D22,Facesheet!$B$3,\"Y\"))","v":""}]
["選　手",null,null,null,{"$f":"IF(D23=\"\",\"\",DATEDIF(D23,Facesheet!$B$3,\"Y\"))","v":""}]
["選　手",null,null,null,{"$f":"IF(D24=\"\",\"\",DATEDIF(D24,Facesheet!$B$3,\"Y\"))","v":""}]
["選　手",null,null,null,{"$f":"IF(D25=\"\",\"\",DATEDIF(D25,Facesheet!$B$3,\"Y\"))","v":""}]
["選　手",null,null,null,{"$f":"IF(D26=\"\",\"\",DATEDIF(D26,Facesheet!$B$3,\"Y\"))","v":""}]
["選　手",null,null,null,{"$f":"IF(D27=\"\",\"\",DATEDIF(D27,Facesheet!$B$3,\"Y\"))","v":""}]
["選　手",null,null,null,{"$f":"IF(D28=\"\",\"\",DATEDIF(D28,Facesheet!$B$3,\"Y\"))","v":""}]
[]
["（注）福岡市・北九州市にあっては区名を記入のこと。"]
["（注）監督が選手を兼ねる場合は選手の欄にも記入すること。"]
[null,null,null,"参加者数",{"$f":"COUNTA(C11:C28)","v":0}]
[null,null,null,null,null,"1984-03-31"]

{"sheet":"40.空手道（男子）","index":46,"n_rows":43,"n_cols":17,"rows_kept":43,"cut":false,"hidden":false,"merged":[[3,4,3,12],[7,8,7,9],[20,8,20,9],[39,7,39,8],[28,7,28,8],[16,4,16,10],[15,7,15,8],[7,4,7,6],[20,4,20,6]]}
[null,null,null,null,null,null,null,null,null,null,null,null,"申込書40"]
[null,null,null,null,{"$f":"\"第\"&Facesheet!$B$2&\"回福岡県民スポーツ大会\"","v":"第67回福岡県民スポーツ大会"}]
[]
[null,null,null,null,"空手道競技"]
[]
[null,null,null,null,"郡市名（",null,{"$f":"'0.役員名簿'!$B$7","v":0},")"]
[]
[null,null,null,null,"　男子団体組手（区名）",null,null,null,{"$f":"K43","v":"2006-03-31"},null,"以前に出生した者"]
[]
[null,null,null,null,null,null,"氏名","生年月日","年齢","学生","住　所","道場名","在勤地"]
[20,{"$f":"IF($G$6=\"\",\"\",VLOOKUP($G$6,'各番号（変更不可）'!$J$2:$K$41,2,FALSE))","v":{"$error":"#N/A"}},1,1,"監督",null,null,null,{"$f":"IF(H11=\"\",\"\",DATEDIF(H11,Facesheet!$B$3,\"Y\"))","v":""},null,null,null,null,null,null,null,"○"]
[20,{"$f":"IF($G$6=\"\",\"\",VLOOKUP($G$6,'各番号（変更不可）'!$J$2:$K$41,2,FALSE))","v":{"$error":"#N/A"}},1,2,"選手",null,null,null,{"$f":"IF(H12=\"\",\"\",DATEDIF(H12,Facesheet!$B$3,\"Y\"))","v":""}]
[20,{"$f":"IF($G$6=\"\",\"\",VLOOKUP($G$6,'各番号（変更不可）'!$J$2:$K$41,2,FALSE))","v":{"$error":"#N/A"}},1,3,"選手",null,null,null,{"$f":"IF(H13=\"\",\"\",DATEDIF(H13,Facesheet!$B$3,\"Y\"))","v":""}]
[20,{"$f":"IF($G$6=\"\",\"\",VLOOKUP($G$6,'各番号（変更不可）'!$J$2:$K$41,2,FALSE))","v":{"$error":"#N/A"}},1,4,"選手",null,null,null,{"$f":"IF(H14=\"\",\"\",DATEDIF(H14,Facesheet!$B$3,\"Y\"))","v":""}]
[20,{"$f":"IF($G$6=\"\",\"\",VLOOKUP($G$6,'各番号（変更不可）'!$J$2:$K$41,2,FALSE))","v":{"$error":"#N/A"}},1,5,"補欠",null,null,null,{"$f":"IF(H15=\"\",\"\",DATEDIF(H15,Facesheet!$B$3,\"Y\"))","v":""}]
[null,null,null,null,null,null,null,"参加者数",null,{"$f":"COUNTA(G11:G15)","v":0}]
[null,null,null,null,"（注）福岡市・北九州市にあっては区名を記入のこと。"]
[null,null,null,null,"（注）在勤地が当該郡市にある者は、在勤地欄に○印を記入のこと。"]
[null,null,null,null,"（注）学生・生徒に該当する選手は、学生欄に○印を記入のこと。"]
[]
[null,null,null,null,"　一般男子組手",null,null,null,{"$f":"K43","v":"2006-03-31"},null,"以前に出生した者"]
[]
[null,null,null,null,null,null,"氏名","生年月日","年齢","学生","住　所","道場名","在勤地"]
[20,{"$f":"IF($G$6=\"\",\"\",VLOOKUP($G$6,'各番号（変更不可）'!$J$2:$K$41,2,FALSE))","v":{"$error":"#N/A"}},1,6,"選手",null,null,null,{"$f":"IF(H24=\"\",\"\",DATEDIF(H24,Facesheet!$B$3,\"Y\"))","v":""}]
[20,{"$f":"IF($G$6=\"\",\"\",VLOOKUP($G$6,'各番号（変更不可）'!$J$2:$K$41,2,FALSE))","v":{"$error":"#N/A"}},1,7,"選手",null,null,null,{"$f":"IF(H25=\"\",\"\",DATEDIF(H25,Facesheet!$B$3,\"Y\"))","v":""}]
[20,{"$f":"IF($G$6=\"\",\"\",VLOOKUP($G$6,'各番号（変更不可）'!$J$2:$K$41,2,FALSE))","v":{"$error":"#N/A"}},1,8,"選手",null,null,null,{"$f":"IF(H26=\"\",\"\",DATEDIF(H26,Facesheet!$B$3,\"Y\"))","v":""}]
[20,{"$f":"IF($G$6=\"\",\"\",VLOOKUP($G$6,'各番号（変更不可）'!$J$2:$K$41,2,FALSE))","v":{"$error":"#N/A"}},1,9,"選手",null,null,null,{"$f":"IF(H27=\"\",\"\",DATEDIF(H27,Facesheet!$B$3,\"Y\"))","v":""}]
[20,{"$f":"IF($G$6=\"\",\"\",VLOOKUP($G$6,'各番号（変更不可）'!$J$2:$K$41,2,FALSE))","v":{"$error":"#N/A"}},1,10,"選手",null,null,null,{"$f":"IF(H28=\"\",\"\",DATEDIF(H28,Facesheet!$B$3,\"Y\"))","v":""}]
[null,null,null,null,null,null,null,"参加者数",null,{"$f":"COUNTA(G24:G28)","v":0}]
[null,null,null,null,"（注）在勤地が当該郡市にある者は、在勤地欄に○印を記入のこと。"]
[null,null,null,null,"（注）学生・生徒に該当する選手は、学生欄に○印を記入のこと。"]
[]
[null,null,null,null,"　一般男子形"]
[]
[null,null,null,null,null,null,"氏名","生年月日","年齢","学生","住　所","道場名","在勤地"]
[20,{"$f":"IF($G$6=\"\",\"\",VLOOKUP($G$6,'各番号（変更不可）'!$J$2:$K$41,2,FALSE))","v":{"$error":"#N/A"}},1,11,"選手",null,null,null,{"$f":"IF(H36=\"\",\"\",DATEDIF(H36,Facesheet!$B$3,\"Y\"))","v":""}]
[20,{"$f":"IF($G$6=\"\",\"\",VLOOKUP($G$6,'各番号（変更不可）'!$J$2:$K$41,2,FALSE))","v":{"$error":"#N/A"}},1,12,"選手",null,null,null,{"$f":"IF(H37=\"\",\"\",DATEDIF(H37,Facesheet!$B$3,\"Y\"))","v":""}]
[20,{"$f":"IF($G$6=\"\",\"\",VLOOKUP($G$6,'各番号（変更不可）'!$J$2:$K$41,2,FALSE))","v":{"$error":"#N/A"}},1,13,"選手",null,null,null,{"$f":"IF(H38=\"\",\"\",DATEDIF(H38,Facesheet!$B$3,\"Y\"))","v":""}]
[20,{"$f":"IF($G$6=\"\",\"\",VLOOKUP($G$6,'各番号（変更不可）'!$J$2:$K$41,2,FALSE))","v":{"$error":"#N/A"}},1,14,"選手",null,null,null,{"$f":"IF(H39=\"\",\"\",DATEDIF(H39,Facesheet!$B$3,\"Y\"))","v":""}]
[null,null,null,null,null,null,null,"参加者数",null,{"$f":"COUNTA(G36:G39)","v":0}]
[null,null,null,null,"（注）在勤地が当該郡市にある者は、在勤地欄に○印を記入のこと。"]
[null,null,null,null,"（注）学生・生徒に該当する選手は、学生欄に○印を記入のこと。"]
[null,null,null,null,null,null,null,null,null,null,"2006-03-31"]

{"sheet":"41.空手道（壮年男子）","index":47,"n_rows":25,"n_cols":8,"rows_kept":25,"cut":false,"hidden":false,"merged":[[7,0,7,2],[16,0,16,2],[3,0,3,6]]}
[null,null,null,null,null,null,"申込書41"]
[{"$f":"\"第\"&Facesheet!$B$2&\"回福岡県民スポーツ大会\"","v":"第67回福岡県民スポーツ大会"}]
[]
["空手道競技"]
[]
["郡市名（",null,{"$f":"'0.役員名簿'!$B$7","v":0},"）"]
[]
["　壮年男子組手",null,null,"令和6年4月1日現在の満年齢が35歳以上の者"]
[null,null,"氏名","生年月日","年齢","住　所","道場名","在勤地"]
["選手",null,null,null,{"$f":"IF(D10=\"\",\"\",DATEDIF(D10,Facesheet!$B$3,\"Y\"))","v":""}]
["選手",null,null,null,{"$f":"IF(D11=\"\",\"\",DATEDIF(D11,Facesheet!$B$3,\"Y\"))","v":""}]
["選手",null,null,null,{"$f":"IF(D12=\"\",\"\",DATEDIF(D12,Facesheet!$B$3,\"Y\"))","v":""}]
["選手",null,null,null,{"$f":"IF(D13=\"\",\"\",DATEDIF(D13,Facesheet!$B$3,\"Y\"))","v":""}]
["選手",null,null,null,{"$f":"IF(D14=\"\",\"\",DATEDIF(D14,Facesheet!$B$3,\"Y\"))","v":""}]
[null,null,null,"参加者数",{"$f":"COUNTA(C10:C14)","v":0}]
[]
["　壮年男子形",null,null,"令和6年4月1日現在の満年齢が35歳以上の者"]
[null,null,"氏名","生年月日","年齢","住　所","道場名","在勤地"]
["選手",null,null,null,{"$f":"IF(D19=\"\",\"\",DATEDIF(D19,Facesheet!$B$3,\"Y\"))","v":""}]
["選手",null,null,null,{"$f":"IF(D20=\"\",\"\",DATEDIF(D20,Facesheet!$B$3,\"Y\"))","v":""}]
["選手",null,null,null,{"$f":"IF(D21=\"\",\"\",DATEDIF(D21,Facesheet!$B$3,\"Y\"))","v":""}]
["選手",null,null,null,{"$f":"IF(D22=\"\",\"\",DATEDIF(D22,Facesheet!$B$3,\"Y\"))","v":""}]
["選手",null,null,null,{"$f":"IF(D23=\"\",\"\",DATEDIF(D23,Facesheet!$B$3,\"Y\"))","v":""}]
[null,null,null,"参加者数",{"$f":"COUNTA(C19:C23)","v":0}]
["（注）在勤地が当該郡市にある者は、在勤地欄に○印を記入のこと。"]

{"sheet":"42.空手道（女子）","index":48,"n_rows":41,"n_cols":10,"rows_kept":41,"cut":false,"hidden":false,"merged":[[25,0,25,2],[32,0,32,2],[3,0,3,8],[0,7,0,8],[7,3,7,5],[7,0,7,2],[15,0,15,2],[15,3,15,5]]}
[null,null,null,null,null,null,null,"申込書42"]
[{"$f":"\"第\"&Facesheet!$B$2&\"回福岡県民スポーツ大会\"","v":"第67回福岡県民スポーツ大会"}]
[]
["空手道競技"]
[]
["郡市名（",null,{"$f":"'0.役員名簿'!$B$7","v":0},")"]
[]
["　一般女子組手",null,null,{"$f":"G41","v":"2006-03-31"},null,null,"以前に出生した者"]
[null,null,"氏名","生年月日","年齢","学生","住　所","道場名","在勤地"]
["監督",null,null,null,{"$f":"IF(D10=\"\",\"\",DATEDIF(D10,Facesheet!$B$3,\"Y\"))","v":""},null,null,null,null,"○"]
["選手",null,null,null,{"$f":"IF(D11=\"\",\"\",DATEDIF(D11,Facesheet!$B$3,\"Y\"))","v":""}]
["選手",null,null,null,{"$f":"IF(D12=\"\",\"\",DATEDIF(D12,Facesheet!$B$3,\"Y\"))","v":""}]
["選手",null,null,null,{"$f":"IF(D13=\"\",\"\",DATEDIF(D13,Facesheet!$B$3,\"Y\"))","v":""}]
["選手",null,null,null,{"$f":"IF(D14=\"\",\"\",DATEDIF(D14,Facesheet!$B$3,\"Y\"))","v":""}]
[]
["　一般女子形",null,null,{"$f":"G41","v":"2006-03-31"},null,null,"以前に出生した者"]
[null,null,"氏名","生年月日","年齢","学生","住　所","道場名","在勤地"]
["選手",null,null,null,{"$f":"IF(D18=\"\",\"\",DATEDIF(D18,Facesheet!$B$3,\"Y\"))","v":""}]
["選手",null,null,null,{"$f":"IF(D19=\"\",\"\",DATEDIF(D19,Facesheet!$B$3,\"Y\"))","v":""}]
["選手",null,null,null,{"$f":"IF(D20=\"\",\"\",DATEDIF(D20,Facesheet!$B$3,\"Y\"))","v":""}]
["選手",null,null,null,{"$f":"IF(D21=\"\",\"\",DATEDIF(D21,Facesheet!$B$3,\"Y\"))","v":""}]
[]
["（注）学生・生徒に該当する選手は、学生欄に○印を記入のこと。"]
["（注）在勤地が当該郡市にある者は、在勤地欄に○印を記入のこと。"]
[]
["　壮年女子組手",null,null,"令和6年4月1日現在の満年齢が30歳以上の者"]
[null,null,"氏　名","生年月日","年齢","在勤地","住　所","道場名"]
["選手",null,null,null,{"$f":"IF(D28=\"\",\"\",DATEDIF(D28,Facesheet!$B$3,\"Y\"))","v":""}]
["選手",null,null,null,{"$f":"IF(D29=\"\",\"\",DATEDIF(D29,Facesheet!$B$3,\"Y\"))","v":""}]
["選手",null,null,null,{"$f":"IF(D30=\"\",\"\",DATEDIF(D30,Facesheet!$B$3,\"Y\"))","v":""}]
["選手",null,null,null,{"$f":"IF(D31=\"\",\"\",DATEDIF(D31,Facesheet!$B$3,\"Y\"))","v":""}]
[]
["　壮年女子形",null,null,"令和6年4月1日現在の満年齢が30歳以上の者"]
[null,null,"氏　名","生年月日","年齢","在勤地","住　所","道場名"]
["選手",null,null,null,{"$f":"IF(D35=\"\",\"\",DATEDIF(D35,Facesheet!$B$3,\"Y\"))","v":""}]
["選手",null,null,null,{"$f":"IF(D36=\"\",\"\",DATEDIF(D36,Facesheet!$B$3,\"Y\"))","v":""}]
["選手",null,null,null,{"$f":"IF(D37=\"\",\"\",DATEDIF(D37,Facesheet!$B$3,\"Y\"))","v":""}]
["選手",null,null,null,{"$f":"IF(D38=\"\",\"\",DATEDIF(D38,Facesheet!$B$3,\"Y\"))","v":""}]
[]
["（注）在勤地が当該郡市にある者は、在勤地欄に○印を記入のこと。"]
[null,null,null,null,null,null,"2006-03-31"]

{"sheet":"43.テニス","index":49,"n_rows":23,"n_cols":6,"rows_kept":23,"cut":false,"hidden":false,"merged":[[9,6,18,6],[10,0,10,1],[7,0,7,1],[9,0,9,1],[0,0,0,2],[3,0,3,5]]}
[null,null,null,null,null,"申込書43"]
[{"$f":"\"第\"&Facesheet!$B$2&\"回福岡県民スポーツ大会\"","v":"第67回福岡県民スポーツ大会"}]
[]
["テニス競技"]
[]
["郡市名","(",{"$f":"'0.役員名簿'!$B$7","v":0},")"]
[]
["一般",null,null,"登録は6名以上8名以内"]
[]
[null,null,"氏　　　　名","生年月日","年齢","住　　　　　　　　所"]
["監　督",null,null,null,{"$f":"IF(D11=\"\",\"\",DATEDIF(D11,Facesheet!$B$3,\"Y\"))","v":""}]
["男子","Ａ",null,null,{"$f":"IF(D12=\"\",\"\",DATEDIF(D12,Facesheet!$B$3,\"Y\"))","v":""}]
["男子","Ｂ",null,null,{"$f":"IF(D13=\"\",\"\",DATEDIF(D13,Facesheet!$B$3,\"Y\"))","v":""}]
["男子","C",null,null,{"$f":"IF(D14=\"\",\"\",DATEDIF(D14,Facesheet!$B$3,\"Y\"))","v":""}]
["男子","D",null,null,{"$f":"IF(D15=\"\",\"\",DATEDIF(D15,Facesheet!$B$3,\"Y\"))","v":""}]
["女子","Ａ",null,null,{"$f":"IF(D16=\"\",\"\",DATEDIF(D16,Facesheet!$B$3,\"Y\"))","v":""}]
["女子","Ｂ",null,null,{"$f":"IF(D17=\"\",\"\",DATEDIF(D17,Facesheet!$B$3,\"Y\"))","v":""}]
["女子","C",null,null,{"$f":"IF(D18=\"\",\"\",DATEDIF(D18,Facesheet!$B$3,\"Y\"))","v":""}]
["女子","D",null,null,{"$f":"IF(D19=\"\",\"\",DATEDIF(D19,Facesheet!$B$3,\"Y\"))","v":""}]
[]
[null,null,null,"参加者数",{"$f":"COUNTA(C11:C19)","v":0}]
[]
["　"]